From mboxrd@z Thu Jan 1 00:00:00 1970 Return-Path: Received: from mails.dpdk.org (mails.dpdk.org [217.70.189.124]) by inbox.dpdk.org (Postfix) with ESMTP id A94C046F76 for ; Fri, 26 Sep 2025 00:58:15 +0200 (CEST) Received: from mails.dpdk.org (localhost [127.0.0.1]) by mails.dpdk.org (Postfix) with ESMTP id 7E94A40273; Fri, 26 Sep 2025 00:58:15 +0200 (CEST) Received: from mail-io1-f99.google.com (mail-io1-f99.google.com [209.85.166.99]) by mails.dpdk.org (Postfix) with ESMTP id D1B7540273 for ; Fri, 26 Sep 2025 00:58:14 +0200 (CEST) Received: by mail-io1-f99.google.com with SMTP id ca18e2360f4ac-8ed2c10d61eso60104439f.1 for ; Thu, 25 Sep 2025 15:58:14 -0700 (PDT) DKIM-Signature: v=1; a=rsa-sha256; c=relaxed/relaxed; d=iol.unh.edu; s=unh-iol; t=1758841094; x=1759445894; darn=dpdk.org; h=references:in-reply-to:cc:to:from:subject:message-id:date:from:to :cc:subject:date:message-id:reply-to; bh=0c874cpdpxf7bVKF7U6JAz79ueZpJ+5BcaK1ZgF83+w=; b=Za3lTUHpW8yc5/jmLBHlwTme9jRGontZb2XHEAN9ioMfNn9Z8k/cgpSE0IrG2l9Ofk ckiSN6ZoSeZ/zFOXZPQ1n31EEvX99XLMumklVxF8loRNlrLaVgsAHq1Kif7A6W5Lr37P GEwf6e/YQBsemOWCMEUj67wd7ctS0nNMzyDIY= X-Google-DKIM-Signature: v=1; a=rsa-sha256; c=relaxed/relaxed; d=1e100.net; s=20230601; t=1758841094; x=1759445894; h=references:in-reply-to:cc:to:from:subject:message-id:date :x-gm-message-state:from:to:cc:subject:date:message-id:reply-to; bh=0c874cpdpxf7bVKF7U6JAz79ueZpJ+5BcaK1ZgF83+w=; b=WAHsvUx4TxYPky8gMGJ3MplzRjb6alkpqANgyNzIDuQLBKmzJYTPLNvpifBeoMMoI3 QA8DAtYD6hf67TXQSYMF9UhlcuJN4UiuEybeA1SNc2jGeULtBCrRa4rgWkz65ixvDFjP QLQ7lcmLl2i/KkW3f2lBX5Uo6a/ReQ7Ji7TnaJnJYn18H1V5GsxbDJycr2GiOm2ACJNs MzxatDg2PpSzS+1VijdDBz8yXJCKl9TmLgXKubjoLF4wLMYWrKSAPDs4NHfJ1KKnjkpm rrOb2JEebTwzIc4DbQu+OtlphX527zANpnPP5wKh+bAlaNjBycocg5D/conQJ98B9Q3V tqJQ== X-Gm-Message-State: AOJu0YzGrNH0OyyORJL4Dc+BsIdraG7y0EOhtU19+LSLg6e2nEsBg3+g xQbrCi8gkMYsj/KYF05I7T1pPThR64FVth/Zt5ERuN/SduYC/BU1tqEjYZHGeTLD/SI9egafO3W B/kGWIuZ8K2qhLVHb5q5uh544vVPyYXvFWqSIF+eoVf58 X-Gm-Gg: ASbGncshXHVOGc+FCPG75Po0ORfgynmL9fjxQWGUZ496sAxK/02D9/4eGqyK20JhE/L cCL3ZDNjkFt0GWpf1z4L5Ov8Cd/2zmPSEspMmrA7H/kpL+/Kvb8wRvMFkK+fBG1OXxhPczBWarG pCdyINF0VUc2yGRjw7fLKQtbdyFQoLTQ8ZCTguK/v3BrkvP9JwvTDcJ5oOzXkdgQd2U80+uy2ub gukGeYGkaJpbdFtnXhhXtg1iFg49ic7jWdKftL6gVvzqc1nsmo9P8ODAasy9a1JAoAG+Upzke9E rKGZichqM/0nkIomZ2Id4BuMF6adWAuOOrwQ06+qnvO1xc/Q0LBUmfkP94f8VtUQUSfBVPgP X-Google-Smtp-Source: AGHT+IF7OG7IjxAoTu5aRMyYg8lE0xrwDHWJNEWqm5ZZk4c76ylG2CHSihcx58ZSuhdsI8sWEkgvHxobPSYm X-Received: by 2002:a05:6e02:218f:b0:405:5e08:a3e4 with SMTP id e9e14a558f8ab-425955c5585mr73628745ab.1.1758841094005; Thu, 25 Sep 2025 15:58:14 -0700 (PDT) Received: from postal.iol.unh.edu (postal.iol.unh.edu. [132.177.123.84]) by smtp-relay.gmail.com with ESMTPS id e9e14a558f8ab-425bfd9231dsm1952525ab.30.2025.09.25.15.58.13 (version=TLS1_2 cipher=ECDHE-ECDSA-AES128-GCM-SHA256 bits=128/128); Thu, 25 Sep 2025 15:58:13 -0700 (PDT) X-Relaying-Domain: iol.unh.edu Date: Thu, 25 Sep 2025 15:58:13 -0700 (PDT) Message-ID: <68d5c905.050a0220.aec5d.bb83SMTPIN_ADDED_MISSING@mx.google.com> Received: from [172.21.0.2] (unknown [172.18.0.240]) by postal.iol.unh.edu (Postfix) with ESMTP id 854D36050A61; Thu, 25 Sep 2025 18:58:13 -0400 (EDT) Subject: |SUCCESS| pw156942-156943 [PATCH] [v2,2/2] net/idpf: enable AVX2 for From: dpdklab@iol.unh.edu To: Test Report Cc: dpdk-test-reports@iol.unh.edu, Bruce Richardson In-Reply-To: <20250925092020.1640175-3-shaiq.wani@intel.com> References: <20250925092020.1640175-3-shaiq.wani@intel.com> Content-Type: text/plain X-BeenThere: test-report@dpdk.org X-Mailman-Version: 2.1.29 Precedence: list List-Id: automatic DPDK test reports List-Unsubscribe: , List-Archive: List-Post: List-Help: List-Subscribe: , Errors-To: test-report-bounces@dpdk.org Test-Label: iol-unit-arm64-testing Test-Status: SUCCESS http://dpdk.org/patch/156943 _Testing PASS_ Submitter: Shaiq Wani Date: Thursday, September 25 2025 09:20:20 DPDK git baseline: Repo:dpdk-next-net-intel Branch: master CommitID:1807857fccc30dbf5a7d93c88bb7cd05d81a3d0d 156942-156943 --> testing pass Upstream job id: Generic-Unit-Test-DPDK#374911 Test environment and result as below: +------------------------------+--------------+----------------+------------------------------+---------------------------+ | Environment | lpm_autotest | dpdk_unit_test | cryptodev_sw_snow3g_autotest | cryptodev_sw_zuc_autotest | +==============================+==============+================+==============================+===========================+ | Ubuntu 20.04 | PASS | PASS | SKIPPED | SKIPPED | +------------------------------+--------------+----------------+------------------------------+---------------------------+ | CentOS Stream 9 | SKIPPED | PASS | SKIPPED | SKIPPED | +------------------------------+--------------+----------------+------------------------------+---------------------------+ | CentOS Stream 10 | SKIPPED | PASS | SKIPPED | SKIPPED | +------------------------------+--------------+----------------+------------------------------+---------------------------+ | Debian GNU/Linux 12 | SKIPPED | PASS | SKIPPED | SKIPPED | +------------------------------+--------------+----------------+------------------------------+---------------------------+ | Fedora Linux 40 | SKIPPED | PASS | SKIPPED | SKIPPED | +------------------------------+--------------+----------------+------------------------------+---------------------------+ | Ubuntu 22.04 | SKIPPED | PASS | SKIPPED | SKIPPED | +------------------------------+--------------+----------------+------------------------------+---------------------------+ | Fedora Linux 41 | SKIPPED | PASS | SKIPPED | SKIPPED | +------------------------------+--------------+----------------+------------------------------+---------------------------+ | Fedora Linux 42 | SKIPPED | PASS | SKIPPED | SKIPPED | +------------------------------+--------------+----------------+------------------------------+---------------------------+ | Red Hat Enterprise Linux 9.5 | SKIPPED | PASS | SKIPPED | SKIPPED | +------------------------------+--------------+----------------+------------------------------+---------------------------+ | Ubuntu 24.04 | SKIPPED | PASS | SKIPPED | SKIPPED | +------------------------------+--------------+----------------+------------------------------+---------------------------+ | Debian 12 (arm) | SKIPPED | SKIPPED | PASS | PASS | +------------------------------+--------------+----------------+------------------------------+---------------------------+ Ubuntu 20.04 Kernel: 5.4 Compiler: gcc gcc (Ubuntu 9.4.0-1ubuntu1~20.04.2) 9.4.0 CentOS Stream 9 Kernel: 5.4 Compiler: gcc gcc (GCC) 11.5.0 20240719 (Red Hat 11.5.0-11) CentOS Stream 10 Kernel: 5.4 Compiler: gcc gcc (GCC) 14.2.1 20250110 (Red Hat 14.2.1-8) Debian GNU/Linux 12 Kernel: 5.4 Compiler: gcc gcc (Debian 12.2.0-14+deb12u1) 12.2.0 Fedora Linux 40 Kernel: 5.4 Compiler: gcc gcc (GCC) 14.2.1 20240912 (Red Hat 14.2.1-3) Ubuntu 22.04 Kernel: 5.15 Compiler: gcc gcc (Ubuntu 11.4.0-1ubuntu1~22.04.2) 11.4.0 Fedora Linux 41 Kernel: 5.4 Compiler: gcc gcc (GCC) 14.3.1 20250523 (Red Hat 14.3.1-1) Fedora Linux 42 Kernel: 5.4 Compiler: gcc gcc (GCC) 15.2.1 20250808 (Red Hat 15.2.1-1) Red Hat Enterprise Linux 9.5 Kernel: 5.4 Compiler: gcc gcc (GCC) 11.5.0 20240719 (Red Hat 11.5.0-2) Ubuntu 24.04 Kernel: 5.4 Compiler: gcc gcc (Ubuntu 13.3.0-6ubuntu2~24.04) 13.3.0 Debian 12 (arm) Kernel: Depends on container host Compiler: gcc (Debian 12.2.0-14) 12.2.0 To view detailed results, visit: https://lab.dpdk.org/results/dashboard/patchsets/34146/ UNH-IOL DPDK Community Lab To manage your email subscriptions, visit: https://lab.dpdk.org/results/dashboard/preferences/subscriptions/