From mboxrd@z Thu Jan 1 00:00:00 1970 Return-Path: Received: from mails.dpdk.org (mails.dpdk.org [217.70.189.124]) by inbox.dpdk.org (Postfix) with ESMTP id 1C52246F76 for ; Fri, 26 Sep 2025 02:24:48 +0200 (CEST) Received: from mails.dpdk.org (localhost [127.0.0.1]) by mails.dpdk.org (Postfix) with ESMTP id F3F3E40273; Fri, 26 Sep 2025 02:24:47 +0200 (CEST) Received: from mail-pg1-f228.google.com (mail-pg1-f228.google.com [209.85.215.228]) by mails.dpdk.org (Postfix) with ESMTP id 2762D40273 for ; Fri, 26 Sep 2025 02:24:47 +0200 (CEST) Received: by mail-pg1-f228.google.com with SMTP id 41be03b00d2f7-b4755f37c3eso1458062a12.3 for ; Thu, 25 Sep 2025 17:24:47 -0700 (PDT) DKIM-Signature: v=1; a=rsa-sha256; c=relaxed/relaxed; d=iol.unh.edu; s=unh-iol; t=1758846286; x=1759451086; darn=dpdk.org; h=cc:to:from:subject:message-id:date:from:to:cc:subject:date :message-id:reply-to; bh=2S/PsGw4Kw9McteV2juF9M6+0/7Qp+StKpRfFBNK0l8=; b=c+lhmB24KvKZkSHvYziSWL5i3ZBGSIGxhIUa7TUl8E7D4McdEvRz/zUjV7XRfJGQGC w+2OL76dMV4QJhtjDK9K86WrunmQ6KrRY+oGJ+/wnrrnPOhslFkxgAIWYtN+2fA8UYrH U3HYCMD4gOBgBpAmWsxJxk6fyPjyu8eJu5xmM= X-Google-DKIM-Signature: v=1; a=rsa-sha256; c=relaxed/relaxed; d=1e100.net; s=20230601; t=1758846286; x=1759451086; h=cc:to:from:subject:message-id:date:x-gm-message-state:from:to:cc :subject:date:message-id:reply-to; bh=2S/PsGw4Kw9McteV2juF9M6+0/7Qp+StKpRfFBNK0l8=; b=BT4PFWrPG8XwT6UEFVBVHiGwKINLpOCyKywUOWMuJaJFmVgBHNcB+A2zE3DrMRqRZ/ yR4SLcCBg0d2UStl830JZsDzPEv5VKdoqMaSwZk6W3UMDemDs+U10Tt5EOnb9Tsfm9JG yFQnugw3cR28lyBqSGAj2AuJmmNiV9p+xg4UTXX0FjZPKr1tN1VYI6n/RU1+Rtv9S56m SsGRvpgi4A16Uz4fLV+wpqMXI67iOfp4F5I6X4O6urUlON41g0A/8pMq2TN3ktG8r41f enT5ms706mlf41AZD1buv7BWR/W6RKxjZvP+7U2tsfydumXO+YIDjW4w3QMRHXeZy3IS IJzA== X-Gm-Message-State: AOJu0YzcsnXbdVeX+Cxo5YnG/Jff4DQXEVLSgdZiUYep4izv0jZ9tGBY liS/7vbeCiQNZUEKv9adJfx75A0Ayrp+VnVBk+WdyzVZKlOEbj7s0y1IMR4XuVcMuAMM1fYpNoc JuykesruaNiiCnhpxZXbkc7uE2eEpCUv4yjpzSATiKVQxcTq9B34bFEMu7OrL X-Gm-Gg: ASbGncthk/GcUPF6GnxxtnvyE14fDLcg6wqf9e5cJZz/C2sXxlQUAtBsCcLg/HTqmrx 6QJpeTqEMtGiJh3KMVPE+PfddHf+NcEYOe4IsXpN8Zvsk8z+grHuMBsaXPHjMlEOViYrjZqLtGI z5/dzlnHegmXkR1vTDEMjlM9kRNR+zwkFul88qNvfbbX674E7m9MbTKHWnFO5Ez3fDxXaKRsthW hoUZ1F1luv/qWyLYrmZp/q4GxLUnB64ki5fNvuPsktfl8NgytyJvhthK1rmJws2TATpzO38AFki dHs1HI1baDK/GUT7V98cZl10XsHVoWCLsi2A5BZuxnZ4RGFTjA== X-Google-Smtp-Source: AGHT+IEyXsegYSx5TIzLdA2Ir1lahJUyQuQvN4ahKOOUIaGJSAZaoIljcck4oVw5A+jGDr+6QLKg3RB3nMxS X-Received: by 2002:a17:902:f70b:b0:27e:ec72:f50 with SMTP id d9443c01a7336-27eec72113fmr10844445ad.51.1758846286196; Thu, 25 Sep 2025 17:24:46 -0700 (PDT) Received: from postal.iol.unh.edu (postal.iol.unh.edu. [2606:4100:3880:1234::84]) by smtp-relay.gmail.com with ESMTPS id d9443c01a7336-27ed66dc6fcsm2569155ad.16.2025.09.25.17.24.46 (version=TLS1_2 cipher=ECDHE-ECDSA-AES128-GCM-SHA256 bits=128/128); Thu, 25 Sep 2025 17:24:46 -0700 (PDT) X-Relaying-Domain: iol.unh.edu Date: Thu, 25 Sep 2025 17:24:46 -0700 (PDT) Message-ID: <68d5dd4e.170a0220.5fffb.f2ecSMTPIN_ADDED_MISSING@mx.google.com> Received: from [172.21.0.4] (unknown [172.18.0.240]) by postal.iol.unh.edu (Postfix) with ESMTP id 5D4A46051830; Thu, 25 Sep 2025 20:24:45 -0400 (EDT) Subject: |SUCCESS| [GIT MASTER] 1807857fccc30dbf5a7d93c88bb7cd05d81a3d0d From: dpdklab@iol.unh.edu To: Test Report Cc: dpdk-test-reports@iol.unh.edu, Bruce Richardson Content-Type: text/plain X-BeenThere: test-report@dpdk.org X-Mailman-Version: 2.1.29 Precedence: list List-Id: automatic DPDK test reports List-Unsubscribe: , List-Archive: List-Post: List-Help: List-Subscribe: , Errors-To: test-report-bounces@dpdk.org _Testing PASS_ Branch: dpdk-next-net-intel 1807857fccc30dbf5a7d93c88bb7cd05d81a3d0d --> testing pass Upstream job id: Generic-Unit-Test-DPDK#374950 Test environment and result as below: +------------------------------+---------------------------+--------------+----------------+------------------------------+ | Environment | cryptodev_sw_zuc_autotest | lpm_autotest | dpdk_unit_test | cryptodev_sw_snow3g_autotest | +==============================+===========================+==============+================+==============================+ | Debian 12 (arm) | PASS | SKIPPED | SKIPPED | PASS | +------------------------------+---------------------------+--------------+----------------+------------------------------+ | Ubuntu 20.04 | SKIPPED | PASS | PASS | SKIPPED | +------------------------------+---------------------------+--------------+----------------+------------------------------+ | CentOS Stream 9 | SKIPPED | SKIPPED | PASS | SKIPPED | +------------------------------+---------------------------+--------------+----------------+------------------------------+ | CentOS Stream 10 | SKIPPED | SKIPPED | PASS | SKIPPED | +------------------------------+---------------------------+--------------+----------------+------------------------------+ | Fedora Linux 40 | SKIPPED | SKIPPED | PASS | SKIPPED | +------------------------------+---------------------------+--------------+----------------+------------------------------+ | Debian GNU/Linux 12 | SKIPPED | SKIPPED | PASS | SKIPPED | +------------------------------+---------------------------+--------------+----------------+------------------------------+ | Ubuntu 22.04 | SKIPPED | SKIPPED | PASS | SKIPPED | +------------------------------+---------------------------+--------------+----------------+------------------------------+ | Fedora Linux 41 | SKIPPED | SKIPPED | PASS | SKIPPED | +------------------------------+---------------------------+--------------+----------------+------------------------------+ | Fedora Linux 42 | SKIPPED | SKIPPED | PASS | SKIPPED | +------------------------------+---------------------------+--------------+----------------+------------------------------+ | Red Hat Enterprise Linux 9.5 | SKIPPED | SKIPPED | PASS | SKIPPED | +------------------------------+---------------------------+--------------+----------------+------------------------------+ | Ubuntu 24.04 | SKIPPED | SKIPPED | PASS | SKIPPED | +------------------------------+---------------------------+--------------+----------------+------------------------------+ Debian 12 (arm) Kernel: Depends on container host Compiler: gcc (Debian 12.2.0-14) 12.2.0 Ubuntu 20.04 Kernel: 5.4 Compiler: gcc gcc (Ubuntu 9.4.0-1ubuntu1~20.04.2) 9.4.0 CentOS Stream 9 Kernel: 5.4 Compiler: gcc gcc (GCC) 11.5.0 20240719 (Red Hat 11.5.0-11) CentOS Stream 10 Kernel: 5.4 Compiler: gcc gcc (GCC) 14.2.1 20250110 (Red Hat 14.2.1-8) Fedora Linux 40 Kernel: 5.4 Compiler: clang gcc (GCC) 14.2.1 20240912 (Red Hat 14.2.1-3) Debian GNU/Linux 12 Kernel: 5.4 Compiler: gcc gcc (Debian 12.2.0-14+deb12u1) 12.2.0 Ubuntu 22.04 Kernel: 5.15 Compiler: gcc gcc (Ubuntu 11.4.0-1ubuntu1~22.04.2) 11.4.0 Fedora Linux 41 Kernel: 5.4 Compiler: gcc gcc (GCC) 14.3.1 20250523 (Red Hat 14.3.1-1) Fedora Linux 42 Kernel: 5.4 Compiler: clang gcc (GCC) 15.2.1 20250808 (Red Hat 15.2.1-1) Red Hat Enterprise Linux 9.5 Kernel: 5.4 Compiler: gcc gcc (GCC) 11.5.0 20240719 (Red Hat 11.5.0-2) Ubuntu 24.04 Kernel: 5.4 Compiler: gcc gcc (Ubuntu 13.3.0-6ubuntu2~24.04) 13.3.0 To view detailed results, visit: https://lab.dpdk.org/results/dashboard/tarballs/35000/ UNH-IOL DPDK Community Lab To manage your email subscriptions, visit: https://lab.dpdk.org/results/dashboard/preferences/subscriptions/