From mboxrd@z Thu Jan 1 00:00:00 1970 Return-Path: Received: from mails.dpdk.org (mails.dpdk.org [217.70.189.124]) by inbox.dpdk.org (Postfix) with ESMTP id 3CAD046F76 for ; Fri, 26 Sep 2025 02:50:16 +0200 (CEST) Received: from mails.dpdk.org (localhost [127.0.0.1]) by mails.dpdk.org (Postfix) with ESMTP id 1EACE40273; Fri, 26 Sep 2025 02:50:16 +0200 (CEST) Received: from mail-pl1-f227.google.com (mail-pl1-f227.google.com [209.85.214.227]) by mails.dpdk.org (Postfix) with ESMTP id 5D51640273 for ; Fri, 26 Sep 2025 02:50:14 +0200 (CEST) Received: by mail-pl1-f227.google.com with SMTP id d9443c01a7336-27d3540a43fso17635865ad.3 for ; Thu, 25 Sep 2025 17:50:14 -0700 (PDT) DKIM-Signature: v=1; a=rsa-sha256; c=relaxed/relaxed; d=iol.unh.edu; s=unh-iol; t=1758847813; x=1759452613; darn=dpdk.org; h=cc:to:from:subject:message-id:date:from:to:cc:subject:date :message-id:reply-to; bh=RhpMIzXbAswFrjMLDRM4lGbwc61IN4aTXoNlMvLEcFw=; b=beO6gQxhdNbhtGNfmrPsvl+btxiS2WX9sHrsH+xCey1zkx+WfuTwuyblNQBpnDEFMW JRvzpYlT4OBjvJwtjbP+8hukf7yI/5yiUOECHZYdxfPMgpOMlo1iBwJYJ6lg8+qmwOjQ EdcHn+QeRgsd/OlqFcWkWPuEGX12lqWK0VVtg= X-Google-DKIM-Signature: v=1; a=rsa-sha256; c=relaxed/relaxed; d=1e100.net; s=20230601; t=1758847813; x=1759452613; h=cc:to:from:subject:message-id:date:x-gm-message-state:from:to:cc :subject:date:message-id:reply-to; bh=RhpMIzXbAswFrjMLDRM4lGbwc61IN4aTXoNlMvLEcFw=; b=Zv6uhGxdmrIaAJQh6YTIdVEKWneK7sz4yaHMlWNVTXBpwp9aw0CIlcO+1oE8U+3fyM IvrgrcAlLBOJiEInzKcTw6mvdmVeBbMc50RHMflHgyTdJvttBz9NlLCTaYogssssmXkb ehWaEc2Pz1mHK3NMXOJ5oXn3pvwGeP0ZcGNL3xVlv5nE25Oyoa9skFwOmtYyG63zo5jT Ns9z0S8EMiITwqoEYTLRW73bdUeXdBVsH/VQVGIvoedSDMCn/i93mfdRXTduQNo7j0cG tu73oNMXY73Ziz1bQgAs0z6khXLoagd06a800LPOsmtQRU9oUsef+h0XbYq7X9PrTsZB jRbw== X-Gm-Message-State: AOJu0Yz97Nyono3K/czC3Qb35OdfD7yXKSQnrX3hLE4BTs45e/PFqqYZ Qpl3b7tqDzvVEeOuLEW0GMdZ6IrCe+IfLcc2pTaQvWCINVUab64yR5XvnVTDn2CIOE8O10n5ghi J1ohevczpmE/wmgb01kV/8vBLkUC5gtYVBzWwomWbqrj+ X-Gm-Gg: ASbGncs2yApcJ2rqpJ3vsYhw1oRCN8x6YtxP0MKKjoltsM5WrjjskK7IYgCCdc7vdGO okPKJGzlF4cNlzewC2L8cWhGRVlQDl1tBeTxVLAlkh1kyfkvL8w3LQPoSgxUZqUDFsUhEcCYHU5 azM8how64/g12iWmydsgYCiTRx//Nf1ugSjCp0h4B5SO0X8PAE+YaoX46FXASAe8cPS5f/iicX/ T06SbtHmdc0sou3eiwRebC6oCh032e9ftte/h1FcPFu0Mn5GdlWsI2fYCAkJF33JMuLuOzUfhZ+ WRr2p/0JQQehXcPu8Tt0FKNRuDbHe95jH9Wo0bZjD7vi/ArvG+J40WDczWhfE3WRmf5JlAo+ X-Google-Smtp-Source: AGHT+IEiYafo+vOVlIUm/bPZrA1/F3k9TEVtDkB7Hvra9edxd8ps+YDlu4FMVSD4CMPuOlRUbsDX0YuIplaI X-Received: by 2002:a17:902:f785:b0:27d:c542:fe25 with SMTP id d9443c01a7336-27ed4a92191mr54407645ad.41.1758847813437; Thu, 25 Sep 2025 17:50:13 -0700 (PDT) Received: from postal.iol.unh.edu (postal.iol.unh.edu. [132.177.123.84]) by smtp-relay.gmail.com with ESMTPS id d9443c01a7336-27ed66bb8b8sm2617865ad.14.2025.09.25.17.50.13 (version=TLS1_2 cipher=ECDHE-ECDSA-AES128-GCM-SHA256 bits=128/128); Thu, 25 Sep 2025 17:50:13 -0700 (PDT) X-Relaying-Domain: iol.unh.edu Date: Thu, 25 Sep 2025 17:50:13 -0700 (PDT) Message-ID: <68d5e345.170a0220.15f201.fcdcSMTPIN_ADDED_MISSING@mx.google.com> Received: from [172.21.0.2] (unknown [172.18.0.240]) by postal.iol.unh.edu (Postfix) with ESMTP id A531660003F7; Thu, 25 Sep 2025 20:50:12 -0400 (EDT) Subject: |SUCCESS| [GIT MASTER] 441861b4a30e6b6b6aca07367dd487657b1f50e8 From: dpdklab@iol.unh.edu To: Test Report Cc: dpdk-test-reports@iol.unh.edu Content-Type: text/plain X-BeenThere: test-report@dpdk.org X-Mailman-Version: 2.1.29 Precedence: list List-Id: automatic DPDK test reports List-Unsubscribe: , List-Archive: List-Post: List-Help: List-Subscribe: , Errors-To: test-report-bounces@dpdk.org _Testing PASS_ Branch: dpdk 441861b4a30e6b6b6aca07367dd487657b1f50e8 --> testing pass Upstream job id: Generic-VM-Unit-Test-DPDK#31385 Test environment and result as below: +-------------------------------+----------------+ | Environment | dpdk_unit_test | +===============================+================+ | Arch Linux 20250613.0.365270 | PASS | +-------------------------------+----------------+ | CentOS Stream 9 | PASS | +-------------------------------+----------------+ | Debian GNU/Linux 12 | PASS | +-------------------------------+----------------+ | CentOS Stream 10 | PASS | +-------------------------------+----------------+ | Fedora Linux 40 | PASS | +-------------------------------+----------------+ | Fedora Linux 41 | PASS | +-------------------------------+----------------+ | Red Hat Enterprise Linux 8.10 | PASS | +-------------------------------+----------------+ | Fedora Linux 42 | PASS | +-------------------------------+----------------+ | Red Hat Enterprise Linux 9.5 | PASS | +-------------------------------+----------------+ | Ubuntu 20.04 | PASS | +-------------------------------+----------------+ | Ubuntu 22.04 | PASS | +-------------------------------+----------------+ | Ubuntu 24.04 | PASS | +-------------------------------+----------------+ | Windows Server 2022 | PASS | +-------------------------------+----------------+ Arch Linux 20250613.0.365270 Kernel: 5.15 Compiler: gcc gcc (GCC) 15.1.1 20250425 CentOS Stream 9 Kernel: 5.15 Compiler: gcc gcc (GCC) 11.5.0 20240719 (Red Hat 11.5.0-11) Debian GNU/Linux 12 Kernel: 5.15 Compiler: gcc gcc (Debian 12.2.0-14+deb12u1) 12.2.0 CentOS Stream 10 Kernel: 5.15 Compiler: gcc gcc (GCC) 14.2.1 20250110 (Red Hat 14.2.1-8) Fedora Linux 40 Kernel: 5.15 Compiler: gcc gcc (GCC) 14.2.1 20240912 (Red Hat 14.2.1-3) Fedora Linux 41 Kernel: 5.15 Compiler: gcc gcc (GCC) 14.3.1 20250523 (Red Hat 14.3.1-1) Red Hat Enterprise Linux 8.10 Kernel: 5.15 Compiler: gcc gcc (GCC) 8.5.0 20210514 (Red Hat 8.5.0-22) Fedora Linux 42 Kernel: 5.15 Compiler: clang gcc (GCC) 15.2.1 20250808 (Red Hat 15.2.1-1) Red Hat Enterprise Linux 9.5 Kernel: 5.15 Compiler: gcc gcc (GCC) 11.5.0 20240719 (Red Hat 11.5.0-2) Ubuntu 20.04 Kernel: 5.15 Compiler: gcc gcc (Ubuntu 9.4.0-1ubuntu1~20.04.2) 9.4.0 Ubuntu 22.04 Kernel: 5.15 Compiler: gcc gcc (Ubuntu 11.4.0-1ubuntu1~22.04) 11.4.0 Ubuntu 24.04 Kernel: 5.15 Compiler: gcc gcc (Ubuntu 13.3.0-6ubuntu2~24.04) 13.3.0 Windows Server 2022 Kernel: 10.0.20348.2031 Compiler: clang 15.0.7, gcc 14.1.0 (MinGW), and MSVC VS 19.39.33521 To view detailed results, visit: https://lab.dpdk.org/results/dashboard/tarballs/35005/ UNH-IOL DPDK Community Lab To manage your email subscriptions, visit: https://lab.dpdk.org/results/dashboard/preferences/subscriptions/