From mboxrd@z Thu Jan 1 00:00:00 1970 Return-Path: Received: from mails.dpdk.org (mails.dpdk.org [217.70.189.124]) by inbox.dpdk.org (Postfix) with ESMTP id 306A446F76 for ; Fri, 26 Sep 2025 02:50:23 +0200 (CEST) Received: from mails.dpdk.org (localhost [127.0.0.1]) by mails.dpdk.org (Postfix) with ESMTP id 2CCAA40273; Fri, 26 Sep 2025 02:50:23 +0200 (CEST) Received: from mail-oa1-f98.google.com (mail-oa1-f98.google.com [209.85.160.98]) by mails.dpdk.org (Postfix) with ESMTP id 7BDC540273 for ; Fri, 26 Sep 2025 02:50:21 +0200 (CEST) Received: by mail-oa1-f98.google.com with SMTP id 586e51a60fabf-35b7f8e07d5so1256177fac.0 for ; Thu, 25 Sep 2025 17:50:21 -0700 (PDT) DKIM-Signature: v=1; a=rsa-sha256; c=relaxed/relaxed; d=iol.unh.edu; s=unh-iol; t=1758847821; x=1759452621; darn=dpdk.org; h=cc:to:from:subject:message-id:date:from:to:cc:subject:date :message-id:reply-to; bh=LkUjRNImggrtthn7wBcI0yIhuvGFI1uEKj/RIWkoJus=; b=K+5ORv6Oh2xdyr1mY9UKpOSFgfKgCzV4OIF3u8YLBmogGxUCRG9Vppp5tl6yeCBG4E e8ceKqD0il5mphnCxVZfb6uAjBhszSAzWkRTpodXMX2Fj2f6jmaI9mnH5nS+sksh3td7 QxAPGyxPkdy09b0pYvVNDoIY2lcipUIVv0dXs= X-Google-DKIM-Signature: v=1; a=rsa-sha256; c=relaxed/relaxed; d=1e100.net; s=20230601; t=1758847821; x=1759452621; h=cc:to:from:subject:message-id:date:x-gm-message-state:from:to:cc :subject:date:message-id:reply-to; bh=LkUjRNImggrtthn7wBcI0yIhuvGFI1uEKj/RIWkoJus=; b=Kqu/TPmY3jCTZTg0kC9QRHakiEwcSlnYoyF9H1pZ9e4POcVvfemtYlyTZnC8kDiG5d hF9XFurYt1kueNMI/1TdacbHmnATjDIoVwHxZuklcGmz/+B6KloI3Mf0uz4tqXLNXYS2 PdKjcAl2/ktKt9LCadZQRF2CoWKyjYsYpWUUzHXWb6vIxHoItOOX98/hsEcwYB0TMgaL YDHz0lFguHTlXhMEQJtb984WU+GRFGKiJmTKI3FLZdWDRjc6G6Z9ECy0EuYMUvEPty0O wAhJsuBsaqNVSSArhzYxpSgEye3FiZQv4skN4tBuS+ihPl3oeLoi6fdtwJ1z3qv3ftZb BLpw== X-Gm-Message-State: AOJu0YxAGa0U7CRhqouevaQMnMkV5VceXb8qF1uaxLby+Bmp/4IinVA9 KhwZ0ioMr58C2zrx7AXoRGc9UGYKg3mb8Ybkk40hhH3QMvGzC/fYZzpdpcwmPO0pNwwcUHu5/Yf IxNVC6IxCKO61jGoKu1yUFZeLlv6PazvupJ9CSlHwq96mx+tOfnFk30OWHTQT X-Gm-Gg: ASbGncuCZyWYnoE4v7YCgIMrBG4f56vGP8HJaJFy7RNJA6DrU0O7RQtzZUfrk8wVTb4 0ZYPOwVzTvahRds5PHXZ4SJjEsgK3e0Ya47TWse0QmQmlr0uen0Vz7En92A5yFoOrvVzCKBS3L8 /T4V6yPtyGML5YUCZdg23cG2zeCjKhv3tteRRF56w11LStvpvGany+MTNqE0RDC8DOSjbBtygfG O72eaOBD3O5YZvfTozlwZLXGoYl/Trlo19WDASUtdVbreSIsa0sGHezxnp0auli/klIgPnvouIE INzGR6EmUVLY7bXNeBc53JZtJgs87/E0iobiGcETR9rfOVGFHw== X-Google-Smtp-Source: AGHT+IG37QRZ7uo8bALo/gwmg1Go65P1sWTmA+v/bRKlYH3xAwKUMsvC6ZsVGT0fGyVV/8O9TPn+M1jLInwa X-Received: by 2002:a05:6871:7812:b0:332:3a47:9a05 with SMTP id 586e51a60fabf-35ee91f4d7amr3287545fac.26.1758847820666; Thu, 25 Sep 2025 17:50:20 -0700 (PDT) Received: from postal.iol.unh.edu (postal.iol.unh.edu. [2606:4100:3880:1234::84]) by smtp-relay.gmail.com with ESMTPS id 586e51a60fabf-363b49ab6b8sm258646fac.18.2025.09.25.17.50.20 (version=TLS1_2 cipher=ECDHE-ECDSA-AES128-GCM-SHA256 bits=128/128); Thu, 25 Sep 2025 17:50:20 -0700 (PDT) X-Relaying-Domain: iol.unh.edu Date: Thu, 25 Sep 2025 17:50:20 -0700 (PDT) Message-ID: <68d5e34c.050a0220.68de1.f916SMTPIN_ADDED_MISSING@mx.google.com> Received: from [172.21.0.2] (unknown [172.18.0.240]) by postal.iol.unh.edu (Postfix) with ESMTP id CDA286051830; Thu, 25 Sep 2025 20:50:19 -0400 (EDT) Subject: |SUCCESS| [GIT MASTER] 441861b4a30e6b6b6aca07367dd487657b1f50e8 From: dpdklab@iol.unh.edu To: Test Report Cc: dpdk-test-reports@iol.unh.edu Content-Type: text/plain X-BeenThere: test-report@dpdk.org X-Mailman-Version: 2.1.29 Precedence: list List-Id: automatic DPDK test reports List-Unsubscribe: , List-Archive: List-Post: List-Help: List-Subscribe: , Errors-To: test-report-bounces@dpdk.org _Testing PASS_ Branch: dpdk 441861b4a30e6b6b6aca07367dd487657b1f50e8 --> testing pass Upstream job id: Generic-Unit-Test-DPDK#375098 Test environment and result as below: +-------------------------------+----------------+ | Environment | dpdk_unit_test | +===============================+================+ | Arch Linux 20250613.0.365270 | PASS | +-------------------------------+----------------+ | CentOS Stream 9 | PASS | +-------------------------------+----------------+ | Debian GNU/Linux 12 | PASS | +-------------------------------+----------------+ | CentOS Stream 10 | PASS | +-------------------------------+----------------+ | Fedora Linux 40 | PASS | +-------------------------------+----------------+ | Fedora Linux 41 | PASS | +-------------------------------+----------------+ | Red Hat Enterprise Linux 8.10 | PASS | +-------------------------------+----------------+ | Fedora Linux 42 | PASS | +-------------------------------+----------------+ | Red Hat Enterprise Linux 9.5 | PASS | +-------------------------------+----------------+ | Ubuntu 20.04 | PASS | +-------------------------------+----------------+ | Ubuntu 22.04 | PASS | +-------------------------------+----------------+ | Ubuntu 24.04 | PASS | +-------------------------------+----------------+ | Windows Server 2022 | PASS | +-------------------------------+----------------+ Arch Linux 20250613.0.365270 Kernel: 5.15 Compiler: gcc gcc (GCC) 15.1.1 20250425 CentOS Stream 9 Kernel: 5.15 Compiler: gcc gcc (GCC) 11.5.0 20240719 (Red Hat 11.5.0-11) Debian GNU/Linux 12 Kernel: 5.15 Compiler: gcc gcc (Debian 12.2.0-14+deb12u1) 12.2.0 CentOS Stream 10 Kernel: 5.15 Compiler: gcc gcc (GCC) 14.2.1 20250110 (Red Hat 14.2.1-8) Fedora Linux 40 Kernel: 5.15 Compiler: gcc gcc (GCC) 14.2.1 20240912 (Red Hat 14.2.1-3) Fedora Linux 41 Kernel: 5.15 Compiler: gcc gcc (GCC) 14.3.1 20250523 (Red Hat 14.3.1-1) Red Hat Enterprise Linux 8.10 Kernel: 5.15 Compiler: gcc gcc (GCC) 8.5.0 20210514 (Red Hat 8.5.0-22) Fedora Linux 42 Kernel: 5.15 Compiler: clang gcc (GCC) 15.2.1 20250808 (Red Hat 15.2.1-1) Red Hat Enterprise Linux 9.5 Kernel: 5.15 Compiler: gcc gcc (GCC) 11.5.0 20240719 (Red Hat 11.5.0-2) Ubuntu 20.04 Kernel: 5.15 Compiler: gcc gcc (Ubuntu 9.4.0-1ubuntu1~20.04.2) 9.4.0 Ubuntu 22.04 Kernel: 5.15 Compiler: gcc gcc (Ubuntu 11.4.0-1ubuntu1~22.04) 11.4.0 Ubuntu 24.04 Kernel: 5.15 Compiler: gcc gcc (Ubuntu 13.3.0-6ubuntu2~24.04) 13.3.0 Windows Server 2022 Kernel: 10.0.20348.2031 Compiler: clang 15.0.7, gcc 14.1.0 (MinGW), and MSVC VS 19.39.33521 To view detailed results, visit: https://lab.dpdk.org/results/dashboard/tarballs/35005/ UNH-IOL DPDK Community Lab To manage your email subscriptions, visit: https://lab.dpdk.org/results/dashboard/preferences/subscriptions/