automatic DPDK test reports
 help / color / mirror / Atom feed
* |SUCCESS| pw156954 [PATCH v1] support multiple PF process flow table
       [not found] <20250926010442.126854-1-zhang.tianhao2@zte.com.cn>
@ 2025-09-26  0:44 ` qemudev
  2025-09-26  0:49 ` qemudev
                   ` (17 subsequent siblings)
  18 siblings, 0 replies; 19+ messages in thread
From: qemudev @ 2025-09-26  0:44 UTC (permalink / raw)
  To: test-report

Test-Label: loongarch-compilation
Test-Status: SUCCESS
http://dpdk.org/patch/156954

_Compilation OK_

Submitter: Tianhao Zhang <zhang.tianhao2@zte.com.cn>
Date: Fri, 26 Sep 2025 09:04:42 +0800
DPDK git baseline: Repo:dpdk-next-net
  Branch: main
  CommitID: 262824827107126b1c53943bce835f1dbbfd1150

156954 --> meson & ninja build successfully

Test environment and result as below:

+---------------------+----------------+
|     Environment     | compilation    |
+---------------------+----------------+
| Loongnix-Server 8.3 | PASS           |
+---------------------+----------------+

Loongnix-Server 8.3
    Kernel: 4.19.190+
    Compiler: gcc 8.3


^ permalink raw reply	[flat|nested] 19+ messages in thread

* |SUCCESS| pw156954 [PATCH v1] support multiple PF process flow table
       [not found] <20250926010442.126854-1-zhang.tianhao2@zte.com.cn>
  2025-09-26  0:44 ` |SUCCESS| pw156954 [PATCH v1] support multiple PF process flow table qemudev
@ 2025-09-26  0:49 ` qemudev
  2025-09-26  1:16 ` |WARNING| " checkpatch
                   ` (16 subsequent siblings)
  18 siblings, 0 replies; 19+ messages in thread
From: qemudev @ 2025-09-26  0:49 UTC (permalink / raw)
  To: test-report

Test-Label: loongarch-unit-testing
Test-Status: SUCCESS
http://dpdk.org/patch/156954

_Unit Testing PASS_

Submitter: Tianhao Zhang <zhang.tianhao2@zte.com.cn>
Date: Fri, 26 Sep 2025 09:04:42 +0800
DPDK git baseline: Repo:dpdk-next-net
  Branch: main
  CommitID: 262824827107126b1c53943bce835f1dbbfd1150

156954 --> testing pass

Test environment and result as below:

+---------------------+----------------+
|     Environment     | dpdk_unit_test |
+---------------------+----------------+
| Loongnix-Server 8.3 | PASS           |
+---------------------+----------------+

Loongnix-Server 8.3
    Kernel: 4.19.190+
    Compiler: gcc 8.3


Test result details:
  1/120 DPDK:fast-tests / acl_autotest                            OK              3.20s
  2/120 DPDK:fast-tests / alarm_autotest                          OK              1.42s
  3/120 DPDK:fast-tests / argparse_autotest                       OK              0.42s
  4/120 DPDK:fast-tests / atomic_autotest                         OK              6.93s
  5/120 DPDK:fast-tests / bitcount_autotest                       OK              0.20s
  6/120 DPDK:fast-tests / bitmap_autotest                         OK              0.27s
  7/120 DPDK:fast-tests / bitops_autotest                         OK              1.70s
  8/120 DPDK:fast-tests / bitratestats_autotest                   OK              0.20s
  9/120 DPDK:fast-tests / bitset_autotest                         OK              2.92s
 10/120 DPDK:fast-tests / bpf_autotest                            OK              0.20s
 11/120 DPDK:fast-tests / bpf_convert_autotest                    OK              0.21s
 12/120 DPDK:fast-tests / byteorder_autotest                      OK              0.20s
 13/120 DPDK:fast-tests / cfgfile_autotest                        OK              0.20s
 14/120 DPDK:fast-tests / cksum_autotest                          OK              0.20s
 15/120 DPDK:fast-tests / cmdline_autotest                        OK              0.20s
 16/120 DPDK:fast-tests / common_autotest                         OK              1.09s
 17/120 DPDK:fast-tests / compressdev_autotest                    SKIP            0.06s   exit status 77
 18/120 DPDK:fast-tests / cpuflags_autotest                       OK              0.20s
 19/120 DPDK:fast-tests / crc_autotest                            OK              0.20s
 20/120 DPDK:fast-tests / user_delay_us                           OK              0.20s
 21/120 DPDK:fast-tests / debug_autotest                          OK             22.12s
 22/120 DPDK:fast-tests / devargs_autotest                        OK              0.21s
 23/120 DPDK:fast-tests / dispatcher_autotest                     OK              2.55s
 24/120 DPDK:fast-tests / distributor_autotest                    OK              1.20s
 25/120 DPDK:fast-tests / eal_flags_c_opt_autotest                OK              1.12s
 26/120 DPDK:fast-tests / eal_flags_main_opt_autotest             OK              0.22s
 27/120 DPDK:fast-tests / eal_flags_n_opt_autotest                OK              0.21s
 28/120 DPDK:fast-tests / eal_flags_hpet_autotest                 OK              0.13s
 29/120 DPDK:fast-tests / eal_flags_no_huge_autotest              OK              0.23s
 30/120 DPDK:fast-tests / eal_flags_a_opt_autotest                OK              0.32s
 31/120 DPDK:fast-tests / eal_flags_b_opt_autotest                OK              0.26s
 32/120 DPDK:fast-tests / eal_flags_vdev_opt_autotest             OK              0.20s
 33/120 DPDK:fast-tests / eal_flags_r_opt_autotest                OK              0.19s
 34/120 DPDK:fast-tests / eal_flags_mem_autotest                  OK              0.61s
 35/120 DPDK:fast-tests / eal_flags_file_prefix_autotest          OK             22.65s
 36/120 DPDK:fast-tests / eal_flags_misc_autotest                 OK              1.10s
 37/120 DPDK:fast-tests / eal_fs_autotest                         OK              0.20s
 38/120 DPDK:fast-tests / errno_autotest                          OK              0.20s
 39/120 DPDK:fast-tests / ethdev_link_status                      OK              0.20s
 40/120 DPDK:fast-tests / event_eth_tx_adapter_autotest           OK              1.68s
 41/120 DPDK:fast-tests / event_ring_autotest                     OK              0.21s
 42/120 DPDK:fast-tests / eventdev_common_autotest                OK              0.20s
 43/120 DPDK:fast-tests / eventdev_selftest_sw                    OK              7.12s
 44/120 DPDK:fast-tests / fbarray_autotest                        OK              0.21s
 45/120 DPDK:fast-tests / fib_autotest                            OK              1.09s
 46/120 DPDK:fast-tests / fib6_autotest                           OK              0.85s
 47/120 DPDK:fast-tests / func_reentrancy_autotest                OK              2.11s
 48/120 DPDK:fast-tests / graph_autotest                          OK              0.21s
 49/120 DPDK:fast-tests / node_list_dump                          OK              0.20s
 50/120 DPDK:fast-tests / graph_feature_arc_autotest              OK              0.21s
 51/120 DPDK:fast-tests / hash_autotest                           OK              0.83s
 52/120 DPDK:fast-tests / hash_readwrite_func_autotest            OK              6.37s
 53/120 DPDK:fast-tests / interrupt_autotest                      OK              1.41s
 54/120 DPDK:fast-tests / ipfrag_autotest                         OK              0.07s
 55/120 DPDK:fast-tests / ipsec_autotest                          SKIP            0.21s   exit status 77
 56/120 DPDK:fast-tests / kvargs_autotest                         OK              0.21s
 57/120 DPDK:fast-tests / latencystats_autotest                   OK              0.21s
 58/120 DPDK:fast-tests / lcore_var_autotest                      OK              0.35s
 59/120 DPDK:fast-tests / lcores_autotest                         OK              5.01s
 60/120 DPDK:fast-tests / logs_autotest                           OK              0.20s
 61/120 DPDK:fast-tests / lpm_autotest                            OK              2.24s
 62/120 DPDK:fast-tests / lpm6_autotest                           OK              5.40s
 63/120 DPDK:fast-tests / malloc_autotest                         OK             62.85s
 64/120 DPDK:fast-tests / mbuf_autotest                           OK              5.36s
 65/120 DPDK:fast-tests / mcslock_autotest                        OK              3.85s
 66/120 DPDK:fast-tests / member_autotest                         OK              1.41s
 67/120 DPDK:fast-tests / memcpy_autotest                         OK              6.64s
 68/120 DPDK:fast-tests / memory_autotest                         OK              0.08s
 69/120 DPDK:fast-tests / mempool_autotest                        OK              0.43s
 70/120 DPDK:fast-tests / memzone_autotest                        OK              0.14s
 71/120 DPDK:fast-tests / meter_autotest                          OK              0.20s
 72/120 DPDK:fast-tests / metrics_autotest                        OK              0.20s
 73/120 DPDK:fast-tests / multiprocess_autotest                   OK              0.18s
 74/120 DPDK:fast-tests / net_ether_autotest                      OK              0.87s
 75/120 DPDK:fast-tests / net_ipv6_autotest                       OK              0.20s
 76/120 DPDK:fast-tests / pcapng_autotest                         OK              5.59s
 77/120 DPDK:fast-tests / pdcp_autotest                           SKIP            0.06s   exit status 77
 78/120 DPDK:fast-tests / pdump_autotest                          OK              0.32s
 79/120 DPDK:fast-tests / per_lcore_autotest                      OK              0.30s
 80/120 DPDK:fast-tests / pflock_autotest                         OK              1.01s
 81/120 DPDK:fast-tests / pie_autotest                            OK              0.20s
 82/120 DPDK:fast-tests / ring_pmd_autotest                       OK              0.20s
 83/120 DPDK:fast-tests / power_autotest                          OK              0.20s
 84/120 DPDK:fast-tests / power_cpufreq_autotest                  SKIP            0.06s   exit status 77
 85/120 DPDK:fast-tests / power_intel_uncore_autotest             SKIP            0.20s   exit status 77
 86/120 DPDK:fast-tests / power_kvm_vm_autotest                   SKIP            0.06s   exit status 77
 87/120 DPDK:fast-tests / prefetch_autotest                       OK              0.20s
 88/120 DPDK:fast-tests / ptr_compress_autotest                   OK              0.20s
 89/120 DPDK:fast-tests / rawdev_autotest                         OK              0.20s
 90/120 DPDK:fast-tests / rcu_qsbr_autotest                       OK              0.72s
 91/120 DPDK:fast-tests / reorder_autotest                        OK              0.26s
 92/120 DPDK:fast-tests / rib_autotest                            OK              8.87s
 93/120 DPDK:fast-tests / rib6_autotest                           OK              8.85s
 94/120 DPDK:fast-tests / ring_autotest                           OK              0.23s
 95/120 DPDK:fast-tests / rwlock_test1_autotest                   OK              0.95s
 96/120 DPDK:fast-tests / rwlock_rda_autotest                     OK              5.20s
 97/120 DPDK:fast-tests / rwlock_rds_wrm_autotest                 OK              5.20s
 98/120 DPDK:fast-tests / rwlock_rde_wro_autotest                 OK              5.20s
 99/120 DPDK:fast-tests / sched_autotest                          OK              0.20s
100/120 DPDK:fast-tests / security_autotest                       OK              0.06s
101/120 DPDK:fast-tests / seqlock_autotest                        OK              2.21s
102/120 DPDK:fast-tests / service_autotest                        OK              3.03s
103/120 DPDK:fast-tests / soring_autotest                         OK              0.21s
104/120 DPDK:fast-tests / spinlock_autotest                       OK              0.28s
105/120 DPDK:fast-tests / stack_autotest                          OK              0.86s
106/120 DPDK:fast-tests / stack_lf_autotest                       SKIP            0.06s   exit status 77
107/120 DPDK:fast-tests / string_autotest                         OK              0.20s
108/120 DPDK:fast-tests / table_autotest                          OK              7.59s
109/120 DPDK:fast-tests / tailq_autotest                          OK              0.20s
110/120 DPDK:fast-tests / telemetry_data_autotest                 OK              0.20s
111/120 DPDK:fast-tests / telemetry_json_autotest                 OK              0.20s
112/120 DPDK:fast-tests / thash_autotest                          OK              0.21s
113/120 DPDK:fast-tests / threads_autotest                        OK              0.38s
114/120 DPDK:fast-tests / ticketlock_autotest                     OK              0.35s
115/120 DPDK:fast-tests / timer_autotest                          OK              3.87s
116/120 DPDK:fast-tests / trace_autotest                          OK              0.21s
117/120 DPDK:fast-tests / trace_autotest_with_traces              OK              0.21s
118/120 DPDK:fast-tests / vdev_autotest                           OK              0.20s
119/120 DPDK:fast-tests / version_autotest                        OK              0.20s
120/120 DPDK:fast-tests / telemetry_all                           OK             19.79s


Ok:                 113
Expected Fail:      0
Fail:               0
Unexpected Pass:    0
Skipped:            7
Timeout:            0


^ permalink raw reply	[flat|nested] 19+ messages in thread

* |WARNING| pw156954 [PATCH v1] support multiple PF process flow table
       [not found] <20250926010442.126854-1-zhang.tianhao2@zte.com.cn>
  2025-09-26  0:44 ` |SUCCESS| pw156954 [PATCH v1] support multiple PF process flow table qemudev
  2025-09-26  0:49 ` qemudev
@ 2025-09-26  1:16 ` checkpatch
  2025-09-26  1:41 ` |PENDING| pw156954 [PATCH] [v1] support multiple PF process flow tab dpdklab
                   ` (15 subsequent siblings)
  18 siblings, 0 replies; 19+ messages in thread
From: checkpatch @ 2025-09-26  1:16 UTC (permalink / raw)
  To: test-report; +Cc: Tianhao Zhang

Test-Label: checkpatch
Test-Status: WARNING
http://dpdk.org/patch/156954

_coding style issues_


CHECK:MACRO_ARG_REUSE: Macro argument reuse 'DEV_ID' - possible side-effects?
#520: FILE: drivers/net/zxdh/zxdh_np.c:402:
+#define ZXDH_DTB_TAB_UP_VIR_ADDR_GET(DEV_ID, QUEUE_ID, INDEX)   \
+		(p_dpp_dtb_mgr[(ZXDH_DEV_SLOT_ID(DEV_ID))]->            \
+		queue_info[(QUEUE_ID)].tab_up.start_vir_addr +          \
+		(INDEX) * p_dpp_dtb_mgr[(ZXDH_DEV_SLOT_ID(DEV_ID))]->   \
+		queue_info[(QUEUE_ID)].tab_up.item_size)

CHECK:MACRO_ARG_REUSE: Macro argument reuse 'QUEUE_ID' - possible side-effects?
#520: FILE: drivers/net/zxdh/zxdh_np.c:402:
+#define ZXDH_DTB_TAB_UP_VIR_ADDR_GET(DEV_ID, QUEUE_ID, INDEX)   \
+		(p_dpp_dtb_mgr[(ZXDH_DEV_SLOT_ID(DEV_ID))]->            \
+		queue_info[(QUEUE_ID)].tab_up.start_vir_addr +          \
+		(INDEX) * p_dpp_dtb_mgr[(ZXDH_DEV_SLOT_ID(DEV_ID))]->   \
+		queue_info[(QUEUE_ID)].tab_up.item_size)

CHECK:MACRO_ARG_REUSE: Macro argument reuse 'DEV_ID' - possible side-effects?
#529: FILE: drivers/net/zxdh/zxdh_np.c:408:
+#define ZXDH_DTB_TAB_DOWN_VIR_ADDR_GET(DEV_ID, QUEUE_ID, INDEX) \
+		(p_dpp_dtb_mgr[ZXDH_DEV_SLOT_ID(DEV_ID)]->              \
+		queue_info[QUEUE_ID].tab_down.start_vir_addr +          \
+		(INDEX) * p_dpp_dtb_mgr[ZXDH_DEV_SLOT_ID(DEV_ID)]->     \
+		queue_info[QUEUE_ID].tab_down.item_size)

CHECK:MACRO_ARG_REUSE: Macro argument reuse 'QUEUE_ID' - possible side-effects?
#529: FILE: drivers/net/zxdh/zxdh_np.c:408:
+#define ZXDH_DTB_TAB_DOWN_VIR_ADDR_GET(DEV_ID, QUEUE_ID, INDEX) \
+		(p_dpp_dtb_mgr[ZXDH_DEV_SLOT_ID(DEV_ID)]->              \
+		queue_info[QUEUE_ID].tab_down.start_vir_addr +          \
+		(INDEX) * p_dpp_dtb_mgr[ZXDH_DEV_SLOT_ID(DEV_ID)]->     \
+		queue_info[QUEUE_ID].tab_down.item_size)

WARNING:MULTILINE_DEREFERENCE: Avoid multiple line dereference - prefer 'p_dpp_dtb_mgr[ZXDH_DEV_SLOT_ID(dev_id)]->queue_info[queue_id].tab_down.start_phy_addr'
#1012: FILE: drivers/net/zxdh/zxdh_np.c:5248:
+	phy_addr = p_dpp_dtb_mgr[ZXDH_DEV_SLOT_ID(dev_id)]->queue_info[queue_id].
+		tab_down.start_phy_addr +

WARNING:MULTILINE_DEREFERENCE: Avoid multiple line dereference - prefer 'p_dpp_dtb_mgr[ZXDH_DEV_SLOT_ID(dev_id)]->queue_info[queue_id].tab_down.item_size'
#1014: FILE: drivers/net/zxdh/zxdh_np.c:5250:
+		item_index * p_dpp_dtb_mgr[ZXDH_DEV_SLOT_ID(dev_id)]->queue_info[queue_id].
+		tab_down.item_size;

total: 0 errors, 2 warnings, 4 checks, 1357 lines checked

^ permalink raw reply	[flat|nested] 19+ messages in thread

* |PENDING| pw156954 [PATCH] [v1] support multiple PF process flow tab
       [not found] <20250926010442.126854-1-zhang.tianhao2@zte.com.cn>
                   ` (2 preceding siblings ...)
  2025-09-26  1:16 ` |WARNING| " checkpatch
@ 2025-09-26  1:41 ` dpdklab
  2025-09-26  1:43 ` |SUCCESS| " dpdklab
                   ` (14 subsequent siblings)
  18 siblings, 0 replies; 19+ messages in thread
From: dpdklab @ 2025-09-26  1:41 UTC (permalink / raw)
  To: Test Report; +Cc: dpdk-test-reports

Test-Label: iol-compile-amd64-testing
Test-Status: PENDING
http://dpdk.org/patch/156954

_Testing pending_

Submitter: Tianhao Zhang <zhang.tianhao2@zte.com.cn>
Date: Friday, September 26 2025 01:04:42 
DPDK git baseline: Repo:dpdk-next-net
  Branch: master
  CommitID:262824827107126b1c53943bce835f1dbbfd1150

156954 --> testing pending

Upstream job id: Generic-VM-DPDK-Compile-Meson#38582

Test environment and result as below:

+-------------------------------+--------------------+-------------------+-------------------------+------------------+-------------------+
|          Environment          | dpdk_meson_compile | dpdk_compile_spdk | dpdk_llvm_clang_compile | dpdk_compile_ovs | dpdk_msvc_compile |
+===============================+====================+===================+=========================+==================+===================+
| CentOS Stream 9               | PEND               | PEND              | SKIPPED                 | SKIPPED          | SKIPPED           |
+-------------------------------+--------------------+-------------------+-------------------------+------------------+-------------------+
| Ubuntu 20.04                  | PEND               | SKIPPED           | SKIPPED                 | SKIPPED          | SKIPPED           |
+-------------------------------+--------------------+-------------------+-------------------------+------------------+-------------------+
| CentOS Stream 10              | PEND               | SKIPPED           | SKIPPED                 | SKIPPED          | SKIPPED           |
+-------------------------------+--------------------+-------------------+-------------------------+------------------+-------------------+
| Debian GNU/Linux 12           | PEND               | PEND              | SKIPPED                 | SKIPPED          | SKIPPED           |
+-------------------------------+--------------------+-------------------+-------------------------+------------------+-------------------+
| Fedora Linux 42               | PEND               | PEND              | SKIPPED                 | PEND             | SKIPPED           |
+-------------------------------+--------------------+-------------------+-------------------------+------------------+-------------------+
| openSUSE Leap 15.6            | PEND               | SKIPPED           | SKIPPED                 | SKIPPED          | SKIPPED           |
+-------------------------------+--------------------+-------------------+-------------------------+------------------+-------------------+
| FreeBSD 14.2                  | PEND               | SKIPPED           | SKIPPED                 | SKIPPED          | SKIPPED           |
+-------------------------------+--------------------+-------------------+-------------------------+------------------+-------------------+
| Red Hat Enterprise Linux 8.10 | PEND               | SKIPPED           | SKIPPED                 | SKIPPED          | SKIPPED           |
+-------------------------------+--------------------+-------------------+-------------------------+------------------+-------------------+
| Red Hat Enterprise Linux 9.5  | PEND               | SKIPPED           | SKIPPED                 | SKIPPED          | SKIPPED           |
+-------------------------------+--------------------+-------------------+-------------------------+------------------+-------------------+
| Ubuntu 22.04                  | PEND               | PEND              | SKIPPED                 | SKIPPED          | SKIPPED           |
+-------------------------------+--------------------+-------------------+-------------------------+------------------+-------------------+
| Ubuntu 24.04                  | PEND               | PEND              | SKIPPED                 | PEND             | SKIPPED           |
+-------------------------------+--------------------+-------------------+-------------------------+------------------+-------------------+
| Alpine Linux 3.22.0           | PEND               | SKIPPED           | SKIPPED                 | SKIPPED          | SKIPPED           |
+-------------------------------+--------------------+-------------------+-------------------------+------------------+-------------------+
| Windows Server 2022           | SKIPPED            | SKIPPED           | PEND                    | SKIPPED          | PEND              |
+-------------------------------+--------------------+-------------------+-------------------------+------------------+-------------------+


CentOS Stream 9
	Kernel: 5.15
	Compiler: gcc gcc (GCC) 11.5.0 20240719 (Red Hat 11.5.0-11)

Ubuntu 20.04
	Kernel: 4.19
	Compiler: gcc gcc (Ubuntu 9.4.0-1ubuntu1~20.04.2) 9.4.0

CentOS Stream 10
	Kernel: 5.15
	Compiler: gcc gcc (GCC) 14.2.1 20250110 (Red Hat 14.2.1-8)

Debian GNU/Linux 12
	Kernel: 5.15
	Compiler: gcc gcc (Debian 12.2.0-14+deb12u1) 12.2.0

Fedora Linux 42
	Kernel: 5.15
	Compiler: clang gcc (GCC) 15.2.1 20250808 (Red Hat 15.2.1-1)

openSUSE Leap 15.6
	Kernel: 5.15
	Compiler: gcc gcc (SUSE Linux) 7.5.0

FreeBSD 14.2
	Kernel: 14.2-RELEASE
	Compiler: clang 18.1.6

Red Hat Enterprise Linux 8.10
	Kernel: 5.15
	Compiler: gcc gcc (GCC) 8.5.0 20210514 (Red Hat 8.5.0-22)

Red Hat Enterprise Linux 9.5
	Kernel: 5.15
	Compiler: gcc gcc (GCC) 11.5.0 20240719 (Red Hat 11.5.0-2)

Ubuntu 22.04
	Kernel: 5.15
	Compiler: gcc gcc (Ubuntu 11.4.0-1ubuntu1~22.04) 11.4.0

Ubuntu 24.04
	Kernel: 5.15
	Compiler: gcc gcc (Ubuntu 13.3.0-6ubuntu2~24.04) 13.3.0

Alpine Linux 3.22.0
	Kernel: 5.15
	Compiler: gcc gcc (Alpine 14.2.0) 14.2.0

Windows Server 2022
	Kernel: 10.0.20348.2031
	Compiler: clang 15.0.7, gcc 14.1.0 (MinGW), and MSVC VS 19.39.33521

To view detailed results, visit:
https://lab.dpdk.org/results/dashboard/patchsets/34151/

UNH-IOL DPDK Community Lab

To manage your email subscriptions, visit: 
https://lab.dpdk.org/results/dashboard/preferences/subscriptions/

^ permalink raw reply	[flat|nested] 19+ messages in thread

* |SUCCESS| pw156954 [PATCH] [v1] support multiple PF process flow tab
       [not found] <20250926010442.126854-1-zhang.tianhao2@zte.com.cn>
                   ` (3 preceding siblings ...)
  2025-09-26  1:41 ` |PENDING| pw156954 [PATCH] [v1] support multiple PF process flow tab dpdklab
@ 2025-09-26  1:43 ` dpdklab
  2025-09-26  1:44 ` dpdklab
                   ` (13 subsequent siblings)
  18 siblings, 0 replies; 19+ messages in thread
From: dpdklab @ 2025-09-26  1:43 UTC (permalink / raw)
  To: Test Report; +Cc: dpdk-test-reports, Stephen Hemminger

Test-Label: iol-marvell-Functional
Test-Status: SUCCESS
http://dpdk.org/patch/156954

_Functional Testing PASS_

Submitter: Tianhao Zhang <zhang.tianhao2@zte.com.cn>
Date: Friday, September 26 2025 01:04:42 
DPDK git baseline: Repo:dpdk-next-net
  Branch: master
  CommitID:262824827107126b1c53943bce835f1dbbfd1150

156954 --> functional testing pass

Upstream job id: Template-DTS-Pipeline#246382

Test environment and result as below:

Ubuntu 20.04.6
Kernel: 5.4.105
Compiler: gcc 9.4
NIC: Marvell CN106XX 50000 Mbps
Target: arm64-native-linuxapp-gcc

Aggregate Results by Test Suite
+----------------+--------+
|   Test Suite   | Result |
+================+========+
| cmdline        |  PASS  |
+----------------+--------+
| rxtx_callbacks |  PASS  |
+----------------+--------+


To view detailed results, visit:
https://lab.dpdk.org/results/dashboard/patchsets/34151/

UNH-IOL DPDK Community Lab

To manage your email subscriptions, visit: 
https://lab.dpdk.org/results/dashboard/preferences/subscriptions/

^ permalink raw reply	[flat|nested] 19+ messages in thread

* |SUCCESS| pw156954 [PATCH] [v1] support multiple PF process flow tab
       [not found] <20250926010442.126854-1-zhang.tianhao2@zte.com.cn>
                   ` (4 preceding siblings ...)
  2025-09-26  1:43 ` |SUCCESS| " dpdklab
@ 2025-09-26  1:44 ` dpdklab
  2025-09-26  1:46 ` |PENDING| " dpdklab
                   ` (12 subsequent siblings)
  18 siblings, 0 replies; 19+ messages in thread
From: dpdklab @ 2025-09-26  1:44 UTC (permalink / raw)
  To: Test Report; +Cc: dpdk-test-reports, Stephen Hemminger

Test-Label: iol-mellanox-Functional
Test-Status: SUCCESS
http://dpdk.org/patch/156954

_Functional Testing PASS_

Submitter: Tianhao Zhang <zhang.tianhao2@zte.com.cn>
Date: Friday, September 26 2025 01:04:42 
DPDK git baseline: Repo:dpdk-next-net
  Branch: master
  CommitID:262824827107126b1c53943bce835f1dbbfd1150

156954 --> functional testing pass

Upstream job id: Template-DPDK-DTS-Pipeline#2194

Test environment and result as below:

Ubuntu 24.04
Kernel: 6.8.0-55-generic
Compiler: gcc 13.3.0
NIC: Mellanox ConnectX-5 100000 Mbps

Aggregate Results by Test Suite
+---------------------------------+--------+
|           Test Suite            | Result |
+=================================+========+
| blocklist                       |  PASS  |
+---------------------------------+--------+
| promisc_support                 |  PASS  |
+---------------------------------+--------+
| uni_pkt                         |  PASS  |
+---------------------------------+--------+
| dynamic_config                  |  PASS  |
+---------------------------------+--------+
| hello_world                     |  PASS  |
+---------------------------------+--------+
| l2fwd                           |  PASS  |
+---------------------------------+--------+
| port_restart_config_persistency |  PASS  |
+---------------------------------+--------+
| softnic                         |  PASS  |
+---------------------------------+--------+
| vlan                            |  PASS  |
+---------------------------------+--------+


To view detailed results, visit:
https://lab.dpdk.org/results/dashboard/patchsets/34151/

UNH-IOL DPDK Community Lab

To manage your email subscriptions, visit: 
https://lab.dpdk.org/results/dashboard/preferences/subscriptions/

^ permalink raw reply	[flat|nested] 19+ messages in thread

* |PENDING| pw156954 [PATCH] [v1] support multiple PF process flow tab
       [not found] <20250926010442.126854-1-zhang.tianhao2@zte.com.cn>
                   ` (5 preceding siblings ...)
  2025-09-26  1:44 ` dpdklab
@ 2025-09-26  1:46 ` dpdklab
  2025-09-26  1:52 ` dpdklab
                   ` (11 subsequent siblings)
  18 siblings, 0 replies; 19+ messages in thread
From: dpdklab @ 2025-09-26  1:46 UTC (permalink / raw)
  To: Test Report; +Cc: dpdk-test-reports

Test-Label: iol-unit-amd64-testing
Test-Status: PENDING
http://dpdk.org/patch/156954

_Testing pending_

Submitter: Tianhao Zhang <zhang.tianhao2@zte.com.cn>
Date: Friday, September 26 2025 01:04:42 
DPDK git baseline: Repo:dpdk-next-net
  Branch: master
  CommitID:262824827107126b1c53943bce835f1dbbfd1150

156954 --> testing pending

Upstream job id: Generic-Unit-Test-DPDK#375106

Test environment and result as below:

+-------------------------------+----------------+
|          Environment          | dpdk_unit_test |
+===============================+================+
| CentOS Stream 9               | PEND           |
+-------------------------------+----------------+
| CentOS Stream 10              | PASS           |
+-------------------------------+----------------+
| Fedora Linux 40               | PEND           |
+-------------------------------+----------------+
| Fedora Linux 41               | PEND           |
+-------------------------------+----------------+
| Debian GNU/Linux 12           | PEND           |
+-------------------------------+----------------+
| Fedora Linux 42               | PEND           |
+-------------------------------+----------------+
| Red Hat Enterprise Linux 8.10 | PEND           |
+-------------------------------+----------------+
| Ubuntu 22.04                  | PEND           |
+-------------------------------+----------------+
| Red Hat Enterprise Linux 9.5  | PEND           |
+-------------------------------+----------------+
| Ubuntu 20.04                  | PEND           |
+-------------------------------+----------------+
| Ubuntu 24.04                  | PEND           |
+-------------------------------+----------------+
| Windows Server 2022           | PEND           |
+-------------------------------+----------------+


CentOS Stream 9
	Kernel: 5.15
	Compiler: gcc gcc (GCC) 11.5.0 20240719 (Red Hat 11.5.0-11)

CentOS Stream 10
	Kernel: 5.15
	Compiler: gcc gcc (GCC) 14.2.1 20250110 (Red Hat 14.2.1-8)

Fedora Linux 40
	Kernel: 5.15
	Compiler: gcc gcc (GCC) 14.2.1 20240912 (Red Hat 14.2.1-3)

Fedora Linux 41
	Kernel: 5.15
	Compiler: clang gcc (GCC) 14.3.1 20250523 (Red Hat 14.3.1-1)

Debian GNU/Linux 12
	Kernel: 5.15
	Compiler: gcc gcc (Debian 12.2.0-14+deb12u1) 12.2.0

Fedora Linux 42
	Kernel: 5.15
	Compiler: gcc gcc (GCC) 15.2.1 20250808 (Red Hat 15.2.1-1)

Red Hat Enterprise Linux 8.10
	Kernel: 5.15
	Compiler: gcc gcc (GCC) 8.5.0 20210514 (Red Hat 8.5.0-22)

Ubuntu 22.04
	Kernel: 5.15
	Compiler: gcc gcc (Ubuntu 11.4.0-1ubuntu1~22.04) 11.4.0

Red Hat Enterprise Linux 9.5
	Kernel: 5.15
	Compiler: gcc gcc (GCC) 11.5.0 20240719 (Red Hat 11.5.0-2)

Ubuntu 20.04
	Kernel: 5.15
	Compiler: gcc gcc (Ubuntu 9.4.0-1ubuntu1~20.04.2) 9.4.0

Ubuntu 24.04
	Kernel: 5.15
	Compiler: gcc gcc (Ubuntu 13.3.0-6ubuntu2~24.04) 13.3.0

Windows Server 2022
	Kernel: 10.0.20348.2031
	Compiler: clang 15.0.7, gcc 14.1.0 (MinGW), and MSVC VS 19.39.33521

To view detailed results, visit:
https://lab.dpdk.org/results/dashboard/patchsets/34151/

UNH-IOL DPDK Community Lab

To manage your email subscriptions, visit: 
https://lab.dpdk.org/results/dashboard/preferences/subscriptions/

^ permalink raw reply	[flat|nested] 19+ messages in thread

* |PENDING| pw156954 [PATCH] [v1] support multiple PF process flow tab
       [not found] <20250926010442.126854-1-zhang.tianhao2@zte.com.cn>
                   ` (6 preceding siblings ...)
  2025-09-26  1:46 ` |PENDING| " dpdklab
@ 2025-09-26  1:52 ` dpdklab
  2025-09-26  1:55 ` dpdklab
                   ` (10 subsequent siblings)
  18 siblings, 0 replies; 19+ messages in thread
From: dpdklab @ 2025-09-26  1:52 UTC (permalink / raw)
  To: Test Report; +Cc: dpdk-test-reports

Test-Label: iol-sample-apps-testing
Test-Status: PENDING
http://dpdk.org/patch/156954

_Testing pending_

Submitter: Tianhao Zhang <zhang.tianhao2@zte.com.cn>
Date: Friday, September 26 2025 01:04:42 
DPDK git baseline: Repo:dpdk-next-net
  Branch: master
  CommitID:262824827107126b1c53943bce835f1dbbfd1150

156954 --> testing pending

Upstream job id: Template-DTS-Pipeline#246384

Test environment and result as below:

+--------------+----------------------+----------------------+
| Environment  | dpdk_fips_validation | compressdev_zlib_pmd |
+==============+======================+======================+
| Ubuntu 20.04 | PEND                 | SKIPPED              |
+--------------+----------------------+----------------------+
| Ubuntu 22.04 | SKIPPED              | PASS                 |
+--------------+----------------------+----------------------+


Ubuntu 20.04
	Kernel: 5.15
	Compiler: gcc gcc (Ubuntu 9.4.0-1ubuntu1~20.04.2) 9.4.0

Ubuntu 22.04
	Kernel: 5.15
	Compiler: gcc gcc (Ubuntu 11.4.0-1ubuntu1~22.04.2) 11.4.0

To view detailed results, visit:
https://lab.dpdk.org/results/dashboard/patchsets/34151/

UNH-IOL DPDK Community Lab

To manage your email subscriptions, visit: 
https://lab.dpdk.org/results/dashboard/preferences/subscriptions/

^ permalink raw reply	[flat|nested] 19+ messages in thread

* |PENDING| pw156954 [PATCH] [v1] support multiple PF process flow tab
       [not found] <20250926010442.126854-1-zhang.tianhao2@zte.com.cn>
                   ` (7 preceding siblings ...)
  2025-09-26  1:52 ` dpdklab
@ 2025-09-26  1:55 ` dpdklab
  2025-09-26  2:06 ` |SUCCESS| " dpdklab
                   ` (9 subsequent siblings)
  18 siblings, 0 replies; 19+ messages in thread
From: dpdklab @ 2025-09-26  1:55 UTC (permalink / raw)
  To: Test Report; +Cc: dpdk-test-reports

Test-Label: iol-unit-arm64-testing
Test-Status: PENDING
http://dpdk.org/patch/156954

_Testing pending_

Submitter: Tianhao Zhang <zhang.tianhao2@zte.com.cn>
Date: Friday, September 26 2025 01:04:42 
DPDK git baseline: Repo:dpdk-next-net
  Branch: master
  CommitID:262824827107126b1c53943bce835f1dbbfd1150

156954 --> testing pending

Upstream job id: Generic-Unit-Test-DPDK#375102

Test environment and result as below:

+------------------------------+----------------+---------------------------+--------------+------------------------------+
|         Environment          | dpdk_unit_test | cryptodev_sw_zuc_autotest | lpm_autotest | cryptodev_sw_snow3g_autotest |
+==============================+================+===========================+==============+==============================+
| CentOS Stream 9              | PEND           | SKIPPED                   | SKIPPED      | SKIPPED                      |
+------------------------------+----------------+---------------------------+--------------+------------------------------+
| Fedora Linux 40              | PEND           | SKIPPED                   | SKIPPED      | SKIPPED                      |
+------------------------------+----------------+---------------------------+--------------+------------------------------+
| Fedora Linux 41              | PEND           | SKIPPED                   | SKIPPED      | SKIPPED                      |
+------------------------------+----------------+---------------------------+--------------+------------------------------+
| Debian GNU/Linux 12          | PEND           | SKIPPED                   | SKIPPED      | SKIPPED                      |
+------------------------------+----------------+---------------------------+--------------+------------------------------+
| CentOS Stream 10             | PEND           | SKIPPED                   | SKIPPED      | SKIPPED                      |
+------------------------------+----------------+---------------------------+--------------+------------------------------+
| Fedora Linux 42              | PEND           | SKIPPED                   | SKIPPED      | SKIPPED                      |
+------------------------------+----------------+---------------------------+--------------+------------------------------+
| Ubuntu 20.04                 | PEND           | SKIPPED                   | PASS         | SKIPPED                      |
+------------------------------+----------------+---------------------------+--------------+------------------------------+
| Red Hat Enterprise Linux 9.5 | PEND           | SKIPPED                   | SKIPPED      | SKIPPED                      |
+------------------------------+----------------+---------------------------+--------------+------------------------------+
| Ubuntu 22.04                 | PEND           | SKIPPED                   | SKIPPED      | SKIPPED                      |
+------------------------------+----------------+---------------------------+--------------+------------------------------+
| Ubuntu 24.04                 | PEND           | SKIPPED                   | SKIPPED      | SKIPPED                      |
+------------------------------+----------------+---------------------------+--------------+------------------------------+
| Debian 12 (arm)              | SKIPPED        | PEND                      | SKIPPED      | PEND                         |
+------------------------------+----------------+---------------------------+--------------+------------------------------+


CentOS Stream 9
	Kernel: 5.4
	Compiler: gcc gcc (GCC) 11.5.0 20240719 (Red Hat 11.5.0-11)

Fedora Linux 40
	Kernel: 5.4
	Compiler: gcc gcc (GCC) 14.2.1 20240912 (Red Hat 14.2.1-3)

Fedora Linux 41
	Kernel: 5.4
	Compiler: gcc gcc (GCC) 14.3.1 20250523 (Red Hat 14.3.1-1)

Debian GNU/Linux 12
	Kernel: 5.4
	Compiler: gcc gcc (Debian 12.2.0-14+deb12u1) 12.2.0

CentOS Stream 10
	Kernel: 5.4
	Compiler: gcc gcc (GCC) 14.2.1 20250110 (Red Hat 14.2.1-8)

Fedora Linux 42
	Kernel: 5.4
	Compiler: gcc gcc (GCC) 15.2.1 20250808 (Red Hat 15.2.1-1)

Ubuntu 20.04
	Kernel: 5.4
	Compiler: gcc gcc (Ubuntu 9.4.0-1ubuntu1~20.04.2) 9.4.0

Red Hat Enterprise Linux 9.5
	Kernel: 5.4
	Compiler: gcc gcc (GCC) 11.5.0 20240719 (Red Hat 11.5.0-2)

Ubuntu 22.04
	Kernel: 5.4
	Compiler: gcc gcc (Ubuntu 11.4.0-1ubuntu1~22.04) 11.4.0

Ubuntu 24.04
	Kernel: 5.4
	Compiler: gcc gcc (Ubuntu 13.3.0-6ubuntu2~24.04) 13.3.0

Debian 12 (arm)
	Kernel: Depends on container host
	Compiler: gcc (Debian 12.2.0-14) 12.2.0

To view detailed results, visit:
https://lab.dpdk.org/results/dashboard/patchsets/34151/

UNH-IOL DPDK Community Lab

To manage your email subscriptions, visit: 
https://lab.dpdk.org/results/dashboard/preferences/subscriptions/

^ permalink raw reply	[flat|nested] 19+ messages in thread

* |SUCCESS| pw156954 [PATCH] [v1] support multiple PF process flow tab
       [not found] <20250926010442.126854-1-zhang.tianhao2@zte.com.cn>
                   ` (8 preceding siblings ...)
  2025-09-26  1:55 ` dpdklab
@ 2025-09-26  2:06 ` dpdklab
  2025-09-26  2:10 ` dpdklab
                   ` (8 subsequent siblings)
  18 siblings, 0 replies; 19+ messages in thread
From: dpdklab @ 2025-09-26  2:06 UTC (permalink / raw)
  To: Test Report; +Cc: dpdk-test-reports, Stephen Hemminger

Test-Label: iol-intel-Functional
Test-Status: SUCCESS
http://dpdk.org/patch/156954

_Functional Testing PASS_

Submitter: Tianhao Zhang <zhang.tianhao2@zte.com.cn>
Date: Friday, September 26 2025 01:04:42 
DPDK git baseline: Repo:dpdk-next-net
  Branch: master
  CommitID:262824827107126b1c53943bce835f1dbbfd1150

156954 --> functional testing pass

Upstream job id: Template-DTS-Pipeline#246379

Test environment and result as below:

Ubuntu 20.04
Kernel: 5.4
Compiler: gcc gcc (Ubuntu 9.4.0-1ubuntu1~20.04.1) 9.4.0
NIC: Intel Corporation Ethernet Converged Network Adapter XL710-QDA2 40000 Mbps

Aggregate Results by Test Suite
+-----------------------------+--------+
|         Test Suite          | Result |
+=============================+========+
| unit_tests_mbuf             |  PASS  |
+-----------------------------+--------+
| vhost_virtio_user_interrupt |  PASS  |
+-----------------------------+--------+
| virtio_smoke                |  PASS  |
+-----------------------------+--------+


To view detailed results, visit:
https://lab.dpdk.org/results/dashboard/patchsets/34151/

UNH-IOL DPDK Community Lab

To manage your email subscriptions, visit: 
https://lab.dpdk.org/results/dashboard/preferences/subscriptions/

^ permalink raw reply	[flat|nested] 19+ messages in thread

* |SUCCESS| pw156954 [PATCH] [v1] support multiple PF process flow tab
       [not found] <20250926010442.126854-1-zhang.tianhao2@zte.com.cn>
                   ` (9 preceding siblings ...)
  2025-09-26  2:06 ` |SUCCESS| " dpdklab
@ 2025-09-26  2:10 ` dpdklab
  2025-09-26  2:24 ` dpdklab
                   ` (7 subsequent siblings)
  18 siblings, 0 replies; 19+ messages in thread
From: dpdklab @ 2025-09-26  2:10 UTC (permalink / raw)
  To: Test Report; +Cc: dpdk-test-reports, Stephen Hemminger

Test-Label: iol-broadcom-Performance
Test-Status: SUCCESS
http://dpdk.org/patch/156954

_Performance Testing PASS_

Submitter: Tianhao Zhang <zhang.tianhao2@zte.com.cn>
Date: Friday, September 26 2025 01:04:42 
DPDK git baseline: Repo:dpdk-next-net
  Branch: master
  CommitID:262824827107126b1c53943bce835f1dbbfd1150

156954 --> performance testing pass

Upstream job id: Template-DTS-Pipeline#246377

Test environment and result as below:

Ubuntu 22.04
Kernel: 5.15
Compiler: gcc gcc (Ubuntu 11.4.0-1ubuntu1~22.04) 11.4.0
NIC: Broadcom Inc. and subsidiaries BCM57414 NetXtreme-E 10Gb/25Gb RDMA Ethernet Controller 16d7 25 Mbps
Fail/Total: 0/3

Detail performance results: 
+------------+---------+----------+-------------+------------------------------+
| frame_size | txd/rxd | num_cpus | num_threads |  throughput difference from  |
|            |         |          |             |           expected           |
+============+=========+==========+=============+==============================+
| 64         | 128     | 1        | 1           | 0.4%                         |
+------------+---------+----------+-------------+------------------------------+
| 64         | 512     | 1        | 1           | -1.3%                        |
+------------+---------+----------+-------------+------------------------------+
| 64         | 2048    | 1        | 1           | -0.0%                        |
+------------+---------+----------+-------------+------------------------------+

Ubuntu 22.04
Kernel: 5.15
Compiler: gcc gcc (Ubuntu 11.4.0-1ubuntu1~22.04.2) 11.4.0
NIC: Arm Broadcom Inc. brcm_57414 25000 Mbps
Fail/Total: 0/2

Detail performance results: 
+------------+---------+----------+-------------+------------------------------+
| frame_size | txd/rxd | num_cpus | num_threads |  throughput difference from  |
|            |         |          |             |           expected           |
+============+=========+==========+=============+==============================+
| 64         | 512     | 1        | 1           | -0.2%                        |
+------------+---------+----------+-------------+------------------------------+
| 64         | 2048    | 1        | 1           | 0.1%                         |
+------------+---------+----------+-------------+------------------------------+

To view detailed results, visit:
https://lab.dpdk.org/results/dashboard/patchsets/34151/

UNH-IOL DPDK Community Lab

To manage your email subscriptions, visit: 
https://lab.dpdk.org/results/dashboard/preferences/subscriptions/

^ permalink raw reply	[flat|nested] 19+ messages in thread

* |SUCCESS| pw156954 [PATCH] [v1] support multiple PF process flow tab
       [not found] <20250926010442.126854-1-zhang.tianhao2@zte.com.cn>
                   ` (10 preceding siblings ...)
  2025-09-26  2:10 ` dpdklab
@ 2025-09-26  2:24 ` dpdklab
  2025-09-26  2:34 ` dpdklab
                   ` (6 subsequent siblings)
  18 siblings, 0 replies; 19+ messages in thread
From: dpdklab @ 2025-09-26  2:24 UTC (permalink / raw)
  To: Test Report; +Cc: dpdk-test-reports, Stephen Hemminger

Test-Label: iol-sample-apps-testing
Test-Status: SUCCESS
http://dpdk.org/patch/156954

_Testing PASS_

Submitter: Tianhao Zhang <zhang.tianhao2@zte.com.cn>
Date: Friday, September 26 2025 01:04:42 
DPDK git baseline: Repo:dpdk-next-net
  Branch: master
  CommitID:262824827107126b1c53943bce835f1dbbfd1150

156954 --> testing pass

Upstream job id: ACVP-FIPS-testing#11222

Test environment and result as below:

+--------------+----------------------+----------------------+
| Environment  | dpdk_fips_validation | compressdev_zlib_pmd |
+==============+======================+======================+
| Ubuntu 20.04 | PASS                 | SKIPPED              |
+--------------+----------------------+----------------------+
| Ubuntu 22.04 | SKIPPED              | PASS                 |
+--------------+----------------------+----------------------+


Ubuntu 20.04
	Kernel: 5.15
	Compiler: gcc gcc (Ubuntu 9.4.0-1ubuntu1~20.04.2) 9.4.0

Ubuntu 22.04
	Kernel: 5.15
	Compiler: gcc gcc (Ubuntu 11.4.0-1ubuntu1~22.04.2) 11.4.0

To view detailed results, visit:
https://lab.dpdk.org/results/dashboard/patchsets/34151/

UNH-IOL DPDK Community Lab

To manage your email subscriptions, visit: 
https://lab.dpdk.org/results/dashboard/preferences/subscriptions/

^ permalink raw reply	[flat|nested] 19+ messages in thread

* |SUCCESS| pw156954 [PATCH] [v1] support multiple PF process flow tab
       [not found] <20250926010442.126854-1-zhang.tianhao2@zte.com.cn>
                   ` (11 preceding siblings ...)
  2025-09-26  2:24 ` dpdklab
@ 2025-09-26  2:34 ` dpdklab
  2025-09-26  2:39 ` dpdklab
                   ` (5 subsequent siblings)
  18 siblings, 0 replies; 19+ messages in thread
From: dpdklab @ 2025-09-26  2:34 UTC (permalink / raw)
  To: Test Report; +Cc: dpdk-test-reports, Stephen Hemminger

Test-Label: iol-unit-amd64-testing
Test-Status: SUCCESS
http://dpdk.org/patch/156954

_Testing PASS_

Submitter: Tianhao Zhang <zhang.tianhao2@zte.com.cn>
Date: Friday, September 26 2025 01:04:42 
DPDK git baseline: Repo:dpdk-next-net
  Branch: master
  CommitID:262824827107126b1c53943bce835f1dbbfd1150

156954 --> testing pass

Upstream job id: Generic-Unit-Test-DPDK#375128

Test environment and result as below:

+-------------------------------+----------------+
|          Environment          | dpdk_unit_test |
+===============================+================+
| CentOS Stream 9               | PASS           |
+-------------------------------+----------------+
| CentOS Stream 10              | PASS           |
+-------------------------------+----------------+
| Fedora Linux 40               | PASS           |
+-------------------------------+----------------+
| Fedora Linux 41               | PASS           |
+-------------------------------+----------------+
| Debian GNU/Linux 12           | PASS           |
+-------------------------------+----------------+
| Fedora Linux 42               | PASS           |
+-------------------------------+----------------+
| Red Hat Enterprise Linux 8.10 | PASS           |
+-------------------------------+----------------+
| Ubuntu 22.04                  | PASS           |
+-------------------------------+----------------+
| Red Hat Enterprise Linux 9.5  | PASS           |
+-------------------------------+----------------+
| Ubuntu 20.04                  | PASS           |
+-------------------------------+----------------+
| Ubuntu 24.04                  | PASS           |
+-------------------------------+----------------+
| Windows Server 2022           | PASS           |
+-------------------------------+----------------+


CentOS Stream 9
	Kernel: 5.15
	Compiler: gcc gcc (GCC) 11.5.0 20240719 (Red Hat 11.5.0-11)

CentOS Stream 10
	Kernel: 5.15
	Compiler: gcc gcc (GCC) 14.2.1 20250110 (Red Hat 14.2.1-8)

Fedora Linux 40
	Kernel: 5.15
	Compiler: gcc gcc (GCC) 14.2.1 20240912 (Red Hat 14.2.1-3)

Fedora Linux 41
	Kernel: 5.15
	Compiler: clang gcc (GCC) 14.3.1 20250523 (Red Hat 14.3.1-1)

Debian GNU/Linux 12
	Kernel: 5.15
	Compiler: gcc gcc (Debian 12.2.0-14+deb12u1) 12.2.0

Fedora Linux 42
	Kernel: 5.15
	Compiler: gcc gcc (GCC) 15.2.1 20250808 (Red Hat 15.2.1-1)

Red Hat Enterprise Linux 8.10
	Kernel: 5.15
	Compiler: gcc gcc (GCC) 8.5.0 20210514 (Red Hat 8.5.0-22)

Ubuntu 22.04
	Kernel: 5.15
	Compiler: gcc gcc (Ubuntu 11.4.0-1ubuntu1~22.04) 11.4.0

Red Hat Enterprise Linux 9.5
	Kernel: 5.15
	Compiler: gcc gcc (GCC) 11.5.0 20240719 (Red Hat 11.5.0-2)

Ubuntu 20.04
	Kernel: 5.15
	Compiler: gcc gcc (Ubuntu 9.4.0-1ubuntu1~20.04.2) 9.4.0

Ubuntu 24.04
	Kernel: 5.15
	Compiler: gcc gcc (Ubuntu 13.3.0-6ubuntu2~24.04) 13.3.0

Windows Server 2022
	Kernel: 10.0.20348.2031
	Compiler: clang 15.0.7, gcc 14.1.0 (MinGW), and MSVC VS 19.39.33521

To view detailed results, visit:
https://lab.dpdk.org/results/dashboard/patchsets/34151/

UNH-IOL DPDK Community Lab

To manage your email subscriptions, visit: 
https://lab.dpdk.org/results/dashboard/preferences/subscriptions/

^ permalink raw reply	[flat|nested] 19+ messages in thread

* |SUCCESS| pw156954 [PATCH] [v1] support multiple PF process flow tab
       [not found] <20250926010442.126854-1-zhang.tianhao2@zte.com.cn>
                   ` (12 preceding siblings ...)
  2025-09-26  2:34 ` dpdklab
@ 2025-09-26  2:39 ` dpdklab
  2025-09-26  2:50 ` dpdklab
                   ` (4 subsequent siblings)
  18 siblings, 0 replies; 19+ messages in thread
From: dpdklab @ 2025-09-26  2:39 UTC (permalink / raw)
  To: Test Report; +Cc: dpdk-test-reports, Stephen Hemminger

Test-Label: iol-compile-amd64-testing
Test-Status: SUCCESS
http://dpdk.org/patch/156954

_Testing PASS_

Submitter: Tianhao Zhang <zhang.tianhao2@zte.com.cn>
Date: Friday, September 26 2025 01:04:42 
DPDK git baseline: Repo:dpdk-next-net
  Branch: master
  CommitID:262824827107126b1c53943bce835f1dbbfd1150

156954 --> testing pass

Upstream job id: Generic-DPDK-Compile-Meson#428692

Test environment and result as below:

+-------------------------------+--------------------+-------------------+-------------------------+------------------+-------------------+----------------------+
|          Environment          | dpdk_meson_compile | dpdk_compile_spdk | dpdk_llvm_clang_compile | dpdk_compile_ovs | dpdk_msvc_compile | dpdk_mingw64_compile |
+===============================+====================+===================+=========================+==================+===================+======================+
| CentOS Stream 9               | PASS               | PASS              | SKIPPED                 | SKIPPED          | SKIPPED           | SKIPPED              |
+-------------------------------+--------------------+-------------------+-------------------------+------------------+-------------------+----------------------+
| Ubuntu 20.04                  | PASS               | SKIPPED           | SKIPPED                 | SKIPPED          | SKIPPED           | SKIPPED              |
+-------------------------------+--------------------+-------------------+-------------------------+------------------+-------------------+----------------------+
| CentOS Stream 10              | PASS               | SKIPPED           | SKIPPED                 | SKIPPED          | SKIPPED           | SKIPPED              |
+-------------------------------+--------------------+-------------------+-------------------------+------------------+-------------------+----------------------+
| Debian GNU/Linux 12           | PASS               | PASS              | SKIPPED                 | SKIPPED          | SKIPPED           | SKIPPED              |
+-------------------------------+--------------------+-------------------+-------------------------+------------------+-------------------+----------------------+
| Fedora Linux 42               | PASS               | PASS              | SKIPPED                 | PASS             | SKIPPED           | SKIPPED              |
+-------------------------------+--------------------+-------------------+-------------------------+------------------+-------------------+----------------------+
| openSUSE Leap 15.6            | PASS               | SKIPPED           | SKIPPED                 | SKIPPED          | SKIPPED           | SKIPPED              |
+-------------------------------+--------------------+-------------------+-------------------------+------------------+-------------------+----------------------+
| FreeBSD 14.2                  | PASS               | SKIPPED           | SKIPPED                 | SKIPPED          | SKIPPED           | SKIPPED              |
+-------------------------------+--------------------+-------------------+-------------------------+------------------+-------------------+----------------------+
| Red Hat Enterprise Linux 8.10 | PASS               | SKIPPED           | SKIPPED                 | SKIPPED          | SKIPPED           | SKIPPED              |
+-------------------------------+--------------------+-------------------+-------------------------+------------------+-------------------+----------------------+
| Red Hat Enterprise Linux 9.5  | PASS               | SKIPPED           | SKIPPED                 | SKIPPED          | SKIPPED           | SKIPPED              |
+-------------------------------+--------------------+-------------------+-------------------------+------------------+-------------------+----------------------+
| Ubuntu 22.04                  | PASS               | PASS              | SKIPPED                 | SKIPPED          | SKIPPED           | SKIPPED              |
+-------------------------------+--------------------+-------------------+-------------------------+------------------+-------------------+----------------------+
| Ubuntu 24.04                  | PASS               | PASS              | SKIPPED                 | PASS             | SKIPPED           | SKIPPED              |
+-------------------------------+--------------------+-------------------+-------------------------+------------------+-------------------+----------------------+
| Alpine Linux 3.22.0           | PASS               | SKIPPED           | SKIPPED                 | SKIPPED          | SKIPPED           | SKIPPED              |
+-------------------------------+--------------------+-------------------+-------------------------+------------------+-------------------+----------------------+
| Windows Server 2022           | SKIPPED            | SKIPPED           | PASS                    | SKIPPED          | PASS              | PASS                 |
+-------------------------------+--------------------+-------------------+-------------------------+------------------+-------------------+----------------------+


CentOS Stream 9
	Kernel: 5.15
	Compiler: gcc gcc (GCC) 11.5.0 20240719 (Red Hat 11.5.0-11)

Ubuntu 20.04
	Kernel: 4.19
	Compiler: gcc gcc (Ubuntu 9.4.0-1ubuntu1~20.04.2) 9.4.0

CentOS Stream 10
	Kernel: 5.15
	Compiler: gcc gcc (GCC) 14.2.1 20250110 (Red Hat 14.2.1-8)

Debian GNU/Linux 12
	Kernel: 5.15
	Compiler: gcc gcc (Debian 12.2.0-14+deb12u1) 12.2.0

Fedora Linux 42
	Kernel: 5.15
	Compiler: clang gcc (GCC) 15.2.1 20250808 (Red Hat 15.2.1-1)

openSUSE Leap 15.6
	Kernel: 5.15
	Compiler: gcc gcc (SUSE Linux) 7.5.0

FreeBSD 14.2
	Kernel: 14.2-RELEASE
	Compiler: clang 18.1.6

Red Hat Enterprise Linux 8.10
	Kernel: 5.15
	Compiler: gcc gcc (GCC) 8.5.0 20210514 (Red Hat 8.5.0-22)

Red Hat Enterprise Linux 9.5
	Kernel: 5.15
	Compiler: gcc gcc (GCC) 11.5.0 20240719 (Red Hat 11.5.0-2)

Ubuntu 22.04
	Kernel: 5.15
	Compiler: gcc gcc (Ubuntu 11.4.0-1ubuntu1~22.04) 11.4.0

Ubuntu 24.04
	Kernel: 5.15
	Compiler: gcc gcc (Ubuntu 13.3.0-6ubuntu2~24.04) 13.3.0

Alpine Linux 3.22.0
	Kernel: 5.15
	Compiler: gcc gcc (Alpine 14.2.0) 14.2.0

Windows Server 2022
	Kernel: 10.0.20348.2031
	Compiler: clang 15.0.7, gcc 14.1.0 (MinGW), and MSVC VS 19.39.33521

To view detailed results, visit:
https://lab.dpdk.org/results/dashboard/patchsets/34151/

UNH-IOL DPDK Community Lab

To manage your email subscriptions, visit: 
https://lab.dpdk.org/results/dashboard/preferences/subscriptions/

^ permalink raw reply	[flat|nested] 19+ messages in thread

* |SUCCESS| pw156954 [PATCH] [v1] support multiple PF process flow tab
       [not found] <20250926010442.126854-1-zhang.tianhao2@zte.com.cn>
                   ` (13 preceding siblings ...)
  2025-09-26  2:39 ` dpdklab
@ 2025-09-26  2:50 ` dpdklab
  2025-09-26  4:05 ` |SUCCESS| pw156954 [PATCH v1] support multiple PF process flow table 0-day Robot
                   ` (3 subsequent siblings)
  18 siblings, 0 replies; 19+ messages in thread
From: dpdklab @ 2025-09-26  2:50 UTC (permalink / raw)
  To: Test Report; +Cc: dpdk-test-reports, Stephen Hemminger

Test-Label: iol-intel-Functional
Test-Status: SUCCESS
http://dpdk.org/patch/156954

_Functional Testing PASS_

Submitter: Tianhao Zhang <zhang.tianhao2@zte.com.cn>
Date: Friday, September 26 2025 01:04:42 
DPDK git baseline: Repo:dpdk-next-net
  Branch: master
  CommitID:262824827107126b1c53943bce835f1dbbfd1150

156954 --> functional testing pass

Upstream job id: Template-DTS-Pipeline#246381

Test environment and result as below:

Ubuntu 20.04
Kernel: 5.4
Compiler: gcc gcc (Ubuntu 9.4.0-1ubuntu1~20.04.1) 9.4.0
NIC: Intel Corporation Ethernet Converged Network Adapter XL710-QDA2 40000 Mbps

Aggregate Results by Test Suite
+-----------------------------+--------+
|         Test Suite          | Result |
+=============================+========+
| unit_tests_mbuf             |  PASS  |
+-----------------------------+--------+
| vhost_virtio_user_interrupt |  PASS  |
+-----------------------------+--------+
| virtio_smoke                |  PASS  |
+-----------------------------+--------+


Ubuntu 22.04
Kernel: 5.15
Compiler: gcc gcc (Ubuntu 11.4.0-1ubuntu1~22.04.2) 11.4.0
NIC: Intel Corporation QAT 8970 0 Mbps

Aggregate Results by Test Suite
+----------------------------+--------+
|         Test Suite         | Result |
+============================+========+
| crypto_perf_cryptodev_perf |  PASS  |
+----------------------------+--------+


To view detailed results, visit:
https://lab.dpdk.org/results/dashboard/patchsets/34151/

UNH-IOL DPDK Community Lab

To manage your email subscriptions, visit: 
https://lab.dpdk.org/results/dashboard/preferences/subscriptions/

^ permalink raw reply	[flat|nested] 19+ messages in thread

* |SUCCESS| pw156954 [PATCH v1] support multiple PF process flow table
       [not found] <20250926010442.126854-1-zhang.tianhao2@zte.com.cn>
                   ` (14 preceding siblings ...)
  2025-09-26  2:50 ` dpdklab
@ 2025-09-26  4:05 ` 0-day Robot
  2025-09-26  4:05 ` 0-day Robot
                   ` (2 subsequent siblings)
  18 siblings, 0 replies; 19+ messages in thread
From: 0-day Robot @ 2025-09-26  4:05 UTC (permalink / raw)
  To: test-report; +Cc: robot

From: robot@bytheb.org

Test-Label: github-robot: build
Test-Status: SUCCESS
http://patchwork.dpdk.org/patch/156954/

_github build: passed_
Build URL: https://github.com/ovsrobot/dpdk/actions/runs/18026457762

^ permalink raw reply	[flat|nested] 19+ messages in thread

* |SUCCESS| pw156954 [PATCH v1] support multiple PF process flow table
       [not found] <20250926010442.126854-1-zhang.tianhao2@zte.com.cn>
                   ` (15 preceding siblings ...)
  2025-09-26  4:05 ` |SUCCESS| pw156954 [PATCH v1] support multiple PF process flow table 0-day Robot
@ 2025-09-26  4:05 ` 0-day Robot
  2025-09-26  6:35 ` |SUCCESS| pw156954 [PATCH] [v1] support multiple PF process flow tab dpdklab
  2025-09-26 13:59 ` dpdklab
  18 siblings, 0 replies; 19+ messages in thread
From: 0-day Robot @ 2025-09-26  4:05 UTC (permalink / raw)
  To: test-report; +Cc: robot

From: robot@bytheb.org

Test-Label: github-robot-post
Test-Status: SUCCESS
http://patchwork.dpdk.org/patch/156954/

_github post: success_
HTML Link: https://github.com/ovsrobot/dpdk/pull/102

^ permalink raw reply	[flat|nested] 19+ messages in thread

* |SUCCESS| pw156954 [PATCH] [v1] support multiple PF process flow tab
       [not found] <20250926010442.126854-1-zhang.tianhao2@zte.com.cn>
                   ` (16 preceding siblings ...)
  2025-09-26  4:05 ` 0-day Robot
@ 2025-09-26  6:35 ` dpdklab
  2025-09-26 13:59 ` dpdklab
  18 siblings, 0 replies; 19+ messages in thread
From: dpdklab @ 2025-09-26  6:35 UTC (permalink / raw)
  To: Test Report; +Cc: dpdk-test-reports, Stephen Hemminger

Test-Label: iol-compile-arm64-testing
Test-Status: SUCCESS
http://dpdk.org/patch/156954

_Testing PASS_

Submitter: Tianhao Zhang <zhang.tianhao2@zte.com.cn>
Date: Friday, September 26 2025 01:04:42 
DPDK git baseline: Repo:dpdk-next-net
  Branch: master
  CommitID:262824827107126b1c53943bce835f1dbbfd1150

156954 --> testing pass

Upstream job id: Generic-DPDK-Compile-Meson#428680

Test environment and result as below:

+------------------------------+--------------------+
|         Environment          | dpdk_meson_compile |
+==============================+====================+
| Red Hat Enterprise Linux 9.5 | PASS               |
+------------------------------+--------------------+
| Ubuntu 20.04                 | PASS               |
+------------------------------+--------------------+
| Debian GNU/Linux 12          | PASS               |
+------------------------------+--------------------+
| Fedora Linux 42              | PASS               |
+------------------------------+--------------------+
| Ubuntu 22.04                 | PASS               |
+------------------------------+--------------------+
| CentOS Stream 9              | PASS               |
+------------------------------+--------------------+
| CentOS Stream 10             | PASS               |
+------------------------------+--------------------+
| Ubuntu 24.04                 | PASS               |
+------------------------------+--------------------+


Red Hat Enterprise Linux 9.5
	Kernel: 5.4
	Compiler: gcc gcc (GCC) 11.5.0 20240719 (Red Hat 11.5.0-2)

Ubuntu 20.04
	Kernel: 5.15
	Compiler: aarch64-linux-gnu-gcc gcc (Ubuntu 9.4.0-1ubuntu1~20.04.2) 9.4.0

Debian GNU/Linux 12
	Kernel: 5.4
	Compiler: gcc gcc (Debian 12.2.0-14+deb12u1) 12.2.0

Fedora Linux 42
	Kernel: 5.4
	Compiler: gcc gcc (GCC) 15.2.1 20250808 (Red Hat 15.2.1-1)

Ubuntu 22.04
	Kernel: 5.4
	Compiler: gcc gcc (Ubuntu 11.4.0-1ubuntu1~22.04) 11.4.0

CentOS Stream 9
	Kernel: 5.4
	Compiler: gcc gcc (GCC) 11.5.0 20240719 (Red Hat 11.5.0-11)

CentOS Stream 10
	Kernel: 5.4
	Compiler: gcc gcc (GCC) 14.2.1 20250110 (Red Hat 14.2.1-8)

Ubuntu 24.04
	Kernel: 5.4
	Compiler: gcc gcc (Ubuntu 13.3.0-6ubuntu2~24.04) 13.3.0

To view detailed results, visit:
https://lab.dpdk.org/results/dashboard/patchsets/34151/

UNH-IOL DPDK Community Lab

To manage your email subscriptions, visit: 
https://lab.dpdk.org/results/dashboard/preferences/subscriptions/

^ permalink raw reply	[flat|nested] 19+ messages in thread

* |SUCCESS| pw156954 [PATCH] [v1] support multiple PF process flow tab
       [not found] <20250926010442.126854-1-zhang.tianhao2@zte.com.cn>
                   ` (17 preceding siblings ...)
  2025-09-26  6:35 ` |SUCCESS| pw156954 [PATCH] [v1] support multiple PF process flow tab dpdklab
@ 2025-09-26 13:59 ` dpdklab
  18 siblings, 0 replies; 19+ messages in thread
From: dpdklab @ 2025-09-26 13:59 UTC (permalink / raw)
  To: Test Report; +Cc: dpdk-test-reports, Stephen Hemminger

Test-Label: iol-unit-arm64-testing
Test-Status: SUCCESS
http://dpdk.org/patch/156954

_Testing PASS_

Submitter: Tianhao Zhang <zhang.tianhao2@zte.com.cn>
Date: Friday, September 26 2025 01:04:42 
DPDK git baseline: Repo:dpdk-next-net
  Branch: master
  CommitID:262824827107126b1c53943bce835f1dbbfd1150

156954 --> testing pass

Upstream job id: Generic-Unit-Test-DPDK#375122

Test environment and result as below:

+------------------------------+----------------+---------------------------+--------------+------------------------------+
|         Environment          | dpdk_unit_test | cryptodev_sw_zuc_autotest | lpm_autotest | cryptodev_sw_snow3g_autotest |
+==============================+================+===========================+==============+==============================+
| CentOS Stream 9              | PASS           | SKIPPED                   | SKIPPED      | SKIPPED                      |
+------------------------------+----------------+---------------------------+--------------+------------------------------+
| Fedora Linux 40              | PASS           | SKIPPED                   | SKIPPED      | SKIPPED                      |
+------------------------------+----------------+---------------------------+--------------+------------------------------+
| Fedora Linux 41              | PASS           | SKIPPED                   | SKIPPED      | SKIPPED                      |
+------------------------------+----------------+---------------------------+--------------+------------------------------+
| Debian GNU/Linux 12          | PASS           | SKIPPED                   | SKIPPED      | SKIPPED                      |
+------------------------------+----------------+---------------------------+--------------+------------------------------+
| CentOS Stream 10             | PASS           | SKIPPED                   | SKIPPED      | SKIPPED                      |
+------------------------------+----------------+---------------------------+--------------+------------------------------+
| Fedora Linux 42              | PASS           | SKIPPED                   | SKIPPED      | SKIPPED                      |
+------------------------------+----------------+---------------------------+--------------+------------------------------+
| Ubuntu 20.04                 | PASS           | SKIPPED                   | PASS         | SKIPPED                      |
+------------------------------+----------------+---------------------------+--------------+------------------------------+
| Red Hat Enterprise Linux 9.5 | PASS           | SKIPPED                   | SKIPPED      | SKIPPED                      |
+------------------------------+----------------+---------------------------+--------------+------------------------------+
| Ubuntu 22.04                 | PASS           | SKIPPED                   | SKIPPED      | SKIPPED                      |
+------------------------------+----------------+---------------------------+--------------+------------------------------+
| Ubuntu 24.04                 | PASS           | SKIPPED                   | SKIPPED      | SKIPPED                      |
+------------------------------+----------------+---------------------------+--------------+------------------------------+
| Debian 12 (arm)              | SKIPPED        | PASS                      | SKIPPED      | PASS                         |
+------------------------------+----------------+---------------------------+--------------+------------------------------+


CentOS Stream 9
	Kernel: 5.4
	Compiler: gcc gcc (GCC) 11.5.0 20240719 (Red Hat 11.5.0-11)

Fedora Linux 40
	Kernel: 5.4
	Compiler: gcc gcc (GCC) 14.2.1 20240912 (Red Hat 14.2.1-3)

Fedora Linux 41
	Kernel: 5.4
	Compiler: gcc gcc (GCC) 14.3.1 20250523 (Red Hat 14.3.1-1)

Debian GNU/Linux 12
	Kernel: 5.4
	Compiler: gcc gcc (Debian 12.2.0-14+deb12u1) 12.2.0

CentOS Stream 10
	Kernel: 5.4
	Compiler: gcc gcc (GCC) 14.2.1 20250110 (Red Hat 14.2.1-8)

Fedora Linux 42
	Kernel: 5.4
	Compiler: gcc gcc (GCC) 15.2.1 20250808 (Red Hat 15.2.1-1)

Ubuntu 20.04
	Kernel: 5.4
	Compiler: gcc gcc (Ubuntu 9.4.0-1ubuntu1~20.04.2) 9.4.0

Red Hat Enterprise Linux 9.5
	Kernel: 5.4
	Compiler: gcc gcc (GCC) 11.5.0 20240719 (Red Hat 11.5.0-2)

Ubuntu 22.04
	Kernel: 5.4
	Compiler: gcc gcc (Ubuntu 11.4.0-1ubuntu1~22.04) 11.4.0

Ubuntu 24.04
	Kernel: 5.4
	Compiler: gcc gcc (Ubuntu 13.3.0-6ubuntu2~24.04) 13.3.0

Debian 12 (arm)
	Kernel: Depends on container host
	Compiler: gcc (Debian 12.2.0-14) 12.2.0

To view detailed results, visit:
https://lab.dpdk.org/results/dashboard/patchsets/34151/

UNH-IOL DPDK Community Lab

To manage your email subscriptions, visit: 
https://lab.dpdk.org/results/dashboard/preferences/subscriptions/

^ permalink raw reply	[flat|nested] 19+ messages in thread

end of thread, other threads:[~2025-09-26 13:59 UTC | newest]

Thread overview: 19+ messages (download: mbox.gz / follow: Atom feed)
-- links below jump to the message on this page --
     [not found] <20250926010442.126854-1-zhang.tianhao2@zte.com.cn>
2025-09-26  0:44 ` |SUCCESS| pw156954 [PATCH v1] support multiple PF process flow table qemudev
2025-09-26  0:49 ` qemudev
2025-09-26  1:16 ` |WARNING| " checkpatch
2025-09-26  1:41 ` |PENDING| pw156954 [PATCH] [v1] support multiple PF process flow tab dpdklab
2025-09-26  1:43 ` |SUCCESS| " dpdklab
2025-09-26  1:44 ` dpdklab
2025-09-26  1:46 ` |PENDING| " dpdklab
2025-09-26  1:52 ` dpdklab
2025-09-26  1:55 ` dpdklab
2025-09-26  2:06 ` |SUCCESS| " dpdklab
2025-09-26  2:10 ` dpdklab
2025-09-26  2:24 ` dpdklab
2025-09-26  2:34 ` dpdklab
2025-09-26  2:39 ` dpdklab
2025-09-26  2:50 ` dpdklab
2025-09-26  4:05 ` |SUCCESS| pw156954 [PATCH v1] support multiple PF process flow table 0-day Robot
2025-09-26  4:05 ` 0-day Robot
2025-09-26  6:35 ` |SUCCESS| pw156954 [PATCH] [v1] support multiple PF process flow tab dpdklab
2025-09-26 13:59 ` dpdklab

This is a public inbox, see mirroring instructions
for how to clone and mirror all data and code used for this inbox;
as well as URLs for NNTP newsgroup(s).