From mboxrd@z Thu Jan 1 00:00:00 1970 Return-Path: Received: from mails.dpdk.org (mails.dpdk.org [217.70.189.124]) by inbox.dpdk.org (Postfix) with ESMTP id 57A6246F78 for ; Fri, 26 Sep 2025 04:32:39 +0200 (CEST) Received: from mails.dpdk.org (localhost [127.0.0.1]) by mails.dpdk.org (Postfix) with ESMTP id 36406402E0; Fri, 26 Sep 2025 04:32:39 +0200 (CEST) Received: from mail-qk1-f227.google.com (mail-qk1-f227.google.com [209.85.222.227]) by mails.dpdk.org (Postfix) with ESMTP id D57F1402E0 for ; Fri, 26 Sep 2025 04:32:37 +0200 (CEST) Received: by mail-qk1-f227.google.com with SMTP id af79cd13be357-856328df6e1so161430485a.0 for ; Thu, 25 Sep 2025 19:32:37 -0700 (PDT) DKIM-Signature: v=1; a=rsa-sha256; c=relaxed/relaxed; d=iol.unh.edu; s=unh-iol; t=1758853957; x=1759458757; darn=dpdk.org; h=references:in-reply-to:cc:to:from:subject:message-id:date:from:to :cc:subject:date:message-id:reply-to; bh=nvA7kFbONG3I0lyIjaR6vevQySrVWhjlGivmFUnGXYE=; b=AW4NiuE0eS970gijYtsv4KLWkVx/KGrwDOAQqIS4fi62h5x1Wwy54X9zpn/xUM3Ndg 8oCzJN/t2znZ+If6jiDiJ5RQr1gjJmQggQ8SKKarQCrpcwsW0SnDefmYBLQoshcJA5cM UCpMvkNpC35E1DYiFyLhC1TnYQ0w13eyG3VHk= X-Google-DKIM-Signature: v=1; a=rsa-sha256; c=relaxed/relaxed; d=1e100.net; s=20230601; t=1758853957; x=1759458757; h=references:in-reply-to:cc:to:from:subject:message-id:date :x-gm-message-state:from:to:cc:subject:date:message-id:reply-to; bh=nvA7kFbONG3I0lyIjaR6vevQySrVWhjlGivmFUnGXYE=; b=sUt8o6VRXOw6PXpdSICx4Qif8F3dw7sKmTVbIkuaMpDluhqRYNJv7A9lEiNvBUkK+Q 0d/NEsqYwbtKfxuxlujqbfs6mZkvQLNWvwib7aAlNiz1AcF0Ix7busOWdrGyuSQDYv/j yIZomTVQoqkwhcAiyHvABx77A+Re24hjcsMZeKzC1356crd3di82YOEhNv0dOs2jWPjv uAO2z9KsucuMHVLilmasuQ0XpGpxqdbMQpJo84/1xZ3gZ4mg8FOR4i98LBdk8yDpIJpd mXrbjFgh+xjVCOY1YZ0zaEpW+J07QSjjsIzHXRdVBZR9ici/fQpAGnzC7mp5HOeXfLz1 PUQg== X-Gm-Message-State: AOJu0Yw3AlL9RAo8Fq/PtOISVcAhKXJmxIJbNYNEx8RHDQdoKdIEcYU2 cT7SoP6ExujXWScjHOQ4ZPU5XJ8KdkeN2Iq1KJ33PKTXrgwpAIOVlWIbSz3jDKt4sx/gkx4gSjs Zd1EeJIkbuDr0QMG6cDyHz7J8ngHN0icvc7EKrgn7Y2YR X-Gm-Gg: ASbGncudqb4XbDNTW8bx6UleXtGLjWNVxDV3T1Ku8bKzNtTGqjoTYs4hdvSrj5n1Jno DhdKcbSNSAQpdkteNDUx/dgMN3/2KoQuY9DN0D0lthgveCmhCWgkObDfP0AOC9rHvd6HGNr1m4o hG0oPg+axebKxzErghZEFIRG/C5i0Skly8JR5kMWcnnfDJukL7Vzn1jiEI44UheZNnLtsDOH/mA tgNm30tIjyrGSkmZT3auPPwmQoh9vQE64fshInhhe48sUaQlEnzcjhqZcps+ueMVzktEACQoNyg nU3rT/Y6Ja6vIg+mP8lkRCUrUGAkX0Ju0OYWZfAlnnB7oBhikhONUvvtnrYxRyiK3D/DJLf4 X-Google-Smtp-Source: AGHT+IFKNC0P2WNf8ktNRIAInIy9W54g1yBhw1yxjrx9DE0oIaim9jy9gk9uL01AKpGoOizo+YqdPsJ5drt7 X-Received: by 2002:a05:6214:d8c:b0:781:d761:5468 with SMTP id 6a1803df08f44-7fc3ca0b894mr103889036d6.39.1758853957057; Thu, 25 Sep 2025 19:32:37 -0700 (PDT) Received: from postal.iol.unh.edu (postal.iol.unh.edu. [132.177.123.84]) by smtp-relay.gmail.com with ESMTPS id 6a1803df08f44-801685182d3sm2318196d6.35.2025.09.25.19.32.36 (version=TLS1_2 cipher=ECDHE-ECDSA-AES128-GCM-SHA256 bits=128/128); Thu, 25 Sep 2025 19:32:37 -0700 (PDT) X-Relaying-Domain: iol.unh.edu Date: Thu, 25 Sep 2025 19:32:37 -0700 (PDT) Message-ID: <68d5fb45.d40a0220.2b853a.e058SMTPIN_ADDED_MISSING@mx.google.com> Received: from [172.21.0.2] (unknown [172.18.0.240]) by postal.iol.unh.edu (Postfix) with ESMTP id 7DCA46051830; Thu, 25 Sep 2025 22:32:36 -0400 (EDT) Subject: |SUCCESS| pw156944 [PATCH] [v1] cryptodev: introduce constant-time m From: dpdklab@iol.unh.edu To: Test Report Cc: dpdk-test-reports@iol.unh.edu, Akhil Goyal In-Reply-To: <20250925102223.145471-1-kai.ji@intel.com> References: <20250925102223.145471-1-kai.ji@intel.com> Content-Type: text/plain X-BeenThere: test-report@dpdk.org X-Mailman-Version: 2.1.29 Precedence: list List-Id: automatic DPDK test reports List-Unsubscribe: , List-Archive: List-Post: List-Help: List-Subscribe: , Errors-To: test-report-bounces@dpdk.org Test-Label: iol-unit-arm64-testing Test-Status: SUCCESS http://dpdk.org/patch/156944 _Testing PASS_ Submitter: Kai Ji Date: Thursday, September 25 2025 10:22:23 DPDK git baseline: Repo:dpdk-next-crypto Branch: master CommitID:4159ea62922ce41566c7bab44655ad78bee85458 156944 --> testing pass Upstream job id: Generic-Unit-Test-DPDK#374971 Test environment and result as below: +------------------------------+---------------------------+------------------------------+--------------+----------------+ | Environment | cryptodev_sw_zuc_autotest | cryptodev_sw_snow3g_autotest | lpm_autotest | dpdk_unit_test | +==============================+===========================+==============================+==============+================+ | Debian 12 (arm) | PASS | PASS | SKIPPED | SKIPPED | +------------------------------+---------------------------+------------------------------+--------------+----------------+ | Ubuntu 20.04 | SKIPPED | SKIPPED | PASS | PASS | +------------------------------+---------------------------+------------------------------+--------------+----------------+ | CentOS Stream 10 | SKIPPED | SKIPPED | SKIPPED | PASS | +------------------------------+---------------------------+------------------------------+--------------+----------------+ | CentOS Stream 9 | SKIPPED | SKIPPED | SKIPPED | PASS | +------------------------------+---------------------------+------------------------------+--------------+----------------+ | Debian GNU/Linux 12 | SKIPPED | SKIPPED | SKIPPED | PASS | +------------------------------+---------------------------+------------------------------+--------------+----------------+ | Fedora Linux 40 | SKIPPED | SKIPPED | SKIPPED | PASS | +------------------------------+---------------------------+------------------------------+--------------+----------------+ | Ubuntu 22.04 | SKIPPED | SKIPPED | SKIPPED | PASS | +------------------------------+---------------------------+------------------------------+--------------+----------------+ | Fedora Linux 41 | SKIPPED | SKIPPED | SKIPPED | PASS | +------------------------------+---------------------------+------------------------------+--------------+----------------+ | Fedora Linux 42 | SKIPPED | SKIPPED | SKIPPED | PASS | +------------------------------+---------------------------+------------------------------+--------------+----------------+ | Red Hat Enterprise Linux 9.5 | SKIPPED | SKIPPED | SKIPPED | PASS | +------------------------------+---------------------------+------------------------------+--------------+----------------+ | Ubuntu 24.04 | SKIPPED | SKIPPED | SKIPPED | PASS | +------------------------------+---------------------------+------------------------------+--------------+----------------+ Debian 12 (arm) Kernel: Depends on container host Compiler: gcc (Debian 12.2.0-14) 12.2.0 Ubuntu 20.04 Kernel: 5.4 Compiler: gcc gcc (Ubuntu 9.4.0-1ubuntu1~20.04.2) 9.4.0 CentOS Stream 10 Kernel: 5.4 Compiler: gcc gcc (GCC) 14.2.1 20250110 (Red Hat 14.2.1-8) CentOS Stream 9 Kernel: 5.4 Compiler: gcc gcc (GCC) 11.5.0 20240719 (Red Hat 11.5.0-11) Debian GNU/Linux 12 Kernel: 5.4 Compiler: gcc gcc (Debian 12.2.0-14+deb12u1) 12.2.0 Fedora Linux 40 Kernel: 5.4 Compiler: gcc gcc (GCC) 14.2.1 20240912 (Red Hat 14.2.1-3) Ubuntu 22.04 Kernel: 5.15 Compiler: gcc gcc (Ubuntu 11.4.0-1ubuntu1~22.04.2) 11.4.0 Fedora Linux 41 Kernel: 5.4 Compiler: clang gcc (GCC) 14.3.1 20250523 (Red Hat 14.3.1-1) Fedora Linux 42 Kernel: 5.4 Compiler: gcc gcc (GCC) 15.2.1 20250808 (Red Hat 15.2.1-1) Red Hat Enterprise Linux 9.5 Kernel: 5.4 Compiler: gcc gcc (GCC) 11.5.0 20240719 (Red Hat 11.5.0-2) Ubuntu 24.04 Kernel: 5.4 Compiler: gcc gcc (Ubuntu 13.3.0-6ubuntu2~24.04) 13.3.0 To view detailed results, visit: https://lab.dpdk.org/results/dashboard/patchsets/34147/ UNH-IOL DPDK Community Lab To manage your email subscriptions, visit: https://lab.dpdk.org/results/dashboard/preferences/subscriptions/