From mboxrd@z Thu Jan 1 00:00:00 1970 Return-Path: Received: from mails.dpdk.org (mails.dpdk.org [217.70.189.124]) by inbox.dpdk.org (Postfix) with ESMTP id 891C046F78 for ; Fri, 26 Sep 2025 04:34:20 +0200 (CEST) Received: from mails.dpdk.org (localhost [127.0.0.1]) by mails.dpdk.org (Postfix) with ESMTP id 663D04042C; Fri, 26 Sep 2025 04:34:20 +0200 (CEST) Received: from mail-oa1-f97.google.com (mail-oa1-f97.google.com [209.85.160.97]) by mails.dpdk.org (Postfix) with ESMTP id 1FD51402E0 for ; Fri, 26 Sep 2025 04:34:19 +0200 (CEST) Received: by mail-oa1-f97.google.com with SMTP id 586e51a60fabf-30cce8c3afaso1477677fac.1 for ; Thu, 25 Sep 2025 19:34:19 -0700 (PDT) DKIM-Signature: v=1; a=rsa-sha256; c=relaxed/relaxed; d=iol.unh.edu; s=unh-iol; t=1758854058; x=1759458858; darn=dpdk.org; h=references:in-reply-to:cc:to:from:subject:message-id:date:from:to :cc:subject:date:message-id:reply-to; bh=wgOvjA5unmHGytAIZ2Om2PavX6cQF2v+HSOf4GGaP7c=; b=AEtMJqd4xpk5BTFSGfNQSN82odeepZHC30U1XgxPeX9AOxmzuR28LKfA8/vIC33uao ZS+qEzFDXTdckKamAjP1ipwfyV13/HQIN27slPWxx1tH9m/D41YOilU3OdfDXP5+8hpQ 06H23um4fht4XgWL0CR3upwZ5SIk/Bx+5lm8s= X-Google-DKIM-Signature: v=1; a=rsa-sha256; c=relaxed/relaxed; d=1e100.net; s=20230601; t=1758854058; x=1759458858; h=references:in-reply-to:cc:to:from:subject:message-id:date :x-gm-message-state:from:to:cc:subject:date:message-id:reply-to; bh=wgOvjA5unmHGytAIZ2Om2PavX6cQF2v+HSOf4GGaP7c=; b=dojOaW3tHaA3Z9nRaMBSpKt99p925TwryXDUcupNuaemFtfwNc+Abm69C5cwVbXXlt +pFxYbBRo/iyExJ6pfbnMzjPuK1yHYmJCZDI8mF41spdWKtAjUJCnOkZ9w2pZILpiWw3 WZkIisiapGpXiEvLU8+uV+OE/vGrPSO8wMWKLBnt/breT4fcaVICDdZDLrSFWgfuLcJe Ooizp5iv7wBxp1BXXKkZAH5Sx77CawJxIVUav+eB4LYRZQ9Vvu9f/g+q8TnJR3qf+5hY wJcBxQzEDVsb2WzNbELJtoe7bNq806MtqQYq+tb4aPUq1cIMXOdBvAGEwLq8OaUpasw5 jx1Q== X-Gm-Message-State: AOJu0YwEgh0/ZHuNGgsF7Ro4gywL7yclEpjChZDEMF8wcTLeDtCst2h+ 5wu5WRdgCkoITC9OZhalqsqgq0cfha7Wu1CHYFIAzR1pl9QxjQxtuB1huE0PHOvucUsdW0cCi6A Ejp/aSkwm2Pp74Pml0wMERT8/2KfRQHs7lFMX1yi0rWbH X-Gm-Gg: ASbGncsM+qucG07puWdyhsvUxncyRMoOTxJnNkhESmbnhpkaTxnIW7e8fO6Su1UEaGH U7f+N9IOs+d91C4ZLBY1o/0WLG4xfP3SQt3UjFFHQHqZO2Jp//R2pkmNaOEAChV/xuvcvpPsbEl o0I59v8mki6FweRAYKXEQKyxccoPcphV29K0atyGucoBhC2x9VHRcZcvUJNsO9ZMQVRbl/79jEI h23N1+9LaWO52e7wYLApGLgwc+8nyhaOU4UdNv+XVOOq7dYjNy7l8KKjTKv7JkTo4j4MFBsxr+5 TdKxNsrU46fZ6D+6lG7EJNGSZ5zhD/3DKznjy1udgqJk7Zp8ItCRHfYVx0mk8vW92ZKVm5td X-Google-Smtp-Source: AGHT+IHBA16sOpy0WXAgIN/WL/xe1+Hins+sL2LCt1W+sKPsvQxOcxtxAog/H6JXoOXj1IVjkVSSuYNM8dOI X-Received: by 2002:a05:6870:f009:b0:366:8f87:b1c4 with SMTP id 586e51a60fabf-3668f87d975mr1282982fac.18.1758854058336; Thu, 25 Sep 2025 19:34:18 -0700 (PDT) Received: from postal.iol.unh.edu (postal.iol.unh.edu. [132.177.123.84]) by smtp-relay.gmail.com with ESMTPS id 586e51a60fabf-363b49ab6b8sm277430fac.18.2025.09.25.19.34.18 (version=TLS1_2 cipher=ECDHE-ECDSA-AES128-GCM-SHA256 bits=128/128); Thu, 25 Sep 2025 19:34:18 -0700 (PDT) X-Relaying-Domain: iol.unh.edu Date: Thu, 25 Sep 2025 19:34:18 -0700 (PDT) Message-ID: <68d5fbaa.050a0220.68de1.08f6SMTPIN_ADDED_MISSING@mx.google.com> Received: from [172.21.0.3] (unknown [172.18.0.240]) by postal.iol.unh.edu (Postfix) with ESMTP id 6D8136051830; Thu, 25 Sep 2025 22:34:17 -0400 (EDT) Subject: |SUCCESS| pw156954 [PATCH] [v1] support multiple PF process flow tab From: dpdklab@iol.unh.edu To: Test Report Cc: dpdk-test-reports@iol.unh.edu, Stephen Hemminger In-Reply-To: <20250926010442.126854-1-zhang.tianhao2@zte.com.cn> References: <20250926010442.126854-1-zhang.tianhao2@zte.com.cn> Content-Type: text/plain X-BeenThere: test-report@dpdk.org X-Mailman-Version: 2.1.29 Precedence: list List-Id: automatic DPDK test reports List-Unsubscribe: , List-Archive: List-Post: List-Help: List-Subscribe: , Errors-To: test-report-bounces@dpdk.org Test-Label: iol-unit-amd64-testing Test-Status: SUCCESS http://dpdk.org/patch/156954 _Testing PASS_ Submitter: Tianhao Zhang Date: Friday, September 26 2025 01:04:42 DPDK git baseline: Repo:dpdk-next-net Branch: master CommitID:262824827107126b1c53943bce835f1dbbfd1150 156954 --> testing pass Upstream job id: Generic-Unit-Test-DPDK#375128 Test environment and result as below: +-------------------------------+----------------+ | Environment | dpdk_unit_test | +===============================+================+ | CentOS Stream 9 | PASS | +-------------------------------+----------------+ | CentOS Stream 10 | PASS | +-------------------------------+----------------+ | Fedora Linux 40 | PASS | +-------------------------------+----------------+ | Fedora Linux 41 | PASS | +-------------------------------+----------------+ | Debian GNU/Linux 12 | PASS | +-------------------------------+----------------+ | Fedora Linux 42 | PASS | +-------------------------------+----------------+ | Red Hat Enterprise Linux 8.10 | PASS | +-------------------------------+----------------+ | Ubuntu 22.04 | PASS | +-------------------------------+----------------+ | Red Hat Enterprise Linux 9.5 | PASS | +-------------------------------+----------------+ | Ubuntu 20.04 | PASS | +-------------------------------+----------------+ | Ubuntu 24.04 | PASS | +-------------------------------+----------------+ | Windows Server 2022 | PASS | +-------------------------------+----------------+ CentOS Stream 9 Kernel: 5.15 Compiler: gcc gcc (GCC) 11.5.0 20240719 (Red Hat 11.5.0-11) CentOS Stream 10 Kernel: 5.15 Compiler: gcc gcc (GCC) 14.2.1 20250110 (Red Hat 14.2.1-8) Fedora Linux 40 Kernel: 5.15 Compiler: gcc gcc (GCC) 14.2.1 20240912 (Red Hat 14.2.1-3) Fedora Linux 41 Kernel: 5.15 Compiler: clang gcc (GCC) 14.3.1 20250523 (Red Hat 14.3.1-1) Debian GNU/Linux 12 Kernel: 5.15 Compiler: gcc gcc (Debian 12.2.0-14+deb12u1) 12.2.0 Fedora Linux 42 Kernel: 5.15 Compiler: gcc gcc (GCC) 15.2.1 20250808 (Red Hat 15.2.1-1) Red Hat Enterprise Linux 8.10 Kernel: 5.15 Compiler: gcc gcc (GCC) 8.5.0 20210514 (Red Hat 8.5.0-22) Ubuntu 22.04 Kernel: 5.15 Compiler: gcc gcc (Ubuntu 11.4.0-1ubuntu1~22.04) 11.4.0 Red Hat Enterprise Linux 9.5 Kernel: 5.15 Compiler: gcc gcc (GCC) 11.5.0 20240719 (Red Hat 11.5.0-2) Ubuntu 20.04 Kernel: 5.15 Compiler: gcc gcc (Ubuntu 9.4.0-1ubuntu1~20.04.2) 9.4.0 Ubuntu 24.04 Kernel: 5.15 Compiler: gcc gcc (Ubuntu 13.3.0-6ubuntu2~24.04) 13.3.0 Windows Server 2022 Kernel: 10.0.20348.2031 Compiler: clang 15.0.7, gcc 14.1.0 (MinGW), and MSVC VS 19.39.33521 To view detailed results, visit: https://lab.dpdk.org/results/dashboard/patchsets/34151/ UNH-IOL DPDK Community Lab To manage your email subscriptions, visit: https://lab.dpdk.org/results/dashboard/preferences/subscriptions/