From mboxrd@z Thu Jan 1 00:00:00 1970 Return-Path: Received: from mails.dpdk.org (mails.dpdk.org [217.70.189.124]) by inbox.dpdk.org (Postfix) with ESMTP id E4BCE46F78 for ; Fri, 26 Sep 2025 04:39:01 +0200 (CEST) Received: from mails.dpdk.org (localhost [127.0.0.1]) by mails.dpdk.org (Postfix) with ESMTP id E02EA402E0; Fri, 26 Sep 2025 04:39:01 +0200 (CEST) Received: from mail-oa1-f97.google.com (mail-oa1-f97.google.com [209.85.160.97]) by mails.dpdk.org (Postfix) with ESMTP id B1D1B402E0 for ; Fri, 26 Sep 2025 04:39:00 +0200 (CEST) Received: by mail-oa1-f97.google.com with SMTP id 586e51a60fabf-35ba7c71bfdso1108839fac.3 for ; Thu, 25 Sep 2025 19:39:00 -0700 (PDT) DKIM-Signature: v=1; a=rsa-sha256; c=relaxed/relaxed; d=iol.unh.edu; s=unh-iol; t=1758854340; x=1759459140; darn=dpdk.org; h=references:in-reply-to:cc:to:from:subject:message-id:date:from:to :cc:subject:date:message-id:reply-to; bh=2bFUttOWeq88iIDT903bmn0hWCbWuJl7xOcMOi1esLM=; b=H+VXi77HaESrEgMtBAqamtu5c8jRjTwk/o4vCJI0cLVZAdg2e5agZWnlMze123bhlm 3z7F9vYgVyBGHo5iKPIkj5XV4pmxgFMeKFxUSW0KP588iD+E1rmkk7VNuF6Dj/Y1eD51 MVBUuwVzYW6o+U50Q39nN8HK3aD3ENsmA/28U= X-Google-DKIM-Signature: v=1; a=rsa-sha256; c=relaxed/relaxed; d=1e100.net; s=20230601; t=1758854340; x=1759459140; h=references:in-reply-to:cc:to:from:subject:message-id:date :x-gm-message-state:from:to:cc:subject:date:message-id:reply-to; bh=2bFUttOWeq88iIDT903bmn0hWCbWuJl7xOcMOi1esLM=; b=PXH3bY8lXf9MWzv9nYs5BBnXisVK3H0LGRxMP3xHu0Yh0dS5Y88MzMTEZozpxAPEeD 6geZ2Q61y7AaUqlFMSPFRuNspDsEXq2QMVtYzGn3b0lVEozL/MQqiamdkwBlN6evhqQL cdLE899rQxhVSFmg+Mt0GB3/Sd43jwM9Mz1w/zRxTDdkwcBZSE33C2fD54WitdQgrl2I oLUB4RqxwgH21jACOMMCVgz0EFd2l2dIJF8el4KMJ/ciYkSyJXHo9v3VcNYquPTOX/df +tKz6vaL3de8p/RhiAfEJBjG6S2vKIBnVUGAnHsq0lxoBuYK5VVAPWbUqboJfJ9Gmt+Q +DRw== X-Gm-Message-State: AOJu0YxFgXXtibHqPZRdUWNAHQPcCxOyINMK2X8UrPdXtoRJEsaOOesx UV71YPTmmaSFwOPWCwapLl6wjZHp73jgc7gnjcU0PNAR4nHY1vAikB/2lFGLydzJdJO35hSuOKY Wywt9Pd4t7vKL028skj77pqYo6LYI/hrRFvGbc0vllLMTF+nO0utVHbRdp2h5 X-Gm-Gg: ASbGnctUhZjQabI5MHZgewUAlofLrKLqEonKVduz7CCmqLaWotapsUBeDNGGxGbeMgq I5mdCQrK3/V8AP9XSalfzCahC5V8TanUp4DJT/4i498WL+YbvhScLbPQfenUWT2a2DzsYCGoKms Z/Cd5BLH1/9oYUaCClCTubQhqFgN3xp7j46F1qYppXYA13jVpMlxCobu1PzJEIrrfAplItiNvjS 7PCbG6gxsE4kuvzJe+IHxV2jhsApq8Ikv5Sg3zLmLQzenEVkR8Ht4urc2uBurU5ihvXjnXnqHDG Y5R4t7TpBOXHGp5eAP04yPfkMxGc4ulM0rEN/d/Ql2EfJiH3pw== X-Google-Smtp-Source: AGHT+IFYAlHW0wiic5WIYCPL8Qp6dbEdCi9coO0UIiG8/we9JdS6128ZuDTZfDXeI2XTyLsyohY7jAS4mqza X-Received: by 2002:a05:6870:420f:b0:35b:fde9:290f with SMTP id 586e51a60fabf-35ebee23533mr3033535fac.10.1758854340037; Thu, 25 Sep 2025 19:39:00 -0700 (PDT) Received: from postal.iol.unh.edu (postal.iol.unh.edu. [2606:4100:3880:1234::84]) by smtp-relay.gmail.com with ESMTPS id 586e51a60fabf-363a5927c9fsm255125fac.7.2025.09.25.19.38.59 (version=TLS1_2 cipher=ECDHE-ECDSA-AES128-GCM-SHA256 bits=128/128); Thu, 25 Sep 2025 19:39:00 -0700 (PDT) X-Relaying-Domain: iol.unh.edu Date: Thu, 25 Sep 2025 19:39:00 -0700 (PDT) Message-ID: <68d5fcc4.050a0220.18619c.f60cSMTPIN_ADDED_MISSING@mx.google.com> Received: from [172.21.0.3] (unknown [172.18.0.240]) by postal.iol.unh.edu (Postfix) with ESMTP id 87F9F6051830; Thu, 25 Sep 2025 22:38:59 -0400 (EDT) Subject: |SUCCESS| pw156954 [PATCH] [v1] support multiple PF process flow tab From: dpdklab@iol.unh.edu To: Test Report Cc: dpdk-test-reports@iol.unh.edu, Stephen Hemminger In-Reply-To: <20250926010442.126854-1-zhang.tianhao2@zte.com.cn> References: <20250926010442.126854-1-zhang.tianhao2@zte.com.cn> Content-Type: text/plain X-BeenThere: test-report@dpdk.org X-Mailman-Version: 2.1.29 Precedence: list List-Id: automatic DPDK test reports List-Unsubscribe: , List-Archive: List-Post: List-Help: List-Subscribe: , Errors-To: test-report-bounces@dpdk.org Test-Label: iol-compile-amd64-testing Test-Status: SUCCESS http://dpdk.org/patch/156954 _Testing PASS_ Submitter: Tianhao Zhang Date: Friday, September 26 2025 01:04:42 DPDK git baseline: Repo:dpdk-next-net Branch: master CommitID:262824827107126b1c53943bce835f1dbbfd1150 156954 --> testing pass Upstream job id: Generic-DPDK-Compile-Meson#428692 Test environment and result as below: +-------------------------------+--------------------+-------------------+-------------------------+------------------+-------------------+----------------------+ | Environment | dpdk_meson_compile | dpdk_compile_spdk | dpdk_llvm_clang_compile | dpdk_compile_ovs | dpdk_msvc_compile | dpdk_mingw64_compile | +===============================+====================+===================+=========================+==================+===================+======================+ | CentOS Stream 9 | PASS | PASS | SKIPPED | SKIPPED | SKIPPED | SKIPPED | +-------------------------------+--------------------+-------------------+-------------------------+------------------+-------------------+----------------------+ | Ubuntu 20.04 | PASS | SKIPPED | SKIPPED | SKIPPED | SKIPPED | SKIPPED | +-------------------------------+--------------------+-------------------+-------------------------+------------------+-------------------+----------------------+ | CentOS Stream 10 | PASS | SKIPPED | SKIPPED | SKIPPED | SKIPPED | SKIPPED | +-------------------------------+--------------------+-------------------+-------------------------+------------------+-------------------+----------------------+ | Debian GNU/Linux 12 | PASS | PASS | SKIPPED | SKIPPED | SKIPPED | SKIPPED | +-------------------------------+--------------------+-------------------+-------------------------+------------------+-------------------+----------------------+ | Fedora Linux 42 | PASS | PASS | SKIPPED | PASS | SKIPPED | SKIPPED | +-------------------------------+--------------------+-------------------+-------------------------+------------------+-------------------+----------------------+ | openSUSE Leap 15.6 | PASS | SKIPPED | SKIPPED | SKIPPED | SKIPPED | SKIPPED | +-------------------------------+--------------------+-------------------+-------------------------+------------------+-------------------+----------------------+ | FreeBSD 14.2 | PASS | SKIPPED | SKIPPED | SKIPPED | SKIPPED | SKIPPED | +-------------------------------+--------------------+-------------------+-------------------------+------------------+-------------------+----------------------+ | Red Hat Enterprise Linux 8.10 | PASS | SKIPPED | SKIPPED | SKIPPED | SKIPPED | SKIPPED | +-------------------------------+--------------------+-------------------+-------------------------+------------------+-------------------+----------------------+ | Red Hat Enterprise Linux 9.5 | PASS | SKIPPED | SKIPPED | SKIPPED | SKIPPED | SKIPPED | +-------------------------------+--------------------+-------------------+-------------------------+------------------+-------------------+----------------------+ | Ubuntu 22.04 | PASS | PASS | SKIPPED | SKIPPED | SKIPPED | SKIPPED | +-------------------------------+--------------------+-------------------+-------------------------+------------------+-------------------+----------------------+ | Ubuntu 24.04 | PASS | PASS | SKIPPED | PASS | SKIPPED | SKIPPED | +-------------------------------+--------------------+-------------------+-------------------------+------------------+-------------------+----------------------+ | Alpine Linux 3.22.0 | PASS | SKIPPED | SKIPPED | SKIPPED | SKIPPED | SKIPPED | +-------------------------------+--------------------+-------------------+-------------------------+------------------+-------------------+----------------------+ | Windows Server 2022 | SKIPPED | SKIPPED | PASS | SKIPPED | PASS | PASS | +-------------------------------+--------------------+-------------------+-------------------------+------------------+-------------------+----------------------+ CentOS Stream 9 Kernel: 5.15 Compiler: gcc gcc (GCC) 11.5.0 20240719 (Red Hat 11.5.0-11) Ubuntu 20.04 Kernel: 4.19 Compiler: gcc gcc (Ubuntu 9.4.0-1ubuntu1~20.04.2) 9.4.0 CentOS Stream 10 Kernel: 5.15 Compiler: gcc gcc (GCC) 14.2.1 20250110 (Red Hat 14.2.1-8) Debian GNU/Linux 12 Kernel: 5.15 Compiler: gcc gcc (Debian 12.2.0-14+deb12u1) 12.2.0 Fedora Linux 42 Kernel: 5.15 Compiler: clang gcc (GCC) 15.2.1 20250808 (Red Hat 15.2.1-1) openSUSE Leap 15.6 Kernel: 5.15 Compiler: gcc gcc (SUSE Linux) 7.5.0 FreeBSD 14.2 Kernel: 14.2-RELEASE Compiler: clang 18.1.6 Red Hat Enterprise Linux 8.10 Kernel: 5.15 Compiler: gcc gcc (GCC) 8.5.0 20210514 (Red Hat 8.5.0-22) Red Hat Enterprise Linux 9.5 Kernel: 5.15 Compiler: gcc gcc (GCC) 11.5.0 20240719 (Red Hat 11.5.0-2) Ubuntu 22.04 Kernel: 5.15 Compiler: gcc gcc (Ubuntu 11.4.0-1ubuntu1~22.04) 11.4.0 Ubuntu 24.04 Kernel: 5.15 Compiler: gcc gcc (Ubuntu 13.3.0-6ubuntu2~24.04) 13.3.0 Alpine Linux 3.22.0 Kernel: 5.15 Compiler: gcc gcc (Alpine 14.2.0) 14.2.0 Windows Server 2022 Kernel: 10.0.20348.2031 Compiler: clang 15.0.7, gcc 14.1.0 (MinGW), and MSVC VS 19.39.33521 To view detailed results, visit: https://lab.dpdk.org/results/dashboard/patchsets/34151/ UNH-IOL DPDK Community Lab To manage your email subscriptions, visit: https://lab.dpdk.org/results/dashboard/preferences/subscriptions/