From mboxrd@z Thu Jan 1 00:00:00 1970 Return-Path: Received: from mails.dpdk.org (mails.dpdk.org [217.70.189.124]) by inbox.dpdk.org (Postfix) with ESMTP id CE73546F78 for ; Fri, 26 Sep 2025 04:55:48 +0200 (CEST) Received: from mails.dpdk.org (localhost [127.0.0.1]) by mails.dpdk.org (Postfix) with ESMTP id CB07C4042C; Fri, 26 Sep 2025 04:55:48 +0200 (CEST) Received: from mail-pj1-f99.google.com (mail-pj1-f99.google.com [209.85.216.99]) by mails.dpdk.org (Postfix) with ESMTP id 8F8794042C for ; Fri, 26 Sep 2025 04:55:47 +0200 (CEST) Received: by mail-pj1-f99.google.com with SMTP id 98e67ed59e1d1-32ed19ce5a3so1435670a91.0 for ; Thu, 25 Sep 2025 19:55:47 -0700 (PDT) DKIM-Signature: v=1; a=rsa-sha256; c=relaxed/relaxed; d=iol.unh.edu; s=unh-iol; t=1758855347; x=1759460147; darn=dpdk.org; h=references:in-reply-to:cc:to:from:subject:message-id:date:from:to :cc:subject:date:message-id:reply-to; bh=8NvyxawQniRkDNO3Xk9BxP7QnNtvoZ13Jy+aLUhsJ6U=; b=LLc4pyQbcP9tgU5FJXnu9pOfB3GLiAVFM8uFvSgZD3J+ihyKqPr+1J4vbbP7Thp5NM Pt3rHWZTzjFrMCMQEHCbq+omoS/NYKn9mIZHDUHAs7rNypiq1YRFPDoi+ttH1H1GiwY3 U+vUoGdmTApKPuzzV8Rsgme2JzeNHggTI31rc= X-Google-DKIM-Signature: v=1; a=rsa-sha256; c=relaxed/relaxed; d=1e100.net; s=20230601; t=1758855347; x=1759460147; h=references:in-reply-to:cc:to:from:subject:message-id:date :x-gm-message-state:from:to:cc:subject:date:message-id:reply-to; bh=8NvyxawQniRkDNO3Xk9BxP7QnNtvoZ13Jy+aLUhsJ6U=; b=rNliPtb9AzB4uXfRdq3W8Yti+yY7YeN4dN4Wh1YhXhyvEyfVObgvPlSB/BOSMQZGFt IIoIw+MccgtdKFOrLc3yYqM7l2RiBUPBXMxPYUW0eOOdwuzEBUP8BuL9HUAek0j55dDy be6j9gUU06LXf0kWpnq/r+hoTFYrUEz8AUoJaDNVww0JbT3vKjZxjfZmlEfFBrAhh+at PHOzYwCzxgsvMKUjH1Wz5Q7CWbiGOO1qgxJBbBgvXBBEKbI3IYCnbtoNBnFGw1KGOJ3o Bw4RDeY5r1vp8+Z2HPuRMZ4UOE39h+O00zKsQBADReKZT/oIkqH7VeIgHQU7y8NDtK9m 1WLQ== X-Gm-Message-State: AOJu0Yx5VFZMgqhxNpTaIKNRrCnChnpzEytBDwuhwLNBceZrwDhhgEuw UyKFvoqKyCI04NnzztRXO1rKlc4BiEgaiBkSpjR3wFJeJdVXE5xdMf4q/XWmlajy+xwLZ3J1N32 KzMjb9AhKoidN4WqLyVJILqrqavOSuE6j5sxkR9URHlB8pp4t+RygcX/tE4kT X-Gm-Gg: ASbGncuFRDBcZnIE28lcgP6B4yu6oqaO/bwszoDTEq2r/lksGopjq1zZiAEr99f2lUA DHqCV2YnFQxLM9Wo/V1/jXnZ7jNIdyvZgcoQpaEUFpvw9adCk5k7V+RHurCkG/u9V3vsTt9Pk8W xoSSK/l64FViQiZxZsHUrygfNUh6yX5mDltyxZKbmNYVvDVfGghttXOXEUB0jtEtyXvqHvmeDuA yoA6f5zjhqsGDTVwq4Y2k7t/SPPT/tll5KkCo4I64pjChQkrZm9SmRWvtyU/r1b6IplOguBrJH+ cMRraIIaS7SSijdj3n5rLvVc+B0NCEKJKT5/w2jJDwX5Bu6D9A== X-Google-Smtp-Source: AGHT+IFYpooRVQyU3oZ20AqqJ46ZwI0mCET8aWKCIlVhAbrdk67l0KLOlqjQfpmJ6utU94hJ2X+yPMHq7oGD X-Received: by 2002:a17:90b:4d83:b0:32e:a10b:ce33 with SMTP id 98e67ed59e1d1-3342a2b94b5mr5884553a91.21.1758855346680; Thu, 25 Sep 2025 19:55:46 -0700 (PDT) Received: from postal.iol.unh.edu (postal.iol.unh.edu. [2606:4100:3880:1234::84]) by smtp-relay.gmail.com with ESMTPS id 98e67ed59e1d1-334731eb63fsm192668a91.5.2025.09.25.19.55.46 (version=TLS1_2 cipher=ECDHE-ECDSA-AES128-GCM-SHA256 bits=128/128); Thu, 25 Sep 2025 19:55:46 -0700 (PDT) X-Relaying-Domain: iol.unh.edu Date: Thu, 25 Sep 2025 19:55:46 -0700 (PDT) Message-ID: <68d600b2.170a0220.355859.b5d2SMTPIN_ADDED_MISSING@mx.google.com> Received: from [172.21.0.2] (unknown [172.18.0.240]) by postal.iol.unh.edu (Postfix) with ESMTP id F06F16051830; Thu, 25 Sep 2025 22:55:45 -0400 (EDT) Subject: |SUCCESS| pw156955 [PATCH] [v2] net/zxdh: support multiple PF proces From: dpdklab@iol.unh.edu To: Test Report Cc: dpdk-test-reports@iol.unh.edu, Stephen Hemminger In-Reply-To: <20250926012806.127837-1-zhang.tianhao2@zte.com.cn> References: <20250926012806.127837-1-zhang.tianhao2@zte.com.cn> Content-Type: text/plain X-BeenThere: test-report@dpdk.org X-Mailman-Version: 2.1.29 Precedence: list List-Id: automatic DPDK test reports List-Unsubscribe: , List-Archive: List-Post: List-Help: List-Subscribe: , Errors-To: test-report-bounces@dpdk.org Test-Label: iol-unit-amd64-testing Test-Status: SUCCESS http://dpdk.org/patch/156955 _Testing PASS_ Submitter: Tianhao Zhang Date: Friday, September 26 2025 01:28:06 DPDK git baseline: Repo:dpdk-next-net Branch: master CommitID:262824827107126b1c53943bce835f1dbbfd1150 156955 --> testing pass Upstream job id: Generic-VM-Unit-Test-DPDK#31389 Test environment and result as below: +-------------------------------+----------------+ | Environment | dpdk_unit_test | +===============================+================+ | CentOS Stream 9 | PASS | +-------------------------------+----------------+ | CentOS Stream 10 | PASS | +-------------------------------+----------------+ | Fedora Linux 40 | PASS | +-------------------------------+----------------+ | Debian GNU/Linux 12 | PASS | +-------------------------------+----------------+ | Fedora Linux 41 | PASS | +-------------------------------+----------------+ | Fedora Linux 42 | PASS | +-------------------------------+----------------+ | Red Hat Enterprise Linux 8.10 | PASS | +-------------------------------+----------------+ | Ubuntu 22.04 | PASS | +-------------------------------+----------------+ | Red Hat Enterprise Linux 9.5 | PASS | +-------------------------------+----------------+ | Ubuntu 24.04 | PASS | +-------------------------------+----------------+ | Ubuntu 20.04 | PASS | +-------------------------------+----------------+ | Windows Server 2022 | PASS | +-------------------------------+----------------+ CentOS Stream 9 Kernel: 5.15 Compiler: gcc gcc (GCC) 11.5.0 20240719 (Red Hat 11.5.0-11) CentOS Stream 10 Kernel: 5.15 Compiler: gcc gcc (GCC) 14.2.1 20250110 (Red Hat 14.2.1-8) Fedora Linux 40 Kernel: 5.15 Compiler: gcc gcc (GCC) 14.2.1 20240912 (Red Hat 14.2.1-3) Debian GNU/Linux 12 Kernel: 5.15 Compiler: gcc gcc (Debian 12.2.0-14+deb12u1) 12.2.0 Fedora Linux 41 Kernel: 5.15 Compiler: gcc gcc (GCC) 14.3.1 20250523 (Red Hat 14.3.1-1) Fedora Linux 42 Kernel: 5.15 Compiler: clang gcc (GCC) 15.2.1 20250808 (Red Hat 15.2.1-1) Red Hat Enterprise Linux 8.10 Kernel: 5.15 Compiler: gcc gcc (GCC) 8.5.0 20210514 (Red Hat 8.5.0-22) Ubuntu 22.04 Kernel: 5.15 Compiler: gcc gcc (Ubuntu 11.4.0-1ubuntu1~22.04) 11.4.0 Red Hat Enterprise Linux 9.5 Kernel: 5.15 Compiler: gcc gcc (GCC) 11.5.0 20240719 (Red Hat 11.5.0-2) Ubuntu 24.04 Kernel: 5.15 Compiler: gcc gcc (Ubuntu 13.3.0-6ubuntu2~24.04) 13.3.0 Ubuntu 20.04 Kernel: 5.15 Compiler: gcc gcc (Ubuntu 9.4.0-1ubuntu1~20.04.2) 9.4.0 Windows Server 2022 Kernel: 10.0.20348.2031 Compiler: clang 15.0.7, gcc 14.1.0 (MinGW), and MSVC VS 19.39.33521 To view detailed results, visit: https://lab.dpdk.org/results/dashboard/patchsets/34152/ UNH-IOL DPDK Community Lab To manage your email subscriptions, visit: https://lab.dpdk.org/results/dashboard/preferences/subscriptions/