From mboxrd@z Thu Jan 1 00:00:00 1970 Return-Path: Received: from mails.dpdk.org (mails.dpdk.org [217.70.189.124]) by inbox.dpdk.org (Postfix) with ESMTP id 63F6D46F78 for ; Fri, 26 Sep 2025 04:59:35 +0200 (CEST) Received: from mails.dpdk.org (localhost [127.0.0.1]) by mails.dpdk.org (Postfix) with ESMTP id 4480D4042C; Fri, 26 Sep 2025 04:59:35 +0200 (CEST) Received: from mail-il1-f228.google.com (mail-il1-f228.google.com [209.85.166.228]) by mails.dpdk.org (Postfix) with ESMTP id D283A4042C for ; Fri, 26 Sep 2025 04:59:33 +0200 (CEST) Received: by mail-il1-f228.google.com with SMTP id e9e14a558f8ab-425635acc4dso16354905ab.1 for ; Thu, 25 Sep 2025 19:59:33 -0700 (PDT) DKIM-Signature: v=1; a=rsa-sha256; c=relaxed/relaxed; d=iol.unh.edu; s=unh-iol; t=1758855573; x=1759460373; darn=dpdk.org; h=references:in-reply-to:cc:to:from:subject:message-id:date:from:to :cc:subject:date:message-id:reply-to; bh=a/SSqq0cw2Yaqnf9V5BDMEbju7DkLjF+AcxtiGv0ckI=; b=My1g1kIwi2A4V3g/EKoYgAgoyuYkHUcudedQV7K/UW99OQ3FD4ZqSJRmmiJ6E0CSC6 PanKjIk5h1sw1RYmOpZFalmSFVSC9uv37zX8NF3SpJOVb24DQgIesLdvbx0A05QnfH9F Uh5vkk+eYGwV7JTv20vfFkRgCVzi14XeHsvMg= X-Google-DKIM-Signature: v=1; a=rsa-sha256; c=relaxed/relaxed; d=1e100.net; s=20230601; t=1758855573; x=1759460373; h=references:in-reply-to:cc:to:from:subject:message-id:date :x-gm-message-state:from:to:cc:subject:date:message-id:reply-to; bh=a/SSqq0cw2Yaqnf9V5BDMEbju7DkLjF+AcxtiGv0ckI=; b=b8SoIKlW+UZ2mfPt8B6AQo+8XU1wNVANd/awoqHi5DVRS3916o3kzxjYK5LJAV/V4B aSlGm6ogRcHOH0DYjbW89hUv5Qhx4AupX/L0huPnpyqDL6ZaTNfpzlUqr7CYUAucKI1j RzbBIy2OE1pS9f7LTa8QrZ7PRMAuctTmxG50XYRVG6VUTKNqpiTSuNlJYT8TZa3Jught 7VPa64DtKQtME97yQlkBquGc43eshKjT4Qnwe57HRassxo+MEjNzNJNSPVkaxllCG3fn zCCTRPXYzu5u3a7rmubJpOkOjt1XOJWjdX6dLIjVKS2EvHFhKoSOoBH873mQvuTT4OzJ NVBg== X-Gm-Message-State: AOJu0Yy+b5dhnFJrqGsg0bJ/ZHDh0COTYEihKKZXPjn54sYbwWwvJfjn hPQsCoV17UEVE2sKcOPrmUKMihZN+2eIAh3s4B2RBiG/mC3hUMzgLEqQPwBeNf+oTGwFxwoAOfg mgfj0mFhgE8FnSpg0FkJw1fBHmcwLvauNeP9PR1fsVIC4 X-Gm-Gg: ASbGnctlWv0+syIxb9TCAH3NzFV2nVREmOYzZbZnSMPp4ReLXjgw2exZ7ygW8ESCCMP uKadWiczyOSe2z0fxn/1gsgu68S1ZyWH4NJZoOj/21B/48ltb57YRU82NedWg8vYFOrvKPJutwT hPHa9kcOdoSTrBSB7H1FgZKrjMwqwhqw/ormavbFec46Doh6gqecY/czRWCwXNWAy1ZkVEae2kf +xNzQ4CDBypAGHZ23CpHS+a3vx4EMHeVSoLdkZe8RjiEVKYsKQ767738FkU5sZPobCk4m0TColf QeqV4EYISp7HID34eEG4NRdrbrRvtFWouBr6ssmD6O2za84ewHYiULtw0cN0811rgp4f0vvR X-Google-Smtp-Source: AGHT+IGOKyzSLkNW6YbfVJ+U9yCVbZFE0CcC1oXBkb1UvbP+V3ne/7kBS3Fdjpt5geIF6E821jOS6Whj501z X-Received: by 2002:a05:6e02:490d:b0:418:84eb:ea20 with SMTP id e9e14a558f8ab-4259562f43bmr84467755ab.15.1758855573063; Thu, 25 Sep 2025 19:59:33 -0700 (PDT) Received: from postal.iol.unh.edu (postal.iol.unh.edu. [132.177.123.84]) by smtp-relay.gmail.com with ESMTPS id e9e14a558f8ab-425bf6d54b9sm2313095ab.25.2025.09.25.19.59.32 (version=TLS1_2 cipher=ECDHE-ECDSA-AES128-GCM-SHA256 bits=128/128); Thu, 25 Sep 2025 19:59:33 -0700 (PDT) X-Relaying-Domain: iol.unh.edu Date: Thu, 25 Sep 2025 19:59:33 -0700 (PDT) Message-ID: <68d60195.920a0220.265fe3.dce9SMTPIN_ADDED_MISSING@mx.google.com> Received: from [172.21.0.2] (unknown [172.18.0.240]) by postal.iol.unh.edu (Postfix) with ESMTP id 9635D6051830; Thu, 25 Sep 2025 22:59:32 -0400 (EDT) Subject: |SUCCESS| pw156955 [PATCH] [v2] net/zxdh: support multiple PF proces From: dpdklab@iol.unh.edu To: Test Report Cc: dpdk-test-reports@iol.unh.edu, Stephen Hemminger In-Reply-To: <20250926012806.127837-1-zhang.tianhao2@zte.com.cn> References: <20250926012806.127837-1-zhang.tianhao2@zte.com.cn> Content-Type: text/plain X-BeenThere: test-report@dpdk.org X-Mailman-Version: 2.1.29 Precedence: list List-Id: automatic DPDK test reports List-Unsubscribe: , List-Archive: List-Post: List-Help: List-Subscribe: , Errors-To: test-report-bounces@dpdk.org Test-Label: iol-compile-amd64-testing Test-Status: SUCCESS http://dpdk.org/patch/156955 _Testing PASS_ Submitter: Tianhao Zhang Date: Friday, September 26 2025 01:28:06 DPDK git baseline: Repo:dpdk-next-net Branch: master CommitID:262824827107126b1c53943bce835f1dbbfd1150 156955 --> testing pass Upstream job id: Generic-DPDK-Compile-Meson#428707 Test environment and result as below: +-------------------------------+--------------------+-------------------+------------------+-------------------+-------------------------+----------------------+ | Environment | dpdk_meson_compile | dpdk_compile_spdk | dpdk_compile_ovs | dpdk_msvc_compile | dpdk_llvm_clang_compile | dpdk_mingw64_compile | +===============================+====================+===================+==================+===================+=========================+======================+ | CentOS Stream 9 | PASS | PASS | SKIPPED | SKIPPED | SKIPPED | SKIPPED | +-------------------------------+--------------------+-------------------+------------------+-------------------+-------------------------+----------------------+ | CentOS Stream 10 | PASS | SKIPPED | SKIPPED | SKIPPED | SKIPPED | SKIPPED | +-------------------------------+--------------------+-------------------+------------------+-------------------+-------------------------+----------------------+ | Debian GNU/Linux 12 | PASS | PASS | SKIPPED | SKIPPED | SKIPPED | SKIPPED | +-------------------------------+--------------------+-------------------+------------------+-------------------+-------------------------+----------------------+ | Fedora Linux 42 | PASS | PASS | PASS | SKIPPED | SKIPPED | SKIPPED | +-------------------------------+--------------------+-------------------+------------------+-------------------+-------------------------+----------------------+ | Ubuntu 20.04 | PASS | SKIPPED | SKIPPED | SKIPPED | SKIPPED | SKIPPED | +-------------------------------+--------------------+-------------------+------------------+-------------------+-------------------------+----------------------+ | FreeBSD 14.2 | PASS | SKIPPED | SKIPPED | SKIPPED | SKIPPED | SKIPPED | +-------------------------------+--------------------+-------------------+------------------+-------------------+-------------------------+----------------------+ | openSUSE Leap 15.6 | PASS | SKIPPED | SKIPPED | SKIPPED | SKIPPED | SKIPPED | +-------------------------------+--------------------+-------------------+------------------+-------------------+-------------------------+----------------------+ | Red Hat Enterprise Linux 8.10 | PASS | SKIPPED | SKIPPED | SKIPPED | SKIPPED | SKIPPED | +-------------------------------+--------------------+-------------------+------------------+-------------------+-------------------------+----------------------+ | Red Hat Enterprise Linux 9.5 | PASS | SKIPPED | SKIPPED | SKIPPED | SKIPPED | SKIPPED | +-------------------------------+--------------------+-------------------+------------------+-------------------+-------------------------+----------------------+ | Ubuntu 22.04 | PASS | PASS | SKIPPED | SKIPPED | SKIPPED | SKIPPED | +-------------------------------+--------------------+-------------------+------------------+-------------------+-------------------------+----------------------+ | Ubuntu 24.04 | PASS | PASS | PASS | SKIPPED | SKIPPED | SKIPPED | +-------------------------------+--------------------+-------------------+------------------+-------------------+-------------------------+----------------------+ | Alpine Linux 3.22.0 | PASS | SKIPPED | SKIPPED | SKIPPED | SKIPPED | SKIPPED | +-------------------------------+--------------------+-------------------+------------------+-------------------+-------------------------+----------------------+ | Windows Server 2022 | SKIPPED | SKIPPED | SKIPPED | PASS | PASS | PASS | +-------------------------------+--------------------+-------------------+------------------+-------------------+-------------------------+----------------------+ CentOS Stream 9 Kernel: 5.15 Compiler: gcc gcc (GCC) 11.5.0 20240719 (Red Hat 11.5.0-11) CentOS Stream 10 Kernel: 5.15 Compiler: gcc gcc (GCC) 14.2.1 20250110 (Red Hat 14.2.1-8) Debian GNU/Linux 12 Kernel: 5.15 Compiler: gcc gcc (Debian 12.2.0-14+deb12u1) 12.2.0 Fedora Linux 42 Kernel: 5.15 Compiler: clang gcc (GCC) 15.2.1 20250808 (Red Hat 15.2.1-1) Ubuntu 20.04 Kernel: 4.19 Compiler: gcc gcc (Ubuntu 9.4.0-1ubuntu1~20.04.2) 9.4.0 FreeBSD 14.2 Kernel: 14.2-RELEASE Compiler: clang 18.1.6 openSUSE Leap 15.6 Kernel: 5.15 Compiler: gcc gcc (SUSE Linux) 7.5.0 Red Hat Enterprise Linux 8.10 Kernel: 5.15 Compiler: gcc gcc (GCC) 8.5.0 20210514 (Red Hat 8.5.0-22) Red Hat Enterprise Linux 9.5 Kernel: 5.15 Compiler: gcc gcc (GCC) 11.5.0 20240719 (Red Hat 11.5.0-2) Ubuntu 22.04 Kernel: 5.15 Compiler: gcc gcc (Ubuntu 11.4.0-1ubuntu1~22.04) 11.4.0 Ubuntu 24.04 Kernel: 5.15 Compiler: gcc gcc (Ubuntu 13.3.0-6ubuntu2~24.04) 13.3.0 Alpine Linux 3.22.0 Kernel: 5.15 Compiler: gcc gcc (Alpine 14.2.0) 14.2.0 Windows Server 2022 Kernel: 10.0.20348.2031 Compiler: clang 15.0.7, gcc 14.1.0 (MinGW), and MSVC VS 19.39.33521 To view detailed results, visit: https://lab.dpdk.org/results/dashboard/patchsets/34152/ UNH-IOL DPDK Community Lab To manage your email subscriptions, visit: https://lab.dpdk.org/results/dashboard/preferences/subscriptions/