From mboxrd@z Thu Jan 1 00:00:00 1970 Return-Path: Received: from mails.dpdk.org (mails.dpdk.org [217.70.189.124]) by inbox.dpdk.org (Postfix) with ESMTP id D81F646F78 for ; Fri, 26 Sep 2025 05:37:58 +0200 (CEST) Received: from mails.dpdk.org (localhost [127.0.0.1]) by mails.dpdk.org (Postfix) with ESMTP id B732C402E0; Fri, 26 Sep 2025 05:37:58 +0200 (CEST) Received: from mail-io1-f98.google.com (mail-io1-f98.google.com [209.85.166.98]) by mails.dpdk.org (Postfix) with ESMTP id 97A0F402E0 for ; Fri, 26 Sep 2025 05:37:57 +0200 (CEST) Received: by mail-io1-f98.google.com with SMTP id ca18e2360f4ac-90926724bceso73162439f.1 for ; Thu, 25 Sep 2025 20:37:57 -0700 (PDT) DKIM-Signature: v=1; a=rsa-sha256; c=relaxed/relaxed; d=iol.unh.edu; s=unh-iol; t=1758857877; x=1759462677; darn=dpdk.org; h=cc:to:from:subject:message-id:date:from:to:cc:subject:date :message-id:reply-to; bh=8OyQWoDQIerEH1t0QhlpMXJs4G5LfqC+OIQEwltq/S4=; b=cebrAV+0d6GAP6zo+zn1nqq1CFIUII+qHQdRzk5CeY1P6e//DjErPIJLa2ECLYSL1C n5QqMkjakXSthC2UJzanceEFbhKE1oiZ/uT/mt8v2RbL1KTgqIDyWBjcOcNbJxnGG7k+ iJMYBj4Ss8Qu2wouLa5y1tOAjaGR0m5ANbyJ4= X-Google-DKIM-Signature: v=1; a=rsa-sha256; c=relaxed/relaxed; d=1e100.net; s=20230601; t=1758857877; x=1759462677; h=cc:to:from:subject:message-id:date:x-gm-message-state:from:to:cc :subject:date:message-id:reply-to; bh=8OyQWoDQIerEH1t0QhlpMXJs4G5LfqC+OIQEwltq/S4=; b=DaS/2iJ7UJupB9MsiyceQ0N8ErIT5e8Uk0uxNGT581sHdyIWZmxOr3eJQLWrjIGjgL p65XjE96KyCCgvhahIZPtewSreuCj7RFokqivcQJjgfx2LpSx2B++k+DNe3ZtuCpvpbf 6qcbwX5ovVTscv8qOqFd6mq6zNOC5ClbZ3XVMZDxLpONWcjp0AaQIrtka3vaQwO+5BnN GJuzzP0Y2ibiZsf1FmkUt8z2kDSukljsbICAHJNacdFkQTs8ayTdWH0q2hjxqWxFbZbz nDFD3w05F/yG+QMPN6I2UF1GeRBlkvcr7n9pUZYdTVemiXFWdSrz+of1MRA05XDkWMZJ GxVQ== X-Gm-Message-State: AOJu0YzB4rffogn+1wPsdGe14Y2fg33tRrT2WmZmt9fppMTQNFu3R7CF J2KJL4h2RW8kwV3O+ZxSOzRV77IBG4Qez56U0iWtSjoqy/HXV4n07MM8k62p/OCNKa2Sa8p4pn3 INzYjuLVu6eKerexthQ2hfvAlo1E/iKCvBBSJzIxR4z96wFCUVdQVLZFUQqta X-Gm-Gg: ASbGnctBc7/DTeIIl+NRLqdwKn2LixPPmxYTyAGqq59BACEn/g4O7rEHJGKfRIr2TFV 3RmmdvRfutnog5Mgz3noFZm1nQW/O4S1tmyuSmXzPCOU/ZTH17F7kJ7+zyTf9Z1ElJUPbhDvBmN X8lrIEUcXDkyq4Ei1LpYq/H57SRZtOSCfApz/IVe1Hbhoo3ANWIXqKXonF8JlzfTZnH3eSQVVXx zok2T8ze/S2DODSJcFjgBb7FhbVkEoaEJFhR6P7Yi3fFzlpJfUuK1ra5PzkawRvOMXbBs81hV7h xTYdZ/lc0jvjGhHVCOqcb82dJkmnHs6bHnAK/o3h4hPTdiynSA== X-Google-Smtp-Source: AGHT+IHmwgPG+DfLXYGPAbJw0zmfbFwYLaE3yvTo13NI+cc1JJHJ0a6lN0IJY+cQPijdlrCnVaQsn+I7qEds X-Received: by 2002:a05:6602:6d0e:b0:901:995e:cb32 with SMTP id ca18e2360f4ac-901995ecb94mr918730239f.19.1758857876933; Thu, 25 Sep 2025 20:37:56 -0700 (PDT) Received: from postal.iol.unh.edu (postal.iol.unh.edu. [2606:4100:3880:1234::84]) by smtp-relay.gmail.com with ESMTPS id 8926c6da1cb9f-56a6b14e426sm185542173.44.2025.09.25.20.37.56 (version=TLS1_2 cipher=ECDHE-ECDSA-AES128-GCM-SHA256 bits=128/128); Thu, 25 Sep 2025 20:37:56 -0700 (PDT) X-Relaying-Domain: iol.unh.edu Date: Thu, 25 Sep 2025 20:37:56 -0700 (PDT) Message-ID: <68d60a94.050a0220.5b573.aedfSMTPIN_ADDED_MISSING@mx.google.com> Received: from [172.21.0.3] (unknown [172.18.0.240]) by postal.iol.unh.edu (Postfix) with ESMTP id 7A48B60003F7; Thu, 25 Sep 2025 23:37:56 -0400 (EDT) Subject: |SUCCESS| [GIT MASTER] 441861b4a30e6b6b6aca07367dd487657b1f50e8 From: dpdklab@iol.unh.edu To: Test Report Cc: dpdk-test-reports@iol.unh.edu Content-Type: text/plain X-BeenThere: test-report@dpdk.org X-Mailman-Version: 2.1.29 Precedence: list List-Id: automatic DPDK test reports List-Unsubscribe: , List-Archive: List-Post: List-Help: List-Subscribe: , Errors-To: test-report-bounces@dpdk.org _Testing PASS_ Branch: dpdk 441861b4a30e6b6b6aca07367dd487657b1f50e8 --> testing pass Upstream job id: Generic-DPDK-Compile-Meson#428663 Test environment and result as below: +------------------------------+--------------------+ | Environment | dpdk_meson_compile | +==============================+====================+ | Red Hat Enterprise Linux 9.5 | PASS | +------------------------------+--------------------+ | Ubuntu 20.04 | PASS | +------------------------------+--------------------+ | Debian GNU/Linux 12 | PASS | +------------------------------+--------------------+ | Fedora Linux 42 | PASS | +------------------------------+--------------------+ | Ubuntu 22.04 | PASS | +------------------------------+--------------------+ | CentOS Stream 9 | PASS | +------------------------------+--------------------+ | CentOS Stream 10 | PASS | +------------------------------+--------------------+ | Ubuntu 24.04 | PASS | +------------------------------+--------------------+ Red Hat Enterprise Linux 9.5 Kernel: 5.4 Compiler: gcc gcc (GCC) 11.5.0 20240719 (Red Hat 11.5.0-2) Ubuntu 20.04 Kernel: 5.15 Compiler: aarch64-linux-gnu-gcc gcc (Ubuntu 9.4.0-1ubuntu1~20.04.2) 9.4.0 Debian GNU/Linux 12 Kernel: 5.4 Compiler: gcc gcc (Debian 12.2.0-14+deb12u1) 12.2.0 Fedora Linux 42 Kernel: 5.4 Compiler: gcc gcc (GCC) 15.2.1 20250808 (Red Hat 15.2.1-1) Ubuntu 22.04 Kernel: 5.4 Compiler: gcc gcc (Ubuntu 11.4.0-1ubuntu1~22.04) 11.4.0 CentOS Stream 9 Kernel: 5.4 Compiler: gcc gcc (GCC) 11.5.0 20240719 (Red Hat 11.5.0-11) CentOS Stream 10 Kernel: 5.4 Compiler: gcc gcc (GCC) 14.2.1 20250110 (Red Hat 14.2.1-8) Ubuntu 24.04 Kernel: 5.4 Compiler: gcc gcc (Ubuntu 13.3.0-6ubuntu2~24.04) 13.3.0 To view detailed results, visit: https://lab.dpdk.org/results/dashboard/tarballs/35005/ UNH-IOL DPDK Community Lab To manage your email subscriptions, visit: https://lab.dpdk.org/results/dashboard/preferences/subscriptions/