From mboxrd@z Thu Jan 1 00:00:00 1970 Return-Path: Received: from mails.dpdk.org (mails.dpdk.org [217.70.189.124]) by inbox.dpdk.org (Postfix) with ESMTP id D49E346F7B for ; Fri, 26 Sep 2025 06:01:03 +0200 (CEST) Received: from mails.dpdk.org (localhost [127.0.0.1]) by mails.dpdk.org (Postfix) with ESMTP id CF12D402E0; Fri, 26 Sep 2025 06:01:03 +0200 (CEST) Received: from mail-qt1-f226.google.com (mail-qt1-f226.google.com [209.85.160.226]) by mails.dpdk.org (Postfix) with ESMTP id C98ED402E0 for ; Fri, 26 Sep 2025 06:01:01 +0200 (CEST) Received: by mail-qt1-f226.google.com with SMTP id d75a77b69052e-4da72b541f8so21875181cf.1 for ; Thu, 25 Sep 2025 21:01:01 -0700 (PDT) DKIM-Signature: v=1; a=rsa-sha256; c=relaxed/relaxed; d=iol.unh.edu; s=unh-iol; t=1758859261; x=1759464061; darn=dpdk.org; h=references:in-reply-to:cc:to:from:subject:message-id:date:from:to :cc:subject:date:message-id:reply-to; bh=tgoER8TyGVkkznhdW+HyzyTDXUKM53uwcPTkua2Z32M=; b=eD+1+2/COjryhn6fe27saUFRJ6xUKPiWyJhhaUaX5wvCeMoj4Wt+NSUdVvq2xPLt1F 45wZ4VJaOJ8ce/jJIizhlsz7B0eao5nzHoq9S2PW7sf4HMLYcXOrO8G5Ym4YgcIuEkqh SZoBA5uUSRM+hNRnA1vuA9uQD2IKiu9/u+psc= X-Google-DKIM-Signature: v=1; a=rsa-sha256; c=relaxed/relaxed; d=1e100.net; s=20230601; t=1758859261; x=1759464061; h=references:in-reply-to:cc:to:from:subject:message-id:date :x-gm-message-state:from:to:cc:subject:date:message-id:reply-to; bh=tgoER8TyGVkkznhdW+HyzyTDXUKM53uwcPTkua2Z32M=; b=DBoYpUzkEUisJ5MV8Im4/r4OCJl0qOryJEt4xnPsyC30ISK9YOKQT0uGHUXOKpc05I UVPYpRjtrd2LV4OQu0fQOxy92whRJojMpXN6CATtoE/VELnfxZqmN7Lc7+GmzucMi7So wPMLRybbzVgqWu2Io5d/ZiCqRa7u0fFfUSwNvnGbAUVwp8q0XBpt4Fc6D/cHespa1uou SjUEoSQhZVNdJVjcm0xVdJ/m33GUJwwopD6X43sNpUenEEqGJeDyBrAgTe1R9YtBGPJs HPOGKc4dBIzuZjQuLPI3k+cnJL5LwGrBk/479YayBwvGClqmUOouYS5EoEymu9NVDiGq j6lQ== X-Gm-Message-State: AOJu0YyaFYpiTjh0IU6+PM60mX7N4dJ6j6RHahzLyOeKmcseiSsxCxW6 CXJMkmZVDhXM8FZMAqs2Zz9yTS4NN40vmhSl5uHTFFra4uquZeVWuhpv056JaK+3fPGVj9SuMcF +CKczDijoCjWzJKGPiGTcB/qOVxr6gu1NPMxqmpikUCtk X-Gm-Gg: ASbGncsuOQ/ySkrLhF9oKqiLt1GJP+zgNBYqlUbWs9mQz2v0R1R20U4PBegon/Nee+V 3QizCdXe4x9G8V/Gz1Ya4FWJhcyYv/4rk5T52od5e6/zaDbS+QGwCXFdBIk25QkL5PEpkuvDsBp etOMieXx993fTuXUVZLmorVUnGi2aOzTMSOJ+UOxMAevbJ6EwaHOl9nyZIu/cJu1S/VX6zIIppQ 4qmYFanaEnL/sD6BKL4yOh9KPX57LLeQwUbTvYd9fo9RGnZUwapWkIJalGqInma4B6K1p9qnmbc FmnyeuArHFZTMnvj0nHaAah35wQZeGAPFJgyfLUSROgyyMUcrJA3WVkKu3ENpoZbqxmyYPeu X-Google-Smtp-Source: AGHT+IG2tFW0VhTfzipRk9zd/rdPNv4WvkVzvwdker9VHT9JumSBEYgx0JXizm3WdyBz8jdhC28nQgqBX8KM X-Received: by 2002:ac8:5fd3:0:b0:4b5:eb7b:2789 with SMTP id d75a77b69052e-4da4b14148fmr87478431cf.49.1758859260868; Thu, 25 Sep 2025 21:01:00 -0700 (PDT) Received: from postal.iol.unh.edu (postal.iol.unh.edu. [132.177.123.84]) by smtp-relay.gmail.com with ESMTPS id d75a77b69052e-4db090830dasm1207531cf.2.2025.09.25.21.01.00 (version=TLS1_2 cipher=ECDHE-ECDSA-AES128-GCM-SHA256 bits=128/128); Thu, 25 Sep 2025 21:01:00 -0700 (PDT) X-Relaying-Domain: iol.unh.edu Date: Thu, 25 Sep 2025 21:01:00 -0700 (PDT) Message-ID: <68d60ffc.050a0220.fbac.71ffSMTPIN_ADDED_MISSING@mx.google.com> Received: from [172.21.0.4] (unknown [172.18.0.240]) by postal.iol.unh.edu (Postfix) with ESMTP id 6924A6051830; Fri, 26 Sep 2025 00:01:00 -0400 (EDT) Subject: |SUCCESS| pw156956-156973 [PATCH] [V14,18/18] drivers/net: add hinic From: dpdklab@iol.unh.edu To: Test Report Cc: dpdk-test-reports@iol.unh.edu In-Reply-To: <20250926024747.1314-19-wff_light@vip.163.com> References: <20250926024747.1314-19-wff_light@vip.163.com> Content-Type: text/plain X-BeenThere: test-report@dpdk.org X-Mailman-Version: 2.1.29 Precedence: list List-Id: automatic DPDK test reports List-Unsubscribe: , List-Archive: List-Post: List-Help: List-Subscribe: , Errors-To: test-report-bounces@dpdk.org Test-Label: iol-unit-amd64-testing Test-Status: SUCCESS http://dpdk.org/patch/156973 _Testing PASS_ Submitter: Feifei Wang Date: Friday, September 26 2025 02:47:34 DPDK git baseline: Repo:dpdk Branch: master CommitID:441861b4a30e6b6b6aca07367dd487657b1f50e8 156956-156973 --> testing pass Upstream job id: Generic-Unit-Test-DPDK#375190 Test environment and result as below: +-------------------------------+----------------+ | Environment | dpdk_unit_test | +===============================+================+ | CentOS Stream 9 | PASS | +-------------------------------+----------------+ | CentOS Stream 10 | PASS | +-------------------------------+----------------+ | Debian GNU/Linux 12 | PASS | +-------------------------------+----------------+ | Fedora Linux 40 | PASS | +-------------------------------+----------------+ | Fedora Linux 41 | PASS | +-------------------------------+----------------+ | Fedora Linux 42 | PASS | +-------------------------------+----------------+ | Red Hat Enterprise Linux 8.10 | PASS | +-------------------------------+----------------+ | Red Hat Enterprise Linux 9.5 | PASS | +-------------------------------+----------------+ | Ubuntu 20.04 | PASS | +-------------------------------+----------------+ | Ubuntu 22.04 | PASS | +-------------------------------+----------------+ | Ubuntu 24.04 | PASS | +-------------------------------+----------------+ | Windows Server 2022 | PASS | +-------------------------------+----------------+ CentOS Stream 9 Kernel: 5.15 Compiler: gcc gcc (GCC) 11.5.0 20240719 (Red Hat 11.5.0-11) CentOS Stream 10 Kernel: 5.15 Compiler: gcc gcc (GCC) 14.2.1 20250110 (Red Hat 14.2.1-8) Debian GNU/Linux 12 Kernel: 5.15 Compiler: gcc gcc (Debian 12.2.0-14+deb12u1) 12.2.0 Fedora Linux 40 Kernel: 5.15 Compiler: gcc gcc (GCC) 14.2.1 20240912 (Red Hat 14.2.1-3) Fedora Linux 41 Kernel: 5.15 Compiler: gcc gcc (GCC) 14.3.1 20250523 (Red Hat 14.3.1-1) Fedora Linux 42 Kernel: 5.15 Compiler: gcc gcc (GCC) 15.2.1 20250808 (Red Hat 15.2.1-1) Red Hat Enterprise Linux 8.10 Kernel: 5.15 Compiler: gcc gcc (GCC) 8.5.0 20210514 (Red Hat 8.5.0-22) Red Hat Enterprise Linux 9.5 Kernel: 5.15 Compiler: gcc gcc (GCC) 11.5.0 20240719 (Red Hat 11.5.0-2) Ubuntu 20.04 Kernel: 5.15 Compiler: gcc gcc (Ubuntu 9.4.0-1ubuntu1~20.04.2) 9.4.0 Ubuntu 22.04 Kernel: 5.15 Compiler: gcc gcc (Ubuntu 11.4.0-1ubuntu1~22.04) 11.4.0 Ubuntu 24.04 Kernel: 5.15 Compiler: gcc gcc (Ubuntu 13.3.0-6ubuntu2~24.04) 13.3.0 Windows Server 2022 Kernel: 10.0.20348.2031 Compiler: clang 15.0.7, gcc 14.1.0 (MinGW), and MSVC VS 19.39.33521 To view detailed results, visit: https://lab.dpdk.org/results/dashboard/patchsets/34153/ UNH-IOL DPDK Community Lab To manage your email subscriptions, visit: https://lab.dpdk.org/results/dashboard/preferences/subscriptions/