From mboxrd@z Thu Jan 1 00:00:00 1970 Return-Path: Received: from mails.dpdk.org (mails.dpdk.org [217.70.189.124]) by inbox.dpdk.org (Postfix) with ESMTP id E74AD46F7B for ; Fri, 26 Sep 2025 06:01:15 +0200 (CEST) Received: from mails.dpdk.org (localhost [127.0.0.1]) by mails.dpdk.org (Postfix) with ESMTP id DE88E402E0; Fri, 26 Sep 2025 06:01:15 +0200 (CEST) Received: from mail-il1-f226.google.com (mail-il1-f226.google.com [209.85.166.226]) by mails.dpdk.org (Postfix) with ESMTP id AAA91402E0 for ; Fri, 26 Sep 2025 06:01:14 +0200 (CEST) Received: by mail-il1-f226.google.com with SMTP id e9e14a558f8ab-42571046185so9098025ab.0 for ; Thu, 25 Sep 2025 21:01:14 -0700 (PDT) DKIM-Signature: v=1; a=rsa-sha256; c=relaxed/relaxed; d=iol.unh.edu; s=unh-iol; t=1758859274; x=1759464074; darn=dpdk.org; h=references:in-reply-to:cc:to:from:subject:message-id:date:from:to :cc:subject:date:message-id:reply-to; bh=SvLxE5jkksviyOMjIJVMzIsGkQIMBWe+a1GT8oeuNa0=; b=BjjYY/detgPWDWvf5jLjbk6YpvPRbxHa5BVAc1B/uljoRHsz0k/s2WMtrDXRHlo+gi VhVu243JOg4ppH21iTB7HZnNnRivscL1fBW4Ia51OC4DiUCT1dqO5K0+5EKgRYLUawza Sq1M7GDKbKEjkHdsutE/l9FDBc6hqGmlWC9DQ= X-Google-DKIM-Signature: v=1; a=rsa-sha256; c=relaxed/relaxed; d=1e100.net; s=20230601; t=1758859274; x=1759464074; h=references:in-reply-to:cc:to:from:subject:message-id:date :x-gm-message-state:from:to:cc:subject:date:message-id:reply-to; bh=SvLxE5jkksviyOMjIJVMzIsGkQIMBWe+a1GT8oeuNa0=; b=w5r7XYe9DzIuDtMFYPoV29VfNgrTAj+KHZDAFvG+cbgOY6t4aYVv/EnDZX1LO9O8lJ BI/XXsLf8Xc/A9hg1RY0bpobq/luTRd66t/DO2bcEPLovWqP2Djb51KheaQObqVZZ0bd Y8nk+ADQJrfFmrZucasly1sR7PH7xre5MXIwMss4FL+y033PRI94q5ioeJH3zxQVAE3u 6iGGz5LR3YhYMAN+hAOwdO/lJWM/WGZJHjYP+zyGvl1VtK/DIGJzdp8DUu5FAakOwZXN z6qJaO6Nm8C096qCyzZzJyGeSPuQMelAtxYVSOWKeRO83I3gaVF6yF5wMp6/D2HCOiCu anHg== X-Gm-Message-State: AOJu0YzDOVF6OifxIiexJCD8gjJFvTMulcE0LPqhBn/yXmgHZlEkP8ZL XdsAN0GN6vKaqk1hf/6AA692iipVAtVp41J4M+y/P5XobrjPwOWTaqEUIoJCpqEI8xaWz9HxpZ2 lYZzXKrO/0T3kauN1seU+XY8Uow+J3AIvmnt7YAx/FqFz X-Gm-Gg: ASbGncveTK3txI45t60Cxu9U2dSQ4tft61aknaeM0GhE51X1Y4h5ncMOuzZx00K4hRt IWrGmOLR+Qa5Br/WyRYVEzau08UF1Yv7XbeAQagaadTdvjNTuVpBNkxohUiV/7aBVOJBmpOA5rn 2lIsM3moTt7eq2Bpn2DPWmdPg6ycYYscwrq/n/O3mn8uAxd3g4mCsaKU5JrSNmzgVW+0OhMl4uf ACcPOcRHIUU7N+rEFF+bZbhCVSMFIEnaqtNVAJaYMGkx++hcru9SLvRiHdTmGQqPpJl3+1wJOYC MmpH0DYNBl2ZMaUYFUtcSDM2Vvmuyp67ghHsDdhb/QLSaLt7vv1ypoWgrGGCls1RUTp8Wcgo X-Google-Smtp-Source: AGHT+IGTVR6m5Xak4BlaDV95p+acNc38Ckp+5UwEqUwHM0FFJrThYdhGGejaeW8isyptm7nBb0P1k1Mg3iuD X-Received: by 2002:a05:6e02:1a46:b0:424:8061:dec0 with SMTP id e9e14a558f8ab-425955cff6fmr81967245ab.7.1758859273820; Thu, 25 Sep 2025 21:01:13 -0700 (PDT) Received: from postal.iol.unh.edu (postal.iol.unh.edu. [132.177.123.84]) by smtp-relay.gmail.com with ESMTPS id e9e14a558f8ab-425bbacfcc5sm2459205ab.3.2025.09.25.21.01.13 (version=TLS1_2 cipher=ECDHE-ECDSA-AES128-GCM-SHA256 bits=128/128); Thu, 25 Sep 2025 21:01:13 -0700 (PDT) X-Relaying-Domain: iol.unh.edu Date: Thu, 25 Sep 2025 21:01:13 -0700 (PDT) Message-ID: <68d61009.050a0220.2401f7.e7dbSMTPIN_ADDED_MISSING@mx.google.com> Received: from [172.21.0.4] (unknown [172.18.0.240]) by postal.iol.unh.edu (Postfix) with ESMTP id 2D2B36051830; Fri, 26 Sep 2025 00:01:13 -0400 (EDT) Subject: |SUCCESS| pw156956-156973 [PATCH] [V14,18/18] drivers/net: add hinic From: dpdklab@iol.unh.edu To: Test Report Cc: dpdk-test-reports@iol.unh.edu In-Reply-To: <20250926024747.1314-19-wff_light@vip.163.com> References: <20250926024747.1314-19-wff_light@vip.163.com> Content-Type: text/plain X-BeenThere: test-report@dpdk.org X-Mailman-Version: 2.1.29 Precedence: list List-Id: automatic DPDK test reports List-Unsubscribe: , List-Archive: List-Post: List-Help: List-Subscribe: , Errors-To: test-report-bounces@dpdk.org Test-Label: iol-unit-amd64-testing Test-Status: SUCCESS http://dpdk.org/patch/156973 _Testing PASS_ Submitter: Feifei Wang Date: Friday, September 26 2025 02:47:34 DPDK git baseline: Repo:dpdk Branch: master CommitID:441861b4a30e6b6b6aca07367dd487657b1f50e8 156956-156973 --> testing pass Upstream job id: Generic-Unit-Test-DPDK#375181 Test environment and result as below: +-------------------------------+----------------+ | Environment | dpdk_unit_test | +===============================+================+ | CentOS Stream 9 | PASS | +-------------------------------+----------------+ | CentOS Stream 10 | PASS | +-------------------------------+----------------+ | Debian GNU/Linux 12 | PASS | +-------------------------------+----------------+ | Fedora Linux 40 | PASS | +-------------------------------+----------------+ | Fedora Linux 41 | PASS | +-------------------------------+----------------+ | Fedora Linux 42 | PASS | +-------------------------------+----------------+ | Red Hat Enterprise Linux 8.10 | PASS | +-------------------------------+----------------+ | Red Hat Enterprise Linux 9.5 | PASS | +-------------------------------+----------------+ | Ubuntu 20.04 | PASS | +-------------------------------+----------------+ | Ubuntu 22.04 | PASS | +-------------------------------+----------------+ | Ubuntu 24.04 | PASS | +-------------------------------+----------------+ | Windows Server 2022 | PASS | +-------------------------------+----------------+ CentOS Stream 9 Kernel: 5.15 Compiler: gcc gcc (GCC) 11.5.0 20240719 (Red Hat 11.5.0-11) CentOS Stream 10 Kernel: 5.15 Compiler: gcc gcc (GCC) 14.2.1 20250110 (Red Hat 14.2.1-8) Debian GNU/Linux 12 Kernel: 5.15 Compiler: gcc gcc (Debian 12.2.0-14+deb12u1) 12.2.0 Fedora Linux 40 Kernel: 5.15 Compiler: gcc gcc (GCC) 14.2.1 20240912 (Red Hat 14.2.1-3) Fedora Linux 41 Kernel: 5.15 Compiler: gcc gcc (GCC) 14.3.1 20250523 (Red Hat 14.3.1-1) Fedora Linux 42 Kernel: 5.15 Compiler: gcc gcc (GCC) 15.2.1 20250808 (Red Hat 15.2.1-1) Red Hat Enterprise Linux 8.10 Kernel: 5.15 Compiler: gcc gcc (GCC) 8.5.0 20210514 (Red Hat 8.5.0-22) Red Hat Enterprise Linux 9.5 Kernel: 5.15 Compiler: gcc gcc (GCC) 11.5.0 20240719 (Red Hat 11.5.0-2) Ubuntu 20.04 Kernel: 5.15 Compiler: gcc gcc (Ubuntu 9.4.0-1ubuntu1~20.04.2) 9.4.0 Ubuntu 22.04 Kernel: 5.15 Compiler: gcc gcc (Ubuntu 11.4.0-1ubuntu1~22.04) 11.4.0 Ubuntu 24.04 Kernel: 5.15 Compiler: gcc gcc (Ubuntu 13.3.0-6ubuntu2~24.04) 13.3.0 Windows Server 2022 Kernel: 10.0.20348.2031 Compiler: clang 15.0.7, gcc 14.1.0 (MinGW), and MSVC VS 19.39.33521 To view detailed results, visit: https://lab.dpdk.org/results/dashboard/patchsets/34153/ UNH-IOL DPDK Community Lab To manage your email subscriptions, visit: https://lab.dpdk.org/results/dashboard/preferences/subscriptions/