From mboxrd@z Thu Jan 1 00:00:00 1970 Return-Path: Received: from mails.dpdk.org (mails.dpdk.org [217.70.189.124]) by inbox.dpdk.org (Postfix) with ESMTP id 1280546F7B for ; Fri, 26 Sep 2025 06:09:32 +0200 (CEST) Received: from mails.dpdk.org (localhost [127.0.0.1]) by mails.dpdk.org (Postfix) with ESMTP id 0A2DC402E0; Fri, 26 Sep 2025 06:09:32 +0200 (CEST) Received: from mail-yw1-f228.google.com (mail-yw1-f228.google.com [209.85.128.228]) by mails.dpdk.org (Postfix) with ESMTP id 4BF9940647 for ; Fri, 26 Sep 2025 06:09:24 +0200 (CEST) Received: by mail-yw1-f228.google.com with SMTP id 00721157ae682-72e565bf2f0so18071707b3.3 for ; Thu, 25 Sep 2025 21:09:24 -0700 (PDT) DKIM-Signature: v=1; a=rsa-sha256; c=relaxed/relaxed; d=iol.unh.edu; s=unh-iol; t=1758859763; x=1759464563; darn=dpdk.org; h=references:in-reply-to:cc:to:from:subject:message-id:date:from:to :cc:subject:date:message-id:reply-to; bh=fOvFyfNLXE/vzF+rIyWz3mXnxCqgQpjx2zo/6p4y6II=; b=a3d8vN8ZvV1NRWvlIy5+vu7bP+2g/z86R8QqZCUHTiOHtvRZnwZD4e3KsSWtQ25+Fp uZbs4DYuNLN4ilNRChSVOpbIkDvcaj3fxSrpB6xeKCHKE6pSB1KvAsox2yq4CpgMZFUE in2X23wp/kjPrT2/z0GpqQBIQ/+kPBYLDpiDw= X-Google-DKIM-Signature: v=1; a=rsa-sha256; c=relaxed/relaxed; d=1e100.net; s=20230601; t=1758859763; x=1759464563; h=references:in-reply-to:cc:to:from:subject:message-id:date :x-gm-message-state:from:to:cc:subject:date:message-id:reply-to; bh=fOvFyfNLXE/vzF+rIyWz3mXnxCqgQpjx2zo/6p4y6II=; b=Tb7DVg4FK5knyaSRIk0qr6N9RnrgHq0dvaIdOZCn22J5Y5xwYyniei+58SghNRqIEc 3vNhRHtsWSqntR4LC8wB3JC2Au03OD78YAcSv+yZ1pH3MjSGqfrGTQJyQnxQzyCPI7kG xXyu3yBWbWHVqYdc8NeUBbUU02pb90R7jZFw+DWXt4FOdnmMkuvyTeV2gjaBqTHwbbx4 DSTdKXx5+qdIcNxs2FSuNZx26LLB35SWaCUpDlJ4VIFw5D5AK/ILePymPTZ48D6cG232 FTt7U4ENlZvfCO/Hmj3DnZJzW9I79EKtEh6ttucZbUNgrDwylQ4GPzGKz6djd8/4NDvd 51iQ== X-Gm-Message-State: AOJu0YzEhfCS3gO2gKlANEOTv/8AFA9nMRQCjUnzFz4NDprvgyxqnbTX h6H5yIc3McammZQuUTVya+MgjdmJmeUErjyrLXozyBc520qQxbaTW/VnJ9V2hKjbEXE7tMJ3oCs VZRZAXdKNIJbWfhE0lgCD3fxigB/5bBybZROXZb8IEKnL X-Gm-Gg: ASbGncs11ENf1NiXesLckZ74skQ8LDzrJ06f4MT0zTfrWueS3gIRGHUS+/bDiqejRtX FaRlpNFNoNVGD+elBn+Co/7I+DiAReFrUwslqOihgl1R00nfHrp4qNcpKwOwIHK0+PLdo5MGyw5 tUVjYGq7DhDSkyiX6RHh+Z0HMSqW3xalSOxpGpuCR7cOR0jG+05GQRuE+TzlS8OQKNKTVwOrIw7 7Ji+khUwRJdsqI1txlfafPrfyaqIJE1r+vYRorDNs1mhZyuZ2fph4rptsFi/RUShF6l4QqT+sSt k07TlECmvBtN9xHz9QOdhogTNkWevevD8bJTcTNoND9r+QCcfDaSBqfaQKa0/TevEr2lHXGt X-Google-Smtp-Source: AGHT+IFvkYM0Nth+xwO/5yAtLpbe53mOViZdL7ZqSK53QX7aMoojkY1+/aGSMa4dXrkMrntmq5FZeC0YL6YJ X-Received: by 2002:a05:690e:1512:b0:635:4ecd:75a5 with SMTP id 956f58d0204a3-6361a8ad0bcmr5363452d50.51.1758859763677; Thu, 25 Sep 2025 21:09:23 -0700 (PDT) Received: from postal.iol.unh.edu (postal.iol.unh.edu. [132.177.123.84]) by smtp-relay.gmail.com with ESMTPS id 3f1490d57ef6-eb38672286dsm195663276.7.2025.09.25.21.09.23 (version=TLS1_2 cipher=ECDHE-ECDSA-AES128-GCM-SHA256 bits=128/128); Thu, 25 Sep 2025 21:09:23 -0700 (PDT) X-Relaying-Domain: iol.unh.edu Date: Thu, 25 Sep 2025 21:09:23 -0700 (PDT) Message-ID: <68d611f3.050a0220.3220ef.c4fbSMTPIN_ADDED_MISSING@mx.google.com> Received: from [172.21.0.3] (unknown [172.18.0.240]) by postal.iol.unh.edu (Postfix) with ESMTP id 5A1946051830; Fri, 26 Sep 2025 00:09:23 -0400 (EDT) Subject: |SUCCESS| pw156956-156973 [PATCH] [V14,18/18] drivers/net: add hinic From: dpdklab@iol.unh.edu To: Test Report Cc: dpdk-test-reports@iol.unh.edu In-Reply-To: <20250926024747.1314-19-wff_light@vip.163.com> References: <20250926024747.1314-19-wff_light@vip.163.com> Content-Type: text/plain X-BeenThere: test-report@dpdk.org X-Mailman-Version: 2.1.29 Precedence: list List-Id: automatic DPDK test reports List-Unsubscribe: , List-Archive: List-Post: List-Help: List-Subscribe: , Errors-To: test-report-bounces@dpdk.org Test-Label: iol-compile-amd64-testing Test-Status: SUCCESS http://dpdk.org/patch/156973 _Testing PASS_ Submitter: Feifei Wang Date: Friday, September 26 2025 02:47:34 DPDK git baseline: Repo:dpdk Branch: master CommitID:441861b4a30e6b6b6aca07367dd487657b1f50e8 156956-156973 --> testing pass Upstream job id: Generic-DPDK-Compile-Meson#428732 Test environment and result as below: +-------------------------------+--------------------+-------------------+------------------+-------------------------+-------------------+----------------------+ | Environment | dpdk_meson_compile | dpdk_compile_spdk | dpdk_compile_ovs | dpdk_llvm_clang_compile | dpdk_msvc_compile | dpdk_mingw64_compile | +===============================+====================+===================+==================+=========================+===================+======================+ | CentOS Stream 9 | PASS | PASS | SKIPPED | SKIPPED | SKIPPED | SKIPPED | +-------------------------------+--------------------+-------------------+------------------+-------------------------+-------------------+----------------------+ | CentOS Stream 10 | PASS | SKIPPED | SKIPPED | SKIPPED | SKIPPED | SKIPPED | +-------------------------------+--------------------+-------------------+------------------+-------------------------+-------------------+----------------------+ | Debian GNU/Linux 12 | PASS | PASS | SKIPPED | SKIPPED | SKIPPED | SKIPPED | +-------------------------------+--------------------+-------------------+------------------+-------------------------+-------------------+----------------------+ | Fedora Linux 42 | PASS | PASS | PASS | SKIPPED | SKIPPED | SKIPPED | +-------------------------------+--------------------+-------------------+------------------+-------------------------+-------------------+----------------------+ | Ubuntu 20.04 | PASS | SKIPPED | SKIPPED | SKIPPED | SKIPPED | SKIPPED | +-------------------------------+--------------------+-------------------+------------------+-------------------------+-------------------+----------------------+ | FreeBSD 14.2 | PASS | SKIPPED | SKIPPED | SKIPPED | SKIPPED | SKIPPED | +-------------------------------+--------------------+-------------------+------------------+-------------------------+-------------------+----------------------+ | openSUSE Leap 15.6 | PASS | SKIPPED | SKIPPED | SKIPPED | SKIPPED | SKIPPED | +-------------------------------+--------------------+-------------------+------------------+-------------------------+-------------------+----------------------+ | Red Hat Enterprise Linux 8.10 | PASS | SKIPPED | SKIPPED | SKIPPED | SKIPPED | SKIPPED | +-------------------------------+--------------------+-------------------+------------------+-------------------------+-------------------+----------------------+ | Red Hat Enterprise Linux 9.5 | PASS | SKIPPED | SKIPPED | SKIPPED | SKIPPED | SKIPPED | +-------------------------------+--------------------+-------------------+------------------+-------------------------+-------------------+----------------------+ | Ubuntu 22.04 | PASS | PASS | SKIPPED | SKIPPED | SKIPPED | SKIPPED | +-------------------------------+--------------------+-------------------+------------------+-------------------------+-------------------+----------------------+ | Alpine Linux 3.22.0 | PASS | SKIPPED | SKIPPED | SKIPPED | SKIPPED | SKIPPED | +-------------------------------+--------------------+-------------------+------------------+-------------------------+-------------------+----------------------+ | Ubuntu 24.04 | PASS | PASS | PASS | SKIPPED | SKIPPED | SKIPPED | +-------------------------------+--------------------+-------------------+------------------+-------------------------+-------------------+----------------------+ | Windows Server 2022 | SKIPPED | SKIPPED | SKIPPED | PASS | PASS | PASS | +-------------------------------+--------------------+-------------------+------------------+-------------------------+-------------------+----------------------+ CentOS Stream 9 Kernel: 5.15 Compiler: gcc gcc (GCC) 11.5.0 20240719 (Red Hat 11.5.0-11) CentOS Stream 10 Kernel: 5.15 Compiler: gcc gcc (GCC) 14.2.1 20250110 (Red Hat 14.2.1-8) Debian GNU/Linux 12 Kernel: 5.15 Compiler: gcc gcc (Debian 12.2.0-14+deb12u1) 12.2.0 Fedora Linux 42 Kernel: 5.15 Compiler: clang gcc (GCC) 15.2.1 20250808 (Red Hat 15.2.1-1) Ubuntu 20.04 Kernel: 4.19 Compiler: gcc gcc (Ubuntu 9.4.0-1ubuntu1~20.04.2) 9.4.0 FreeBSD 14.2 Kernel: 14.2-RELEASE Compiler: clang 18.1.6 openSUSE Leap 15.6 Kernel: 5.15 Compiler: gcc gcc (SUSE Linux) 7.5.0 Red Hat Enterprise Linux 8.10 Kernel: 5.15 Compiler: gcc gcc (GCC) 8.5.0 20210514 (Red Hat 8.5.0-22) Red Hat Enterprise Linux 9.5 Kernel: 5.15 Compiler: gcc gcc (GCC) 11.5.0 20240719 (Red Hat 11.5.0-2) Ubuntu 22.04 Kernel: 5.15 Compiler: gcc gcc (Ubuntu 11.4.0-1ubuntu1~22.04) 11.4.0 Alpine Linux 3.22.0 Kernel: 5.15 Compiler: gcc gcc (Alpine 14.2.0) 14.2.0 Ubuntu 24.04 Kernel: 5.15 Compiler: gcc gcc (Ubuntu 13.3.0-6ubuntu2~24.04) 13.3.0 Windows Server 2022 Kernel: 10.0.20348.2031 Compiler: clang 15.0.7, gcc 14.1.0 (MinGW), and MSVC VS 19.39.33521 To view detailed results, visit: https://lab.dpdk.org/results/dashboard/patchsets/34153/ UNH-IOL DPDK Community Lab To manage your email subscriptions, visit: https://lab.dpdk.org/results/dashboard/preferences/subscriptions/