From mboxrd@z Thu Jan 1 00:00:00 1970 Return-Path: Received: from mails.dpdk.org (mails.dpdk.org [217.70.189.124]) by inbox.dpdk.org (Postfix) with ESMTP id 6024746F7B for ; Fri, 26 Sep 2025 07:10:19 +0200 (CEST) Received: from mails.dpdk.org (localhost [127.0.0.1]) by mails.dpdk.org (Postfix) with ESMTP id 529AB402BE; Fri, 26 Sep 2025 07:10:19 +0200 (CEST) Received: from mail-pl1-f225.google.com (mail-pl1-f225.google.com [209.85.214.225]) by mails.dpdk.org (Postfix) with ESMTP id BBD88402BE for ; Fri, 26 Sep 2025 07:10:18 +0200 (CEST) Received: by mail-pl1-f225.google.com with SMTP id d9443c01a7336-27d3540a43fso19323605ad.3 for ; Thu, 25 Sep 2025 22:10:18 -0700 (PDT) DKIM-Signature: v=1; a=rsa-sha256; c=relaxed/relaxed; d=iol.unh.edu; s=unh-iol; t=1758863418; x=1759468218; darn=dpdk.org; h=references:in-reply-to:cc:to:from:subject:message-id:date:from:to :cc:subject:date:message-id:reply-to; bh=wjWvFKfcvOqxX2ZVSnC3449d5XssAzM/qMzarn9hGw0=; b=B4knSRqRrHLIwtC4nhaZF8tlUNYJLdfuSf1BvwbxfqpbbR4V1zraiRfLj44QYkMIrB tvTWwz+6wCJVh0JfJvlVuTDkQTKxJuY10uRj5U00uT9/DnlwmRrmq64BhKuLykJBUOj7 JVpy57tPRcCZHAlg77ew4aXKt/BL14v9niPRo= X-Google-DKIM-Signature: v=1; a=rsa-sha256; c=relaxed/relaxed; d=1e100.net; s=20230601; t=1758863418; x=1759468218; h=references:in-reply-to:cc:to:from:subject:message-id:date :x-gm-message-state:from:to:cc:subject:date:message-id:reply-to; bh=wjWvFKfcvOqxX2ZVSnC3449d5XssAzM/qMzarn9hGw0=; b=RO1v1dWiu9HryP9g0xnJ9qjsics8yHZZcRG2Kdj1jW3tkMEcrT69fmVzom1rhcLJbJ nK677Gqwjc0EMe+mDCXZ9GtqiVuedgu/JKxT33uIMr6HHlypVfzqig9KCfjJ2vVfLUPb OP/N7GcN8ZA7OHsAEgO1vQnzH9007gKFlRnFBYeVXgfUZaOtWRMI34VyKazpV13d88r2 lODgx/YpAYNVezZecfTbMdb8ShMRdZBspT0y8hOWZIlCOZQ5CrH6jg7f32LNlwiiE2b9 edl85xdAqhqH0N39p93DbE+j9JYffAOdkpCgrS+P3SuxbC8Z3qDq7KfiKGlX0Fxvwmpc GU6w== X-Gm-Message-State: AOJu0Yyci9Q5GFC2tiYYE9eOnMhtdw/GQF0RwT+VzgPaX+pWg4FprkgW uT4K1BBUmxfRZgb/438iwUlbdbu/NaZ7qGDkBmE0b2agahFUievD6oi/KEieKJuRu31cQptxsCh xo1R3rgmaF/9vd74fwdZt2PXDrBGgzKuzH4GZwi7Fn1+P X-Gm-Gg: ASbGnctYEWf24FKnMd0tXR7SChK8ZR9qYWCOcpvTl16+m2AV/PEv0+cHqgCZyJD86Ys R/t3MmWMoIt5jyjAzX7vovQH5KGScXq0RddT25WNSo8yuok4XK7IAsCsFSfT7e2O4/YcGJI2GFZ VBLKMF/tWw7QlAg+/G3eC/YfXH631/if7S8zVLzkg0P2VZYCxxpdZcMeaYWFlCG4jzukvEBRNa7 HlK7PzI8Q1hbdodFU2cnl2aXCOG++u4SO9bcbh/XIpe8+McJJRegvnrfIpWJMoiKWxp/rWwKMMv IFsAJDr7yUqpeT2j9GwlRdpBpnODMt5e0xFRpUbZfiRb56lGE/W6eKsnF1kzeGFi/hNWLaED X-Google-Smtp-Source: AGHT+IE7S2JXa+IuLmQ6sXkGKtC+52qoXGI0RNu43YjUsFcRUDcz3htHmQbJfIxie1VgtmtFe1aITiPo0pZy X-Received: by 2002:a17:903:22d1:b0:24c:bc02:788b with SMTP id d9443c01a7336-27ed4a92388mr54344445ad.44.1758863417517; Thu, 25 Sep 2025 22:10:17 -0700 (PDT) Received: from postal.iol.unh.edu (postal.iol.unh.edu. [132.177.123.84]) by smtp-relay.gmail.com with ESMTPS id d9443c01a7336-27ed66f8ad4sm2941685ad.30.2025.09.25.22.10.17 (version=TLS1_2 cipher=ECDHE-ECDSA-AES128-GCM-SHA256 bits=128/128); Thu, 25 Sep 2025 22:10:17 -0700 (PDT) X-Relaying-Domain: iol.unh.edu Date: Thu, 25 Sep 2025 22:10:17 -0700 (PDT) Message-ID: <68d62039.170a0220.25f427.1923SMTPIN_ADDED_MISSING@mx.google.com> Received: from [172.21.0.2] (unknown [172.18.0.240]) by postal.iol.unh.edu (Postfix) with ESMTP id DEBED6051830; Fri, 26 Sep 2025 01:10:16 -0400 (EDT) Subject: |SUCCESS| pw156945 [PATCH] event/cnxk: update queue weight mapping f From: dpdklab@iol.unh.edu To: Test Report Cc: dpdk-test-reports@iol.unh.edu, Jerin Jacob In-Reply-To: <20250925120912.1137360-1-sthotton@marvell.com> References: <20250925120912.1137360-1-sthotton@marvell.com> Content-Type: text/plain X-BeenThere: test-report@dpdk.org X-Mailman-Version: 2.1.29 Precedence: list List-Id: automatic DPDK test reports List-Unsubscribe: , List-Archive: List-Post: List-Help: List-Subscribe: , Errors-To: test-report-bounces@dpdk.org Test-Label: iol-unit-arm64-testing Test-Status: SUCCESS http://dpdk.org/patch/156945 _Testing PASS_ Submitter: Shijith Thotton Date: Thursday, September 25 2025 12:09:12 DPDK git baseline: Repo:dpdk-next-eventdev Branch: master CommitID:9e36adf88c49b437c4c5ffa46158e53d96bef82c 156945 --> testing pass Upstream job id: Generic-Unit-Test-DPDK#375004 Test environment and result as below: +------------------------------+---------------------------+--------------+------------------------------+----------------+ | Environment | cryptodev_sw_zuc_autotest | lpm_autotest | cryptodev_sw_snow3g_autotest | dpdk_unit_test | +==============================+===========================+==============+==============================+================+ | Debian 12 (arm) | PASS | SKIPPED | PASS | SKIPPED | +------------------------------+---------------------------+--------------+------------------------------+----------------+ | Ubuntu 20.04 | SKIPPED | PASS | SKIPPED | PASS | +------------------------------+---------------------------+--------------+------------------------------+----------------+ | CentOS Stream 9 | SKIPPED | SKIPPED | SKIPPED | PASS | +------------------------------+---------------------------+--------------+------------------------------+----------------+ | Ubuntu 22.04 | SKIPPED | SKIPPED | SKIPPED | PASS | +------------------------------+---------------------------+--------------+------------------------------+----------------+ | CentOS Stream 10 | SKIPPED | SKIPPED | SKIPPED | PASS | +------------------------------+---------------------------+--------------+------------------------------+----------------+ | Debian GNU/Linux 12 | SKIPPED | SKIPPED | SKIPPED | PASS | +------------------------------+---------------------------+--------------+------------------------------+----------------+ | Fedora Linux 40 | SKIPPED | SKIPPED | SKIPPED | PASS | +------------------------------+---------------------------+--------------+------------------------------+----------------+ | Fedora Linux 41 | SKIPPED | SKIPPED | SKIPPED | PASS | +------------------------------+---------------------------+--------------+------------------------------+----------------+ | Fedora Linux 42 | SKIPPED | SKIPPED | SKIPPED | PASS | +------------------------------+---------------------------+--------------+------------------------------+----------------+ | Red Hat Enterprise Linux 9.5 | SKIPPED | SKIPPED | SKIPPED | PASS | +------------------------------+---------------------------+--------------+------------------------------+----------------+ | Ubuntu 24.04 | SKIPPED | SKIPPED | SKIPPED | PASS | +------------------------------+---------------------------+--------------+------------------------------+----------------+ Debian 12 (arm) Kernel: Depends on container host Compiler: gcc (Debian 12.2.0-14) 12.2.0 Ubuntu 20.04 Kernel: 5.4 Compiler: gcc gcc (Ubuntu 9.4.0-1ubuntu1~20.04.2) 9.4.0 CentOS Stream 9 Kernel: 5.4 Compiler: gcc gcc (GCC) 11.5.0 20240719 (Red Hat 11.5.0-11) Ubuntu 22.04 Kernel: 5.15 Compiler: gcc gcc (Ubuntu 11.4.0-1ubuntu1~22.04.2) 11.4.0 CentOS Stream 10 Kernel: 5.4 Compiler: gcc gcc (GCC) 14.2.1 20250110 (Red Hat 14.2.1-8) Debian GNU/Linux 12 Kernel: 5.4 Compiler: gcc gcc (Debian 12.2.0-14+deb12u1) 12.2.0 Fedora Linux 40 Kernel: 5.4 Compiler: gcc gcc (GCC) 14.2.1 20240912 (Red Hat 14.2.1-3) Fedora Linux 41 Kernel: 5.4 Compiler: gcc gcc (GCC) 14.3.1 20250523 (Red Hat 14.3.1-1) Fedora Linux 42 Kernel: 5.4 Compiler: clang gcc (GCC) 15.2.1 20250808 (Red Hat 15.2.1-1) Red Hat Enterprise Linux 9.5 Kernel: 5.4 Compiler: gcc gcc (GCC) 11.5.0 20240719 (Red Hat 11.5.0-2) Ubuntu 24.04 Kernel: 5.4 Compiler: gcc gcc (Ubuntu 13.3.0-6ubuntu2~24.04) 13.3.0 To view detailed results, visit: https://lab.dpdk.org/results/dashboard/patchsets/34148/ UNH-IOL DPDK Community Lab To manage your email subscriptions, visit: https://lab.dpdk.org/results/dashboard/preferences/subscriptions/