From mboxrd@z Thu Jan 1 00:00:00 1970 Return-Path: Received: from mails.dpdk.org (mails.dpdk.org [217.70.189.124]) by inbox.dpdk.org (Postfix) with ESMTP id ECA0946F7B for ; Fri, 26 Sep 2025 07:36:22 +0200 (CEST) Received: from mails.dpdk.org (localhost [127.0.0.1]) by mails.dpdk.org (Postfix) with ESMTP id E7F234025D; Fri, 26 Sep 2025 07:36:22 +0200 (CEST) Received: from mail-pj1-f99.google.com (mail-pj1-f99.google.com [209.85.216.99]) by mails.dpdk.org (Postfix) with ESMTP id EB3384025D for ; Fri, 26 Sep 2025 07:36:21 +0200 (CEST) Received: by mail-pj1-f99.google.com with SMTP id 98e67ed59e1d1-3352018e050so1132967a91.2 for ; Thu, 25 Sep 2025 22:36:21 -0700 (PDT) DKIM-Signature: v=1; a=rsa-sha256; c=relaxed/relaxed; d=iol.unh.edu; s=unh-iol; t=1758864981; x=1759469781; darn=dpdk.org; h=cc:to:from:subject:message-id:date:from:to:cc:subject:date :message-id:reply-to; bh=CT0irqYC9q0pBRAOLPw+tn/sxeYpso3mXnP06lmIFrA=; b=GOK10LYN+9VhWNIlKJbrSX5pSfZSpxn/PebZqEkjWxtkEDBqpyLe/2QTR83ymhy8rJ mU/qE9EuvqKXlMbcwAKzuUPiodVsKSpRDNlkbsCpZOEiISPwk4qzQ4HmLXErXVmpdD44 inCYaWio5NBERCnW8cy1OjnldBxcuq8ILc4JU= X-Google-DKIM-Signature: v=1; a=rsa-sha256; c=relaxed/relaxed; d=1e100.net; s=20230601; t=1758864981; x=1759469781; h=cc:to:from:subject:message-id:date:x-gm-message-state:from:to:cc :subject:date:message-id:reply-to; bh=CT0irqYC9q0pBRAOLPw+tn/sxeYpso3mXnP06lmIFrA=; b=eWFW43l7vaQrOEON7o2CZYbGOj0bIR4pAJwEhA1o/Pb+lesi66StTB6IHgaZO0CWOg mI6d3Odqx8CFKt6uDUFp/kw54zZTNPgqOvfxlO5Ahe8i+NcmHcRK4aSP8ehGp2CfIE1c ut+NaPzOnErSHacI1d6T4/Cj3pcP93ZqQJ1YyL7gyD2sRJV7DzHEyosTORebZdy/2Zet y2WikinG3zO/yOS2SMVAvrMoSEWiocfGKZcJj6jjtYboWZDZtCQ3e69wwt/123GB0ioZ j6hVHxdT8kMUw6lfZqBzywYpijjJ9Qp5xSpExmZxkrFdJvs28N6v4PDiX3TB33fbqxx0 WqXA== X-Gm-Message-State: AOJu0YyprS4Pii5Ef75H0AvFeAK2tl1sJF5vsVvU7dWO8oiXkJ6Vofxo 1RMETCysQPzGgcqkn6DuoZK/+nvqL0JAeUi/WcFSVTOUS5itDfbARQyBTsNIvn2FxfrAaYm/9EV ur31LWIneZO0izrLaUEn03REjuC2IsLJ6uDrv X-Gm-Gg: ASbGncuSd/8uUde4mOvT+TZBK5EPOfB1RW3oX5bPjb34VFtOFd6j82bbkkQ9jBTSB5O rpepGKK70qTasmThZeQxWD3uy9uptkmzrIe5gyEw391/9zEZOAsq+J3dugUn/SxdGrjl64CF94n H7Vo2tRY+zuKNhn/9BDvVStBFfiFG3BTe+445FL7L0bntYTDcGF3G9dQCph3RjzD2Gfo7J38y5g KBNsZL7QcjPhUyXx/F6Wq0xe+32np1KwPlFgXG2exAaXQX1gDPeqom6wfP/b8/uiqgp6/2ZTpFB Cpx3BHKDft38L64FxJA9cJcLUNrkda479hf6adn+0n3b/7MFfpX0VZw1+MUxD5C9XgKfdjCb X-Google-Smtp-Source: AGHT+IFKQsub+g2vxOaSGehJUX4fnNNlnt3ncgDghESJFQzLV4Gdnkw4u7y80Y254TzBcX+avIWNjLQlXMsK X-Received: by 2002:a17:90b:3e83:b0:32e:e5:a90a with SMTP id 98e67ed59e1d1-3342a2436a1mr6792937a91.8.1758864980849; Thu, 25 Sep 2025 22:36:20 -0700 (PDT) Received: from postal.iol.unh.edu (postal.iol.unh.edu. [132.177.123.84]) by smtp-relay.gmail.com with ESMTPS id 98e67ed59e1d1-334731eb63fsm209281a91.5.2025.09.25.22.36.20 (version=TLS1_2 cipher=ECDHE-ECDSA-AES128-GCM-SHA256 bits=128/128); Thu, 25 Sep 2025 22:36:20 -0700 (PDT) X-Relaying-Domain: iol.unh.edu Date: Thu, 25 Sep 2025 22:36:20 -0700 (PDT) Message-ID: <68d62654.170a0220.355859.c55bSMTPIN_ADDED_MISSING@mx.google.com> Received: from [172.21.0.3] (unknown [172.18.0.240]) by postal.iol.unh.edu (Postfix) with ESMTP id 1D6EE6051830; Fri, 26 Sep 2025 01:36:20 -0400 (EDT) Subject: |SUCCESS| [GIT MASTER] 3b43ce3f4a54468e7ef65760c2fd7b4d6ee6d9fc From: dpdklab@iol.unh.edu To: Test Report Cc: dpdk-test-reports@iol.unh.edu, Xueming Li , Christian Ehrhardt , Kevin Traynor , Luca Boccassi Content-Type: text/plain X-BeenThere: test-report@dpdk.org X-Mailman-Version: 2.1.29 Precedence: list List-Id: automatic DPDK test reports List-Unsubscribe: , List-Archive: List-Post: List-Help: List-Subscribe: , Errors-To: test-report-bounces@dpdk.org _Testing PASS_ Branch: tags/v22.11 3b43ce3f4a54468e7ef65760c2fd7b4d6ee6d9fc --> testing pass Upstream job id: Generic-DPDK-Compile-Meson#428759 Test environment and result as below: +-------------------------------+--------------------+-------------------------+----------------------+ | Environment | dpdk_meson_compile | dpdk_llvm_clang_compile | dpdk_mingw64_compile | +===============================+====================+=========================+======================+ | CentOS Stream 10 | PASS | SKIPPED | SKIPPED | +-------------------------------+--------------------+-------------------------+----------------------+ | CentOS Stream 9 | PASS | SKIPPED | SKIPPED | +-------------------------------+--------------------+-------------------------+----------------------+ | Fedora Linux 42 | PASS | SKIPPED | SKIPPED | +-------------------------------+--------------------+-------------------------+----------------------+ | Debian GNU/Linux 12 | PASS | SKIPPED | SKIPPED | +-------------------------------+--------------------+-------------------------+----------------------+ | Ubuntu 20.04 | PASS | SKIPPED | SKIPPED | +-------------------------------+--------------------+-------------------------+----------------------+ | openSUSE Leap 15.6 | PASS | SKIPPED | SKIPPED | +-------------------------------+--------------------+-------------------------+----------------------+ | Red Hat Enterprise Linux 8.10 | PASS | SKIPPED | SKIPPED | +-------------------------------+--------------------+-------------------------+----------------------+ | FreeBSD 14.2 | PASS | SKIPPED | SKIPPED | +-------------------------------+--------------------+-------------------------+----------------------+ | Red Hat Enterprise Linux 9.5 | PASS | SKIPPED | SKIPPED | +-------------------------------+--------------------+-------------------------+----------------------+ | Ubuntu 22.04 | PASS | SKIPPED | SKIPPED | +-------------------------------+--------------------+-------------------------+----------------------+ | Ubuntu 24.04 | PASS | SKIPPED | SKIPPED | +-------------------------------+--------------------+-------------------------+----------------------+ | Windows Server 2022 | SKIPPED | PASS | PASS | +-------------------------------+--------------------+-------------------------+----------------------+ CentOS Stream 10 Kernel: 5.15 Compiler: gcc gcc (GCC) 14.2.1 20250110 (Red Hat 14.2.1-8) CentOS Stream 9 Kernel: 5.15 Compiler: gcc gcc (GCC) 11.5.0 20240719 (Red Hat 11.5.0-11) Fedora Linux 42 Kernel: 5.15 Compiler: gcc gcc (GCC) 15.2.1 20250808 (Red Hat 15.2.1-1) Debian GNU/Linux 12 Kernel: 5.15 Compiler: gcc gcc (Debian 12.2.0-14+deb12u1) 12.2.0 Ubuntu 20.04 Kernel: 4.19 Compiler: gcc gcc (Ubuntu 9.4.0-1ubuntu1~20.04.2) 9.4.0 openSUSE Leap 15.6 Kernel: 5.15 Compiler: gcc gcc (SUSE Linux) 7.5.0 Red Hat Enterprise Linux 8.10 Kernel: 5.15 Compiler: gcc gcc (GCC) 8.5.0 20210514 (Red Hat 8.5.0-22) FreeBSD 14.2 Kernel: 14.2-RELEASE Compiler: clang 18.1.6 Red Hat Enterprise Linux 9.5 Kernel: 5.15 Compiler: gcc gcc (GCC) 11.5.0 20240719 (Red Hat 11.5.0-2) Ubuntu 22.04 Kernel: 5.15 Compiler: gcc gcc (Ubuntu 11.4.0-1ubuntu1~22.04) 11.4.0 Ubuntu 24.04 Kernel: 5.15 Compiler: gcc gcc (Ubuntu 13.3.0-6ubuntu2~24.04) 13.3.0 Windows Server 2022 Kernel: 10.0.20348.2031 Compiler: clang 15.0.7, gcc 14.1.0 (MinGW), and MSVC VS 19.39.33521 To view detailed results, visit: https://lab.dpdk.org/results/dashboard/tarballs/35009/ UNH-IOL DPDK Community Lab To manage your email subscriptions, visit: https://lab.dpdk.org/results/dashboard/preferences/subscriptions/