From mboxrd@z Thu Jan 1 00:00:00 1970 Return-Path: Received: from mails.dpdk.org (mails.dpdk.org [217.70.189.124]) by inbox.dpdk.org (Postfix) with ESMTP id 0D16046F7B for ; Fri, 26 Sep 2025 07:36:30 +0200 (CEST) Received: from mails.dpdk.org (localhost [127.0.0.1]) by mails.dpdk.org (Postfix) with ESMTP id 047884025D; Fri, 26 Sep 2025 07:36:30 +0200 (CEST) Received: from mail-pl1-f226.google.com (mail-pl1-f226.google.com [209.85.214.226]) by mails.dpdk.org (Postfix) with ESMTP id 330B84025D for ; Fri, 26 Sep 2025 07:36:29 +0200 (CEST) Received: by mail-pl1-f226.google.com with SMTP id d9443c01a7336-27edcbcd158so14117755ad.3 for ; Thu, 25 Sep 2025 22:36:29 -0700 (PDT) DKIM-Signature: v=1; a=rsa-sha256; c=relaxed/relaxed; d=iol.unh.edu; s=unh-iol; t=1758864988; x=1759469788; darn=dpdk.org; h=cc:to:from:subject:message-id:date:from:to:cc:subject:date :message-id:reply-to; bh=p2u36vw+aIUZR0XrhfDVupC120kL/YHLooPVbCJ6mhQ=; b=b/++HUz4QDWzkeVO+ZJuwtIgju9lNFtb7QcRGtIOrC8wWTnD/kPxzQ1hqUF1SFCfUA 1bFPDVROJ21yfe37UozKVmft7mbnkmT3ZOokqpqjDufBnALkzfI+kJ0ZvkQdGA73CkDU Der/8QPBjS0urP8ZFZLrwVERpgjpNQEUUmbUs= X-Google-DKIM-Signature: v=1; a=rsa-sha256; c=relaxed/relaxed; d=1e100.net; s=20230601; t=1758864988; x=1759469788; h=cc:to:from:subject:message-id:date:x-gm-message-state:from:to:cc :subject:date:message-id:reply-to; bh=p2u36vw+aIUZR0XrhfDVupC120kL/YHLooPVbCJ6mhQ=; b=B2h3dvMCPLGS7f26zlZztU01oB8p7cHD5fjLPXHWDMdc9K7lnpTGIyKEMsDz1PKOyK 8ZSoB551sfuk4buZ2WxbI1Em1DeTzzRaIDB/sFxLOuFAq97PI03zmz+r4C2iQUqRoFSd x3pRrE0hcq85vRdVQUwl6aqDkWFLw4eppiBskoJGzqDex2ht/Lsq8a059hOX2OKgoAzg CY0A+jeprsAViXAX7w3oCpY0y+0G6w/Wiu/7rPrvkt6sPR+XSTbAhqaiLUhhre+SV2fi BlhnTmXMvpSaTNwvroTavVtMJL2IT7ENWP14sEGK9RYAJAP5C2utu6A3cbdXRheb4R3T UhdQ== X-Gm-Message-State: AOJu0YxhQXxfHoiuXkcsyaf7gD8J04w5k60EWAO1ZTmazTbJw7vhMzkr XvR72CBBxDEQEYUA4WRc/a7xndUxO9nXdaUAU1U/evuuNQKGcsE7AaFW806lBDd2IICECTcnoua dnFgzgp3AqwK8M6vaJO05k4qFZE+hnw5JPQsBNF15Vdbi9bLOHxxn X-Gm-Gg: ASbGncv3CGnlVNYPDAKVF4GTtnspCiscivkkDfZ4JKBg49x5xFk8DZ9d/1i8oJfcwTf k8jpBZBOmKf6cI6r3vUp9pX7AkhF3WJEwRZXn7RGYEpyZMX8+uJXVbt3j1ZuS4VrYAbIF4OzB3e tD8aRkRdn4Dc8C80yqU7F8EpFw8B9xF8tUFmGd4xVpXEuJd8ENNlUMDIgOqHEtgCkFvws/ZaDp4 XRvjvhQcSldvuHH88MRPGQ1zml7nyWwYHe1fHLVJO/EHdz1sJakJe07YFlUivjZR2u8w4xKCOVQ yMCNnOA4ZB4jRgF6mftg5KcsXZJaqxTgg0Pfnh8ffjZ8FjxKUw== X-Google-Smtp-Source: AGHT+IEeFgrTaR9K38OtxUIFfKHn0ZL/BpxotAOLJj84BuDR4E6i2QamXlRpsxQUMxmdyZJJnimEg4GYphkj X-Received: by 2002:a17:903:1b63:b0:271:479d:3dcb with SMTP id d9443c01a7336-27ed49b9b0fmr66368955ad.6.1758864988460; Thu, 25 Sep 2025 22:36:28 -0700 (PDT) Received: from postal.iol.unh.edu (postal.iol.unh.edu. [2606:4100:3880:1234::84]) by smtp-relay.gmail.com with ESMTPS id 98e67ed59e1d1-3341bdf76d2sm449899a91.4.2025.09.25.22.36.28 (version=TLS1_2 cipher=ECDHE-ECDSA-AES128-GCM-SHA256 bits=128/128); Thu, 25 Sep 2025 22:36:28 -0700 (PDT) X-Relaying-Domain: iol.unh.edu Date: Thu, 25 Sep 2025 22:36:28 -0700 (PDT) Message-ID: <68d6265c.170a0220.3f2f2.ba28SMTPIN_ADDED_MISSING@mx.google.com> Received: from [172.21.0.8] (unknown [172.18.0.240]) by postal.iol.unh.edu (Postfix) with ESMTP id B5E3E6051830; Fri, 26 Sep 2025 01:36:27 -0400 (EDT) Subject: |SUCCESS| [GIT MASTER] 3b43ce3f4a54468e7ef65760c2fd7b4d6ee6d9fc From: dpdklab@iol.unh.edu To: Test Report Cc: dpdk-test-reports@iol.unh.edu, Xueming Li , Christian Ehrhardt , Kevin Traynor , Luca Boccassi Content-Type: text/plain X-BeenThere: test-report@dpdk.org X-Mailman-Version: 2.1.29 Precedence: list List-Id: automatic DPDK test reports List-Unsubscribe: , List-Archive: List-Post: List-Help: List-Subscribe: , Errors-To: test-report-bounces@dpdk.org _Testing PASS_ Branch: tags/v22.11 3b43ce3f4a54468e7ef65760c2fd7b4d6ee6d9fc --> testing pass Upstream job id: Generic-DPDK-Compile-Meson#428756 Test environment and result as below: +-------------------------------+--------------------+-------------------------+----------------------+ | Environment | dpdk_meson_compile | dpdk_llvm_clang_compile | dpdk_mingw64_compile | +===============================+====================+=========================+======================+ | CentOS Stream 10 | PASS | SKIPPED | SKIPPED | +-------------------------------+--------------------+-------------------------+----------------------+ | CentOS Stream 9 | PASS | SKIPPED | SKIPPED | +-------------------------------+--------------------+-------------------------+----------------------+ | Fedora Linux 42 | PASS | SKIPPED | SKIPPED | +-------------------------------+--------------------+-------------------------+----------------------+ | Debian GNU/Linux 12 | PASS | SKIPPED | SKIPPED | +-------------------------------+--------------------+-------------------------+----------------------+ | Ubuntu 20.04 | PASS | SKIPPED | SKIPPED | +-------------------------------+--------------------+-------------------------+----------------------+ | openSUSE Leap 15.6 | PASS | SKIPPED | SKIPPED | +-------------------------------+--------------------+-------------------------+----------------------+ | Red Hat Enterprise Linux 8.10 | PASS | SKIPPED | SKIPPED | +-------------------------------+--------------------+-------------------------+----------------------+ | FreeBSD 14.2 | PASS | SKIPPED | SKIPPED | +-------------------------------+--------------------+-------------------------+----------------------+ | Red Hat Enterprise Linux 9.5 | PASS | SKIPPED | SKIPPED | +-------------------------------+--------------------+-------------------------+----------------------+ | Ubuntu 22.04 | PASS | SKIPPED | SKIPPED | +-------------------------------+--------------------+-------------------------+----------------------+ | Ubuntu 24.04 | PASS | SKIPPED | SKIPPED | +-------------------------------+--------------------+-------------------------+----------------------+ | Windows Server 2022 | SKIPPED | PASS | PASS | +-------------------------------+--------------------+-------------------------+----------------------+ CentOS Stream 10 Kernel: 5.15 Compiler: gcc gcc (GCC) 14.2.1 20250110 (Red Hat 14.2.1-8) CentOS Stream 9 Kernel: 5.15 Compiler: gcc gcc (GCC) 11.5.0 20240719 (Red Hat 11.5.0-11) Fedora Linux 42 Kernel: 5.15 Compiler: gcc gcc (GCC) 15.2.1 20250808 (Red Hat 15.2.1-1) Debian GNU/Linux 12 Kernel: 5.15 Compiler: gcc gcc (Debian 12.2.0-14+deb12u1) 12.2.0 Ubuntu 20.04 Kernel: 4.19 Compiler: gcc gcc (Ubuntu 9.4.0-1ubuntu1~20.04.2) 9.4.0 openSUSE Leap 15.6 Kernel: 5.15 Compiler: gcc gcc (SUSE Linux) 7.5.0 Red Hat Enterprise Linux 8.10 Kernel: 5.15 Compiler: gcc gcc (GCC) 8.5.0 20210514 (Red Hat 8.5.0-22) FreeBSD 14.2 Kernel: 14.2-RELEASE Compiler: clang 18.1.6 Red Hat Enterprise Linux 9.5 Kernel: 5.15 Compiler: gcc gcc (GCC) 11.5.0 20240719 (Red Hat 11.5.0-2) Ubuntu 22.04 Kernel: 5.15 Compiler: gcc gcc (Ubuntu 11.4.0-1ubuntu1~22.04) 11.4.0 Ubuntu 24.04 Kernel: 5.15 Compiler: gcc gcc (Ubuntu 13.3.0-6ubuntu2~24.04) 13.3.0 Windows Server 2022 Kernel: 10.0.20348.2031 Compiler: clang 15.0.7, gcc 14.1.0 (MinGW), and MSVC VS 19.39.33521 To view detailed results, visit: https://lab.dpdk.org/results/dashboard/tarballs/35009/ UNH-IOL DPDK Community Lab To manage your email subscriptions, visit: https://lab.dpdk.org/results/dashboard/preferences/subscriptions/