From mboxrd@z Thu Jan 1 00:00:00 1970 Return-Path: Received: from mails.dpdk.org (mails.dpdk.org [217.70.189.124]) by inbox.dpdk.org (Postfix) with ESMTP id 32B6C46F7B for ; Fri, 26 Sep 2025 07:36:45 +0200 (CEST) Received: from mails.dpdk.org (localhost [127.0.0.1]) by mails.dpdk.org (Postfix) with ESMTP id 2DDF9402E0; Fri, 26 Sep 2025 07:36:45 +0200 (CEST) Received: from mail-oa1-f98.google.com (mail-oa1-f98.google.com [209.85.160.98]) by mails.dpdk.org (Postfix) with ESMTP id 6E5C04025D for ; Fri, 26 Sep 2025 07:36:38 +0200 (CEST) Received: by mail-oa1-f98.google.com with SMTP id 586e51a60fabf-330d1565844so1283043fac.1 for ; Thu, 25 Sep 2025 22:36:38 -0700 (PDT) DKIM-Signature: v=1; a=rsa-sha256; c=relaxed/relaxed; d=iol.unh.edu; s=unh-iol; t=1758864997; x=1759469797; darn=dpdk.org; h=cc:to:from:subject:message-id:date:from:to:cc:subject:date :message-id:reply-to; bh=T7mt8huUhR7FsSyCQ2/lYcI3kKJHIynyCNDzUTHNIbY=; b=BTMoNDSC6pQF36t6Q5o0vZ2FNyMIEzn4q52VFkrnyD7kqSMEGnHIki5xEwD+8qPd+a 525K8xUBwV9lxN/D03wfq2KFx+fufMTCrdwOl3fg14ouaIfEScE0gqABtt5XamSScBJD V31Qyc/kkDZeodlxPaW913aJEfdSwySmsrnHU= X-Google-DKIM-Signature: v=1; a=rsa-sha256; c=relaxed/relaxed; d=1e100.net; s=20230601; t=1758864997; x=1759469797; h=cc:to:from:subject:message-id:date:x-gm-message-state:from:to:cc :subject:date:message-id:reply-to; bh=T7mt8huUhR7FsSyCQ2/lYcI3kKJHIynyCNDzUTHNIbY=; b=CnomrBF/LRBt3KX7NTtsqkajT9XXR8y1rEN6MuU166u8o4jL4WwIofsrjtYz/DAwl/ tQWrcBCDQFal4mQbmU4P9SEZwn9tnXMC6zCvFAGaS3O2PDc3+Z2IKx5KTP2mFPoTVmB/ OyWNCAySPZRez8TVmCpIBCe1P+A0qsMt33Gfz7pEndcg5Ky99u7YbRMl5tiVt82udzdH ZGLWVfqron2ve6Vr6oogUHwvEN+FRvi0ahJ+wctLnvc9bG93glBmH1A0mDzkw9NN54SH AzMalvubHNBDiOvwKW5P/YVatDkS76v3XWbYdXlUFEr+ICJ4aqqguZpWhMO1YUJ8KuHY vWUg== X-Gm-Message-State: AOJu0YxiASNTGdrkkfshTje2Pn+zu7PhDr4TOrsIap/Jel3G+l6SuZde PZ2An9DWVbjsSwDjcgF96OXpDHgsNsiraOZPvasCI+gPdNOGbX7aAjgk9M1lSJ9Zjt6RlBXqJUj Pzz0/u+vtwv7oXAABby2mNxdVb+7TlTSaZeHa X-Gm-Gg: ASbGncsh1EGw9VUKxB+2gM3H0InicEGpT6fnTD0by+/Uu8sqHKwWq43OH0b1RzJCha4 46csG5MIyqj8Bajffzq11ss4woVWdjgialrGP1Fzx6GW/XxG/2I2kNrwdzMHHYrj9hl96mqW9Sd +GHSPcsMb0S+Xou/yTTdCc0n5xWvICpoV/rTY4h51UqdlGExlww1gEOUDeGpyyFHafFtr/ZBhpE iFLqhz/+UwZRudWYVm51p69LzUF0U0FSQJ1sL0juQKhCnqouIAspKUKyKkmhDY9q9tuvxNkNC+7 Hd1KW2PDldikUflM9a4iePIohZ1GZk2a2P/OECq9UADD/54P1kNUwxDoP68axKo86jLjEupj X-Google-Smtp-Source: AGHT+IGk5lmj/ao8OP7xPIHuO8V2weE0oTsYNmZuGIvwD3OJeRKNxhjILsGMOvg+x62j435O0ISEOf3eXCMw X-Received: by 2002:a05:6871:28a5:b0:34a:acce:c6d8 with SMTP id 586e51a60fabf-35ebee22305mr2884669fac.11.1758864997642; Thu, 25 Sep 2025 22:36:37 -0700 (PDT) Received: from postal.iol.unh.edu (postal.iol.unh.edu. [132.177.123.84]) by smtp-relay.gmail.com with ESMTPS id 586e51a60fabf-363b77d3459sm300012fac.21.2025.09.25.22.36.37 (version=TLS1_2 cipher=ECDHE-ECDSA-AES128-GCM-SHA256 bits=128/128); Thu, 25 Sep 2025 22:36:37 -0700 (PDT) X-Relaying-Domain: iol.unh.edu Date: Thu, 25 Sep 2025 22:36:37 -0700 (PDT) Message-ID: <68d62665.050a0220.1a826d.1c4eSMTPIN_ADDED_MISSING@mx.google.com> Received: from [172.21.0.5] (unknown [172.18.0.240]) by postal.iol.unh.edu (Postfix) with ESMTP id 2BC3D6051830; Fri, 26 Sep 2025 01:36:37 -0400 (EDT) Subject: |SUCCESS| [GIT MASTER] 3b43ce3f4a54468e7ef65760c2fd7b4d6ee6d9fc From: dpdklab@iol.unh.edu To: Test Report Cc: dpdk-test-reports@iol.unh.edu, Xueming Li , Christian Ehrhardt , Kevin Traynor , Luca Boccassi Content-Type: text/plain X-BeenThere: test-report@dpdk.org X-Mailman-Version: 2.1.29 Precedence: list List-Id: automatic DPDK test reports List-Unsubscribe: , List-Archive: List-Post: List-Help: List-Subscribe: , Errors-To: test-report-bounces@dpdk.org _Testing PASS_ Branch: tags/v22.11 3b43ce3f4a54468e7ef65760c2fd7b4d6ee6d9fc --> testing pass Upstream job id: Generic-DPDK-Compile-Meson#428770 Test environment and result as below: +-------------------------------+--------------------+-------------------------+----------------------+ | Environment | dpdk_meson_compile | dpdk_llvm_clang_compile | dpdk_mingw64_compile | +===============================+====================+=========================+======================+ | CentOS Stream 10 | PASS | SKIPPED | SKIPPED | +-------------------------------+--------------------+-------------------------+----------------------+ | CentOS Stream 9 | PASS | SKIPPED | SKIPPED | +-------------------------------+--------------------+-------------------------+----------------------+ | Fedora Linux 42 | PASS | SKIPPED | SKIPPED | +-------------------------------+--------------------+-------------------------+----------------------+ | Debian GNU/Linux 12 | PASS | SKIPPED | SKIPPED | +-------------------------------+--------------------+-------------------------+----------------------+ | Ubuntu 20.04 | PASS | SKIPPED | SKIPPED | +-------------------------------+--------------------+-------------------------+----------------------+ | openSUSE Leap 15.6 | PASS | SKIPPED | SKIPPED | +-------------------------------+--------------------+-------------------------+----------------------+ | Red Hat Enterprise Linux 8.10 | PASS | SKIPPED | SKIPPED | +-------------------------------+--------------------+-------------------------+----------------------+ | FreeBSD 14.2 | PASS | SKIPPED | SKIPPED | +-------------------------------+--------------------+-------------------------+----------------------+ | Red Hat Enterprise Linux 9.5 | PASS | SKIPPED | SKIPPED | +-------------------------------+--------------------+-------------------------+----------------------+ | Ubuntu 22.04 | PASS | SKIPPED | SKIPPED | +-------------------------------+--------------------+-------------------------+----------------------+ | Ubuntu 24.04 | PASS | SKIPPED | SKIPPED | +-------------------------------+--------------------+-------------------------+----------------------+ | Windows Server 2022 | SKIPPED | PASS | PASS | +-------------------------------+--------------------+-------------------------+----------------------+ CentOS Stream 10 Kernel: 5.15 Compiler: gcc gcc (GCC) 14.2.1 20250110 (Red Hat 14.2.1-8) CentOS Stream 9 Kernel: 5.15 Compiler: gcc gcc (GCC) 11.5.0 20240719 (Red Hat 11.5.0-11) Fedora Linux 42 Kernel: 5.15 Compiler: gcc gcc (GCC) 15.2.1 20250808 (Red Hat 15.2.1-1) Debian GNU/Linux 12 Kernel: 5.15 Compiler: gcc gcc (Debian 12.2.0-14+deb12u1) 12.2.0 Ubuntu 20.04 Kernel: 4.19 Compiler: gcc gcc (Ubuntu 9.4.0-1ubuntu1~20.04.2) 9.4.0 openSUSE Leap 15.6 Kernel: 5.15 Compiler: gcc gcc (SUSE Linux) 7.5.0 Red Hat Enterprise Linux 8.10 Kernel: 5.15 Compiler: gcc gcc (GCC) 8.5.0 20210514 (Red Hat 8.5.0-22) FreeBSD 14.2 Kernel: 14.2-RELEASE Compiler: clang 18.1.6 Red Hat Enterprise Linux 9.5 Kernel: 5.15 Compiler: gcc gcc (GCC) 11.5.0 20240719 (Red Hat 11.5.0-2) Ubuntu 22.04 Kernel: 5.15 Compiler: gcc gcc (Ubuntu 11.4.0-1ubuntu1~22.04) 11.4.0 Ubuntu 24.04 Kernel: 5.15 Compiler: gcc gcc (Ubuntu 13.3.0-6ubuntu2~24.04) 13.3.0 Windows Server 2022 Kernel: 10.0.20348.2031 Compiler: clang 15.0.7, gcc 14.1.0 (MinGW), and MSVC VS 19.39.33521 To view detailed results, visit: https://lab.dpdk.org/results/dashboard/tarballs/35009/ UNH-IOL DPDK Community Lab To manage your email subscriptions, visit: https://lab.dpdk.org/results/dashboard/preferences/subscriptions/