From mboxrd@z Thu Jan 1 00:00:00 1970 Return-Path: Received: from mails.dpdk.org (mails.dpdk.org [217.70.189.124]) by inbox.dpdk.org (Postfix) with ESMTP id 414B846F7B for ; Fri, 26 Sep 2025 07:36:56 +0200 (CEST) Received: from mails.dpdk.org (localhost [127.0.0.1]) by mails.dpdk.org (Postfix) with ESMTP id 3A0254025D; Fri, 26 Sep 2025 07:36:56 +0200 (CEST) Received: from mail-pl1-f225.google.com (mail-pl1-f225.google.com [209.85.214.225]) by mails.dpdk.org (Postfix) with ESMTP id 8354C4025D for ; Fri, 26 Sep 2025 07:36:48 +0200 (CEST) Received: by mail-pl1-f225.google.com with SMTP id d9443c01a7336-269639879c3so17289715ad.2 for ; Thu, 25 Sep 2025 22:36:48 -0700 (PDT) DKIM-Signature: v=1; a=rsa-sha256; c=relaxed/relaxed; d=iol.unh.edu; s=unh-iol; t=1758865008; x=1759469808; darn=dpdk.org; h=cc:to:from:subject:message-id:date:from:to:cc:subject:date :message-id:reply-to; bh=crRUYROtehsIYUeZ9wDYNDHYwEPhyrk0UeCJP8FLj3I=; b=L+64vYTseRfQllKfkphqpotgtasHHlsAphigjzHJ0ktxmot96uqfZ5PmQ5JpFnIur7 JK5k9RtnmO2aosscALKCBY6L8UDLaHznjsz85K0Qom69B1K2LRDsUTq1Di+uz8eN2rjy P6ASL+TR8Q6LiBLq7+sWwMj6TFqelP2j4+184= X-Google-DKIM-Signature: v=1; a=rsa-sha256; c=relaxed/relaxed; d=1e100.net; s=20230601; t=1758865008; x=1759469808; h=cc:to:from:subject:message-id:date:x-gm-message-state:from:to:cc :subject:date:message-id:reply-to; bh=crRUYROtehsIYUeZ9wDYNDHYwEPhyrk0UeCJP8FLj3I=; b=pZUFF+A9mYMPb1euUotWns2NI3lGLqcae6ViM5inUGZ4rhZxCxo7pT7Oy7jS0Mh0li Xxsvt043rz27nmsdoFzads23nk8RxmK34lTNjnRoT053cjTqguOuPN2+1GqrPCorsIoM 7MQI7n6/XYJUu8/s3+0moUtB/xnoSrZCG28fqFqLMSzexXzGnbs/zyK+zghblM1/1VHy XGMbHVqng8epheSCLAL1vN2Yw8+E4xF0h/6p7Sg9pEEmJqgMVinhht2fXa44jVgvwVgc dyQlt6vEpPsW9CbWM6pDyCmEtqhZKAeY9CI3V420iMv8TqKg6TuVECy2bwVgOCYYS0uW JLJg== X-Gm-Message-State: AOJu0YxDGiJL1/Hj4hx4GPz/jYgsem6u6SVbjCgEsZYyH7x3B/y6EX1v oyGVJQZogP1J3nGVoxfMcauxMhY8ZzlzIVcRt1IHeuysYRIxTNo96blTHwN+KZvQqieh4exrzdX bOQrlPisZnm4WGSJz4Ik87cfuj4b2ja0HKAH1rcwd9sDjVicyUtTg X-Gm-Gg: ASbGncuu2/UDjZyWwyEkQH5CIASwGGbu2bF6xbDQavWflO7QhXJabWJBBWSNAylAF2M 6itQuO7K9KnZZCm0etJGTvU3q6XRL/jFG+nTEVO2O6vt6dSxvOdXwc/NlG2eRuEDGLVFzrbqWVv YaNiGiqxP9qKPnhg/HGlOOh0lyEaiqmBwBJCQmb5mcUwWHM3aPcd30llDP+y0JFJiNdVHiAfx2L VFu/RizrXNpH4LNBIhnkqspYQSheqHRQboFEHwzXTY5dGH0K9YTRO3a7zWKMcfStu0uHXqBLloS mUJWrYABASDYX2CuNbD46KGevPQJgD0ixxe6Hp5SanLhKeSN1g== X-Google-Smtp-Source: AGHT+IHNZge0jYH0WdpdqoX47QSv0H25Gi5IVBy3/lMpXkpjEZFp4TefE/9nS7IEGrrDqFmPKAoDC1AA0cPB X-Received: by 2002:a17:902:eccb:b0:24c:e6fa:2a38 with SMTP id d9443c01a7336-27ed4a0d705mr70881625ad.25.1758865007713; Thu, 25 Sep 2025 22:36:47 -0700 (PDT) Received: from postal.iol.unh.edu (postal.iol.unh.edu. [2606:4100:3880:1234::84]) by smtp-relay.gmail.com with ESMTPS id d9443c01a7336-27ed67e66easm3287265ad.45.2025.09.25.22.36.47 (version=TLS1_2 cipher=ECDHE-ECDSA-AES128-GCM-SHA256 bits=128/128); Thu, 25 Sep 2025 22:36:47 -0700 (PDT) X-Relaying-Domain: iol.unh.edu Date: Thu, 25 Sep 2025 22:36:47 -0700 (PDT) Message-ID: <68d6266f.170a0220.28a7e4.405eSMTPIN_ADDED_MISSING@mx.google.com> Received: from [172.21.0.3] (unknown [172.18.0.240]) by postal.iol.unh.edu (Postfix) with ESMTP id E3B506051830; Fri, 26 Sep 2025 01:36:46 -0400 (EDT) Subject: |SUCCESS| [GIT MASTER] 3b43ce3f4a54468e7ef65760c2fd7b4d6ee6d9fc From: dpdklab@iol.unh.edu To: Test Report Cc: dpdk-test-reports@iol.unh.edu, Xueming Li , Christian Ehrhardt , Kevin Traynor , Luca Boccassi Content-Type: text/plain X-BeenThere: test-report@dpdk.org X-Mailman-Version: 2.1.29 Precedence: list List-Id: automatic DPDK test reports List-Unsubscribe: , List-Archive: List-Post: List-Help: List-Subscribe: , Errors-To: test-report-bounces@dpdk.org _Testing PASS_ Branch: tags/v22.11 3b43ce3f4a54468e7ef65760c2fd7b4d6ee6d9fc --> testing pass Upstream job id: Generic-DPDK-Compile-Meson#428772 Test environment and result as below: +-------------------------------+--------------------+-------------------------+----------------------+ | Environment | dpdk_meson_compile | dpdk_llvm_clang_compile | dpdk_mingw64_compile | +===============================+====================+=========================+======================+ | CentOS Stream 10 | PASS | SKIPPED | SKIPPED | +-------------------------------+--------------------+-------------------------+----------------------+ | CentOS Stream 9 | PASS | SKIPPED | SKIPPED | +-------------------------------+--------------------+-------------------------+----------------------+ | Fedora Linux 42 | PASS | SKIPPED | SKIPPED | +-------------------------------+--------------------+-------------------------+----------------------+ | Debian GNU/Linux 12 | PASS | SKIPPED | SKIPPED | +-------------------------------+--------------------+-------------------------+----------------------+ | Ubuntu 20.04 | PASS | SKIPPED | SKIPPED | +-------------------------------+--------------------+-------------------------+----------------------+ | openSUSE Leap 15.6 | PASS | SKIPPED | SKIPPED | +-------------------------------+--------------------+-------------------------+----------------------+ | Red Hat Enterprise Linux 8.10 | PASS | SKIPPED | SKIPPED | +-------------------------------+--------------------+-------------------------+----------------------+ | FreeBSD 14.2 | PASS | SKIPPED | SKIPPED | +-------------------------------+--------------------+-------------------------+----------------------+ | Red Hat Enterprise Linux 9.5 | PASS | SKIPPED | SKIPPED | +-------------------------------+--------------------+-------------------------+----------------------+ | Ubuntu 22.04 | PASS | SKIPPED | SKIPPED | +-------------------------------+--------------------+-------------------------+----------------------+ | Ubuntu 24.04 | PASS | SKIPPED | SKIPPED | +-------------------------------+--------------------+-------------------------+----------------------+ | Windows Server 2022 | SKIPPED | PASS | PASS | +-------------------------------+--------------------+-------------------------+----------------------+ CentOS Stream 10 Kernel: 5.15 Compiler: gcc gcc (GCC) 14.2.1 20250110 (Red Hat 14.2.1-8) CentOS Stream 9 Kernel: 5.15 Compiler: gcc gcc (GCC) 11.5.0 20240719 (Red Hat 11.5.0-11) Fedora Linux 42 Kernel: 5.15 Compiler: gcc gcc (GCC) 15.2.1 20250808 (Red Hat 15.2.1-1) Debian GNU/Linux 12 Kernel: 5.15 Compiler: gcc gcc (Debian 12.2.0-14+deb12u1) 12.2.0 Ubuntu 20.04 Kernel: 4.19 Compiler: gcc gcc (Ubuntu 9.4.0-1ubuntu1~20.04.2) 9.4.0 openSUSE Leap 15.6 Kernel: 5.15 Compiler: gcc gcc (SUSE Linux) 7.5.0 Red Hat Enterprise Linux 8.10 Kernel: 5.15 Compiler: gcc gcc (GCC) 8.5.0 20210514 (Red Hat 8.5.0-22) FreeBSD 14.2 Kernel: 14.2-RELEASE Compiler: clang 18.1.6 Red Hat Enterprise Linux 9.5 Kernel: 5.15 Compiler: gcc gcc (GCC) 11.5.0 20240719 (Red Hat 11.5.0-2) Ubuntu 22.04 Kernel: 5.15 Compiler: gcc gcc (Ubuntu 11.4.0-1ubuntu1~22.04) 11.4.0 Ubuntu 24.04 Kernel: 5.15 Compiler: gcc gcc (Ubuntu 13.3.0-6ubuntu2~24.04) 13.3.0 Windows Server 2022 Kernel: 10.0.20348.2031 Compiler: clang 15.0.7, gcc 14.1.0 (MinGW), and MSVC VS 19.39.33521 To view detailed results, visit: https://lab.dpdk.org/results/dashboard/tarballs/35009/ UNH-IOL DPDK Community Lab To manage your email subscriptions, visit: https://lab.dpdk.org/results/dashboard/preferences/subscriptions/