From mboxrd@z Thu Jan 1 00:00:00 1970 Return-Path: Received: from mails.dpdk.org (mails.dpdk.org [217.70.189.124]) by inbox.dpdk.org (Postfix) with ESMTP id 49A4546F7B for ; Fri, 26 Sep 2025 07:36:56 +0200 (CEST) Received: from mails.dpdk.org (localhost [127.0.0.1]) by mails.dpdk.org (Postfix) with ESMTP id 43588402E0; Fri, 26 Sep 2025 07:36:56 +0200 (CEST) Received: from mail-vs1-f98.google.com (mail-vs1-f98.google.com [209.85.217.98]) by mails.dpdk.org (Postfix) with ESMTP id E8BFC4025D for ; Fri, 26 Sep 2025 07:36:54 +0200 (CEST) Received: by mail-vs1-f98.google.com with SMTP id ada2fe7eead31-574d36a8c11so583834137.1 for ; Thu, 25 Sep 2025 22:36:54 -0700 (PDT) DKIM-Signature: v=1; a=rsa-sha256; c=relaxed/relaxed; d=iol.unh.edu; s=unh-iol; t=1758865014; x=1759469814; darn=dpdk.org; h=cc:to:from:subject:message-id:date:from:to:cc:subject:date :message-id:reply-to; bh=Omgmjj1tuSdF1jhUokts1m418m4XvXirXmvfFAFlHx0=; b=Al/iKYJyLOip+2je7t1BITaVhEVvUBSiFt5bLjLTauudZ18b9+K8A1ShcqO2Wuajln 7ujQHm/ZW0Q+WjswC5W03qxsUVXZ/NUtjqLmzWK6O4N3NoOToTwtgMM9wrPEGoN6MdvS HOW1h2t+axoMwgc2cJuEDeM9ReKXze7lbRxRY= X-Google-DKIM-Signature: v=1; a=rsa-sha256; c=relaxed/relaxed; d=1e100.net; s=20230601; t=1758865014; x=1759469814; h=cc:to:from:subject:message-id:date:x-gm-message-state:from:to:cc :subject:date:message-id:reply-to; bh=Omgmjj1tuSdF1jhUokts1m418m4XvXirXmvfFAFlHx0=; b=qgLUWDuZZSX34b6ZlhpkLgt8tBkfsomi675R8a5lT9rTOaUVQAe/F5BfuHJHCLT9XB PUDYvlv/i3XSOkaSmomCAry8c0SX7FCq/7XDEy6jtFgO4R7cvbPcW0LXkqcArBODdEvz 6+ul2dVQ5UDBWDoBoxS82KcO1RI2hJWCBthiOYn9qD0qFKI2CIAH4t8jcoeSf7v2ILtm HPR/Qq4k9i7ahYC+uujDVcARVQvvSJMtCYnEAzD949M7NG8YAb3Euy4Nu5D+eMmCvrlg C8qO6z8hEdyZfCOeQ0xjQ1Jh6NsvyidF5HNcQOVZHt/rRfTt8PEtZbRai/K7AShqEGH6 yBbg== X-Gm-Message-State: AOJu0YyOPISvsY3klj5287oWncFei5tGzsVV719/aOER6xcXFM9mZAjF YN7ZxMG0OG+LFEejiislr4uGacPPqQL+ZqtR1gka9jLoMlSArqvErjL5Csz59t4/eeeHucQwNwT ZZ1BcxTVeQHNHnAdH4RvSAMb2zhCdIDaewNtQ X-Gm-Gg: ASbGncsNe5OnVBxM4elZUn/ADUI3zE7RPU9VG3YeGiBNNKiZHvPJt99juIeWXMn897N LCoOzJVeygQskL2EVqXhLjlT1ktRA+mF0A7Hou6c9ken3IJXeN6aIyZuTwAz8wLbtIGgq4B23f4 Xx7aiUJrfBEbmzGhiKIKNd65fLjQqOdJs7Rl9M0TdqrEFOv36MA7ljcNunnFM1wyqbyImlFC2Y0 xF70KAYbwThuMkIv9y/RILxislnDacqd8xSnS1a7EO/paO4SNm1gPwvZKn+sAAKehp2ohHXrJTv Q7N3r7884kK1Z4u9G0Qir3tpOlef7OciQCCvKzvGYkXLgQzMPYn4UJKt+5+E/jw/YCtBznQf X-Google-Smtp-Source: AGHT+IFxq3obOm4VEXuCHWhWJGgf2RYTOtYpJfIjjZUX1VA3JHZ3MXsxB2QvjJeHaXSpb0mXzXaxo+aUUOcm X-Received: by 2002:a05:6102:6d2:b0:538:f3d5:fc12 with SMTP id ada2fe7eead31-5acd0935270mr2538198137.32.1758865014248; Thu, 25 Sep 2025 22:36:54 -0700 (PDT) Received: from postal.iol.unh.edu (postal.iol.unh.edu. [132.177.123.84]) by smtp-relay.gmail.com with ESMTPS id ada2fe7eead31-5ae302f2b7csm300119137.1.2025.09.25.22.36.54 (version=TLS1_2 cipher=ECDHE-ECDSA-AES128-GCM-SHA256 bits=128/128); Thu, 25 Sep 2025 22:36:54 -0700 (PDT) X-Relaying-Domain: iol.unh.edu Date: Thu, 25 Sep 2025 22:36:54 -0700 (PDT) Message-ID: <68d62676.050a0220.16637c.29bcSMTPIN_ADDED_MISSING@mx.google.com> Received: from [172.21.0.2] (unknown [172.18.0.240]) by postal.iol.unh.edu (Postfix) with ESMTP id E564A6051830; Fri, 26 Sep 2025 01:36:53 -0400 (EDT) Subject: |SUCCESS| [GIT MASTER] 3b43ce3f4a54468e7ef65760c2fd7b4d6ee6d9fc From: dpdklab@iol.unh.edu To: Test Report Cc: dpdk-test-reports@iol.unh.edu, Xueming Li , Christian Ehrhardt , Kevin Traynor , Luca Boccassi Content-Type: text/plain X-BeenThere: test-report@dpdk.org X-Mailman-Version: 2.1.29 Precedence: list List-Id: automatic DPDK test reports List-Unsubscribe: , List-Archive: List-Post: List-Help: List-Subscribe: , Errors-To: test-report-bounces@dpdk.org _Testing PASS_ Branch: tags/v22.11 3b43ce3f4a54468e7ef65760c2fd7b4d6ee6d9fc --> testing pass Upstream job id: Generic-DPDK-Compile-Meson#428760 Test environment and result as below: +-------------------------------+--------------------+-------------------------+----------------------+ | Environment | dpdk_meson_compile | dpdk_llvm_clang_compile | dpdk_mingw64_compile | +===============================+====================+=========================+======================+ | CentOS Stream 10 | PASS | SKIPPED | SKIPPED | +-------------------------------+--------------------+-------------------------+----------------------+ | CentOS Stream 9 | PASS | SKIPPED | SKIPPED | +-------------------------------+--------------------+-------------------------+----------------------+ | Fedora Linux 42 | PASS | SKIPPED | SKIPPED | +-------------------------------+--------------------+-------------------------+----------------------+ | Debian GNU/Linux 12 | PASS | SKIPPED | SKIPPED | +-------------------------------+--------------------+-------------------------+----------------------+ | Ubuntu 20.04 | PASS | SKIPPED | SKIPPED | +-------------------------------+--------------------+-------------------------+----------------------+ | openSUSE Leap 15.6 | PASS | SKIPPED | SKIPPED | +-------------------------------+--------------------+-------------------------+----------------------+ | Red Hat Enterprise Linux 8.10 | PASS | SKIPPED | SKIPPED | +-------------------------------+--------------------+-------------------------+----------------------+ | FreeBSD 14.2 | PASS | SKIPPED | SKIPPED | +-------------------------------+--------------------+-------------------------+----------------------+ | Red Hat Enterprise Linux 9.5 | PASS | SKIPPED | SKIPPED | +-------------------------------+--------------------+-------------------------+----------------------+ | Ubuntu 22.04 | PASS | SKIPPED | SKIPPED | +-------------------------------+--------------------+-------------------------+----------------------+ | Ubuntu 24.04 | PASS | SKIPPED | SKIPPED | +-------------------------------+--------------------+-------------------------+----------------------+ | Windows Server 2022 | SKIPPED | PASS | PASS | +-------------------------------+--------------------+-------------------------+----------------------+ CentOS Stream 10 Kernel: 5.15 Compiler: gcc gcc (GCC) 14.2.1 20250110 (Red Hat 14.2.1-8) CentOS Stream 9 Kernel: 5.15 Compiler: gcc gcc (GCC) 11.5.0 20240719 (Red Hat 11.5.0-11) Fedora Linux 42 Kernel: 5.15 Compiler: gcc gcc (GCC) 15.2.1 20250808 (Red Hat 15.2.1-1) Debian GNU/Linux 12 Kernel: 5.15 Compiler: gcc gcc (Debian 12.2.0-14+deb12u1) 12.2.0 Ubuntu 20.04 Kernel: 4.19 Compiler: gcc gcc (Ubuntu 9.4.0-1ubuntu1~20.04.2) 9.4.0 openSUSE Leap 15.6 Kernel: 5.15 Compiler: gcc gcc (SUSE Linux) 7.5.0 Red Hat Enterprise Linux 8.10 Kernel: 5.15 Compiler: gcc gcc (GCC) 8.5.0 20210514 (Red Hat 8.5.0-22) FreeBSD 14.2 Kernel: 14.2-RELEASE Compiler: clang 18.1.6 Red Hat Enterprise Linux 9.5 Kernel: 5.15 Compiler: gcc gcc (GCC) 11.5.0 20240719 (Red Hat 11.5.0-2) Ubuntu 22.04 Kernel: 5.15 Compiler: gcc gcc (Ubuntu 11.4.0-1ubuntu1~22.04) 11.4.0 Ubuntu 24.04 Kernel: 5.15 Compiler: gcc gcc (Ubuntu 13.3.0-6ubuntu2~24.04) 13.3.0 Windows Server 2022 Kernel: 10.0.20348.2031 Compiler: clang 15.0.7, gcc 14.1.0 (MinGW), and MSVC VS 19.39.33521 To view detailed results, visit: https://lab.dpdk.org/results/dashboard/tarballs/35009/ UNH-IOL DPDK Community Lab To manage your email subscriptions, visit: https://lab.dpdk.org/results/dashboard/preferences/subscriptions/