From mboxrd@z Thu Jan 1 00:00:00 1970 Return-Path: Received: from mails.dpdk.org (mails.dpdk.org [217.70.189.124]) by inbox.dpdk.org (Postfix) with ESMTP id 6D72346F80 for ; Fri, 26 Sep 2025 08:32:01 +0200 (CEST) Received: from mails.dpdk.org (localhost [127.0.0.1]) by mails.dpdk.org (Postfix) with ESMTP id 66B744025D; Fri, 26 Sep 2025 08:32:01 +0200 (CEST) Received: from mail-pl1-f225.google.com (mail-pl1-f225.google.com [209.85.214.225]) by mails.dpdk.org (Postfix) with ESMTP id CD3CA4025D for ; Fri, 26 Sep 2025 08:31:59 +0200 (CEST) Received: by mail-pl1-f225.google.com with SMTP id d9443c01a7336-269639879c3so17695115ad.2 for ; Thu, 25 Sep 2025 23:31:59 -0700 (PDT) DKIM-Signature: v=1; a=rsa-sha256; c=relaxed/relaxed; d=iol.unh.edu; s=unh-iol; t=1758868319; x=1759473119; darn=dpdk.org; h=cc:to:from:subject:message-id:date:from:to:cc:subject:date :message-id:reply-to; bh=XxReH6xCXEa2RO62iQHSpws/ciddDIUvFw1KzuzS4ho=; b=VhV8N0FY78Nd25B4YzgglkvyhoE9vcAvVtsiXwlhzFr2Ragftx2Bh+M1PbO4jL99b7 99/O9nx2+ygKVtd0JBH4jh0/Q8ptvfMH31TBcn8+TEFu63p9saTYD4Amevv0S7aQT7/g t0uYHomLI8N/uZGqxOgUa/yLY1RBApZQW8qm8= X-Google-DKIM-Signature: v=1; a=rsa-sha256; c=relaxed/relaxed; d=1e100.net; s=20230601; t=1758868319; x=1759473119; h=cc:to:from:subject:message-id:date:x-gm-message-state:from:to:cc :subject:date:message-id:reply-to; bh=XxReH6xCXEa2RO62iQHSpws/ciddDIUvFw1KzuzS4ho=; b=WwoDDZ1mwj7mVWYF2IEWX6Y3z095sZUp33deNSaGtfPlrSZ8iHrLYdPiIvZ8v1FxDY QdxgZpX5ShO9CNUzmLoaxt5VfDgqRm18c/kyOXAHJ4bZQ3tNp2zL3eQ7rtVIL+GdE9DD wn0oCyKwIMwglFrgJmO+V3gvgeAlT9MFFX/gA8/YAipsRyajTklG2Qzb7ozE7TmMDy68 DHZhhUVG5YcZorW0Sfo46cq/RMg7GBfUrrVa143ryzFmNg0Golz0f0GFKq3vkouDhCgb UheQgpUXiPxaTEUIr9AGDG5wQlv6RZxeOJI56OYtsVrNZvgNefudVTeu4W5XjJFkc5oi hMQg== X-Gm-Message-State: AOJu0YyPoqbq8K0/NJA3TrMwOmKElmRWTLBWIgWjcxM6athafiFNFujj yN/whu4yMu58S2w3LpGe7SeqCA/aKLiWDBBaqokss1YYe+iKGIMzoVfhT2a9VaEoUo+U8ios+0t BmFVhmki71zHhK325zyHC7HBnIa5YLGcmda22 X-Gm-Gg: ASbGncu2c/tDCc13QY6NlWaaHdBunNEHu24L9nL8gJh89yYCHmhnUhKPdUZNSDQQXPs 649G4TTbiM2iuHpPExSVrbeu2ranOubEFm6FOyCDRJ6NUVAD0VCwYJtA2vVlgta0IZFpa5BQn45 Y0+EVlHuRknnGtHLFSz2jk1h/kVyGewSHSA1JW4Y0Z25yPJL/4tI82tRaCoHbam2gQIh4SeD/oJ 9kVYlXVndrOoNlg0nqgQzmBqRr+mYc7VQRDa2jjCIzhPWnPc7wzVrOmbOrPpgvQufVhMGPrC8Nu HQHVNkev/4OHBG3b8itU2xDhUNM5Fk6xMgNASCQp8JDuyak+M31eE99jZ8wBRo6eXVPvKTKh X-Google-Smtp-Source: AGHT+IG0OKQr1NSFJu+SCBwX9PfiLi4HcO2f7dPAZOEr3b16UWMmO+OzT4RMsgF6qk2tLKzyjUQkeM0ZKx29 X-Received: by 2002:a17:902:d58d:b0:24e:593b:d107 with SMTP id d9443c01a7336-27ed4a5a856mr57205815ad.32.1758868318884; Thu, 25 Sep 2025 23:31:58 -0700 (PDT) Received: from postal.iol.unh.edu (postal.iol.unh.edu. [132.177.123.84]) by smtp-relay.gmail.com with ESMTPS id d9443c01a7336-27ed67e6a40sm3144885ad.44.2025.09.25.23.31.58 (version=TLS1_2 cipher=ECDHE-ECDSA-AES128-GCM-SHA256 bits=128/128); Thu, 25 Sep 2025 23:31:58 -0700 (PDT) X-Relaying-Domain: iol.unh.edu Date: Thu, 25 Sep 2025 23:31:58 -0700 (PDT) Message-ID: <68d6335e.170a0220.3c7d3c.32d6SMTPIN_ADDED_MISSING@mx.google.com> Received: from [172.21.0.2] (unknown [172.18.0.240]) by postal.iol.unh.edu (Postfix) with ESMTP id 233E96051830; Fri, 26 Sep 2025 02:31:58 -0400 (EDT) Subject: |SUCCESS| [GIT MASTER] b287e404643aeab5bb5db084c142789df187844e From: dpdklab@iol.unh.edu To: Test Report Cc: dpdk-test-reports@iol.unh.edu, Xueming Li , Christian Ehrhardt , Kevin Traynor , Luca Boccassi Content-Type: text/plain X-BeenThere: test-report@dpdk.org X-Mailman-Version: 2.1.29 Precedence: list List-Id: automatic DPDK test reports List-Unsubscribe: , List-Archive: List-Post: List-Help: List-Subscribe: , Errors-To: test-report-bounces@dpdk.org _Testing PASS_ Branch: tags/v24.11 b287e404643aeab5bb5db084c142789df187844e --> testing pass Upstream job id: Generic-DPDK-Compile-Meson#428826 Test environment and result as below: +-------------------------------+--------------------+-------------------+------------------+-------------------+-------------------------+----------------------+ | Environment | dpdk_meson_compile | dpdk_compile_spdk | dpdk_compile_ovs | dpdk_msvc_compile | dpdk_llvm_clang_compile | dpdk_mingw64_compile | +===============================+====================+===================+==================+===================+=========================+======================+ | Ubuntu 20.04 | PASS | SKIPPED | SKIPPED | SKIPPED | SKIPPED | SKIPPED | +-------------------------------+--------------------+-------------------+------------------+-------------------+-------------------------+----------------------+ | CentOS Stream 9 | PASS | PASS | SKIPPED | SKIPPED | SKIPPED | SKIPPED | +-------------------------------+--------------------+-------------------+------------------+-------------------+-------------------------+----------------------+ | CentOS Stream 10 | PASS | SKIPPED | SKIPPED | SKIPPED | SKIPPED | SKIPPED | +-------------------------------+--------------------+-------------------+------------------+-------------------+-------------------------+----------------------+ | Debian GNU/Linux 12 | PASS | PASS | SKIPPED | SKIPPED | SKIPPED | SKIPPED | +-------------------------------+--------------------+-------------------+------------------+-------------------+-------------------------+----------------------+ | Fedora Linux 42 | PASS | PASS | PASS | SKIPPED | SKIPPED | SKIPPED | +-------------------------------+--------------------+-------------------+------------------+-------------------+-------------------------+----------------------+ | openSUSE Leap 15.6 | PASS | SKIPPED | SKIPPED | SKIPPED | SKIPPED | SKIPPED | +-------------------------------+--------------------+-------------------+------------------+-------------------+-------------------------+----------------------+ | Red Hat Enterprise Linux 9.5 | PASS | SKIPPED | SKIPPED | SKIPPED | SKIPPED | SKIPPED | +-------------------------------+--------------------+-------------------+------------------+-------------------+-------------------------+----------------------+ | Red Hat Enterprise Linux 8.10 | PASS | SKIPPED | SKIPPED | SKIPPED | SKIPPED | SKIPPED | +-------------------------------+--------------------+-------------------+------------------+-------------------+-------------------------+----------------------+ | Ubuntu 22.04 | PASS | PASS | SKIPPED | SKIPPED | SKIPPED | SKIPPED | +-------------------------------+--------------------+-------------------+------------------+-------------------+-------------------------+----------------------+ | Ubuntu 24.04 | PASS | PASS | PASS | SKIPPED | SKIPPED | SKIPPED | +-------------------------------+--------------------+-------------------+------------------+-------------------+-------------------------+----------------------+ | FreeBSD 14.2 | PASS | SKIPPED | SKIPPED | SKIPPED | SKIPPED | SKIPPED | +-------------------------------+--------------------+-------------------+------------------+-------------------+-------------------------+----------------------+ | Alpine Linux 3.22.0 | PASS | SKIPPED | SKIPPED | SKIPPED | SKIPPED | SKIPPED | +-------------------------------+--------------------+-------------------+------------------+-------------------+-------------------------+----------------------+ | Windows Server 2022 | SKIPPED | SKIPPED | SKIPPED | PASS | PASS | PASS | +-------------------------------+--------------------+-------------------+------------------+-------------------+-------------------------+----------------------+ Ubuntu 20.04 Kernel: 4.19 Compiler: gcc gcc (Ubuntu 9.4.0-1ubuntu1~20.04.2) 9.4.0 CentOS Stream 9 Kernel: 5.15 Compiler: gcc gcc (GCC) 11.5.0 20240719 (Red Hat 11.5.0-11) CentOS Stream 10 Kernel: 5.15 Compiler: gcc gcc (GCC) 14.2.1 20250110 (Red Hat 14.2.1-8) Debian GNU/Linux 12 Kernel: 5.15 Compiler: gcc gcc (Debian 12.2.0-14+deb12u1) 12.2.0 Fedora Linux 42 Kernel: 5.15 Compiler: clang gcc (GCC) 15.2.1 20250808 (Red Hat 15.2.1-1) openSUSE Leap 15.6 Kernel: 5.15 Compiler: gcc gcc (SUSE Linux) 7.5.0 Red Hat Enterprise Linux 9.5 Kernel: 5.15 Compiler: gcc gcc (GCC) 11.5.0 20240719 (Red Hat 11.5.0-2) Red Hat Enterprise Linux 8.10 Kernel: 5.15 Compiler: gcc gcc (GCC) 8.5.0 20210514 (Red Hat 8.5.0-22) Ubuntu 22.04 Kernel: 5.15 Compiler: gcc gcc (Ubuntu 11.4.0-1ubuntu1~22.04) 11.4.0 Ubuntu 24.04 Kernel: 5.15 Compiler: gcc gcc (Ubuntu 13.3.0-6ubuntu2~24.04) 13.3.0 FreeBSD 14.2 Kernel: 14.2-RELEASE Compiler: clang 18.1.6 Alpine Linux 3.22.0 Kernel: 5.15 Compiler: gcc gcc (Alpine 14.2.0) 14.2.0 Windows Server 2022 Kernel: 10.0.20348.2031 Compiler: clang 15.0.7, gcc 14.1.0 (MinGW), and MSVC VS 19.39.33521 To view detailed results, visit: https://lab.dpdk.org/results/dashboard/tarballs/35011/ UNH-IOL DPDK Community Lab To manage your email subscriptions, visit: https://lab.dpdk.org/results/dashboard/preferences/subscriptions/