From mboxrd@z Thu Jan 1 00:00:00 1970 Return-Path: Received: from mails.dpdk.org (mails.dpdk.org [217.70.189.124]) by inbox.dpdk.org (Postfix) with ESMTP id E2CDC46F80 for ; Fri, 26 Sep 2025 08:35:14 +0200 (CEST) Received: from mails.dpdk.org (localhost [127.0.0.1]) by mails.dpdk.org (Postfix) with ESMTP id D74F74025D; Fri, 26 Sep 2025 08:35:14 +0200 (CEST) Received: from mail-io1-f98.google.com (mail-io1-f98.google.com [209.85.166.98]) by mails.dpdk.org (Postfix) with ESMTP id BF2B04025D for ; Fri, 26 Sep 2025 08:35:13 +0200 (CEST) Received: by mail-io1-f98.google.com with SMTP id ca18e2360f4ac-8e8f45829d7so146257639f.1 for ; Thu, 25 Sep 2025 23:35:13 -0700 (PDT) DKIM-Signature: v=1; a=rsa-sha256; c=relaxed/relaxed; d=iol.unh.edu; s=unh-iol; t=1758868513; x=1759473313; darn=dpdk.org; h=references:in-reply-to:cc:to:from:subject:message-id:date:from:to :cc:subject:date:message-id:reply-to; bh=wMOsgD9AJ2ACUSrrC6/VXOxvwPcuaM8XMUVxiPV55Z0=; b=dnjOQu5klLDH8YDlEI53Bzaj/NcTUIu0mwNfZ4RQNMuGcQr4Ti42mbgdCnRmeNiHN+ URocJFWZL79h8g2gSv3HTD8TKrXWsOm2HuIUceHD6ZjBmF4Q8Fmd2L/4uHQAbX4eNAOD eq7wIIb4oetG3XHR7BiUeble2eRWad754UKS4= X-Google-DKIM-Signature: v=1; a=rsa-sha256; c=relaxed/relaxed; d=1e100.net; s=20230601; t=1758868513; x=1759473313; h=references:in-reply-to:cc:to:from:subject:message-id:date :x-gm-message-state:from:to:cc:subject:date:message-id:reply-to; bh=wMOsgD9AJ2ACUSrrC6/VXOxvwPcuaM8XMUVxiPV55Z0=; b=WDVOyqhKzctnK1i1Catp2x7dY0Oqojx/2tIgu3HNNPcGoZJ14FLn+FrwQcWAhcHbCZ 5x/rsNlfIK+JhN+DQekmwSLnoJeCsASbikaPMql4BYa7ilgNUOPiA67EGr1ZHCXfK2FT EVaJVKJuFHaqh124q9JL2A+HlirmiXN9kc1EAeS3DRooOpN6msl8Q+UC4V09lE32VSda 9yn9dVxsyI+CTeMmrtdIX7+xJqK1SEeFLjzP3Hbj+K7FbaBiO1BQDA5f5KTQvzgmZ8PU TI+eGl32Scp+l7PMqqA4JKoAw8JQjvGA/UvpzZGHLrQgY5AofOnpFbdBifXIOYx0C0PA wBJA== X-Gm-Message-State: AOJu0YxkJTafA57ycNoSpnHkKMbcLrLEzJTjAf0sMGu+31JKd0bT1g4s B53lEUt4BINWLEw90kx0Pk5LWGKUMltXi2dsza9K9s0NHhPUTWv5sGyWm3KRc/4d+b/n12Pdvkf GdqVrlYVAuLS9Er0Q7byLeilbJQZJAatpyF2AMz/FJzt0 X-Gm-Gg: ASbGncth1aSFp/o9ykBjsnqF/HenxSEqwIlEr4XyzdaK+pUMJWx+x029cElRWp8q2wK EpiKWskYdMLkQeGVSfBgh/2KDI/QS0himjYEiOQEZoQ0OuG2sHZWhRDwYhbCk+gkkuJehPFW5rT Pmx7HlcM4gKGF6i3tUPuDsuajSx06TRQlPij0luCwdBnI1DqHqlrRXUAU7wuv5c/KCkJcoro/Og wdMJKvDxaB7RTyvXLgaffbBeLczr0w8HJVeVereS9WgoXiW2BmZMiDc7Q3vdyzmcXOos4YtrSu4 uYtoBqPdzSC1rst+ShjeMnjFdBRsYMYrxEzWhOrpTN9U4BD66zt/3nLe6jP0AJa0NoGTxPDI X-Google-Smtp-Source: AGHT+IE0B11PzHnJizqDHHm587wH88g6nzJaFn3RBJFn8lSmtm0ZqCa3yMxGlDlQw3TD2XuhE3FFJ2CHAGVj X-Received: by 2002:a05:6e02:481b:b0:425:8aea:7313 with SMTP id e9e14a558f8ab-4259563c0bcmr86088115ab.18.1758868512868; Thu, 25 Sep 2025 23:35:12 -0700 (PDT) Received: from postal.iol.unh.edu (postal.iol.unh.edu. [132.177.123.84]) by smtp-relay.gmail.com with ESMTPS id 8926c6da1cb9f-56a6a5b299fsm214883173.41.2025.09.25.23.35.12 (version=TLS1_2 cipher=ECDHE-ECDSA-AES128-GCM-SHA256 bits=128/128); Thu, 25 Sep 2025 23:35:12 -0700 (PDT) X-Relaying-Domain: iol.unh.edu Date: Thu, 25 Sep 2025 23:35:12 -0700 (PDT) Message-ID: <68d63420.050a0220.2ca065.cf20SMTPIN_ADDED_MISSING@mx.google.com> Received: from [172.21.0.4] (unknown [172.18.0.240]) by postal.iol.unh.edu (Postfix) with ESMTP id 71F3E6051830; Fri, 26 Sep 2025 02:35:12 -0400 (EDT) Subject: |SUCCESS| pw156954 [PATCH] [v1] support multiple PF process flow tab From: dpdklab@iol.unh.edu To: Test Report Cc: dpdk-test-reports@iol.unh.edu, Stephen Hemminger In-Reply-To: <20250926010442.126854-1-zhang.tianhao2@zte.com.cn> References: <20250926010442.126854-1-zhang.tianhao2@zte.com.cn> Content-Type: text/plain X-BeenThere: test-report@dpdk.org X-Mailman-Version: 2.1.29 Precedence: list List-Id: automatic DPDK test reports List-Unsubscribe: , List-Archive: List-Post: List-Help: List-Subscribe: , Errors-To: test-report-bounces@dpdk.org Test-Label: iol-compile-arm64-testing Test-Status: SUCCESS http://dpdk.org/patch/156954 _Testing PASS_ Submitter: Tianhao Zhang Date: Friday, September 26 2025 01:04:42 DPDK git baseline: Repo:dpdk-next-net Branch: master CommitID:262824827107126b1c53943bce835f1dbbfd1150 156954 --> testing pass Upstream job id: Generic-DPDK-Compile-Meson#428680 Test environment and result as below: +------------------------------+--------------------+ | Environment | dpdk_meson_compile | +==============================+====================+ | Red Hat Enterprise Linux 9.5 | PASS | +------------------------------+--------------------+ | Ubuntu 20.04 | PASS | +------------------------------+--------------------+ | Debian GNU/Linux 12 | PASS | +------------------------------+--------------------+ | Fedora Linux 42 | PASS | +------------------------------+--------------------+ | Ubuntu 22.04 | PASS | +------------------------------+--------------------+ | CentOS Stream 9 | PASS | +------------------------------+--------------------+ | CentOS Stream 10 | PASS | +------------------------------+--------------------+ | Ubuntu 24.04 | PASS | +------------------------------+--------------------+ Red Hat Enterprise Linux 9.5 Kernel: 5.4 Compiler: gcc gcc (GCC) 11.5.0 20240719 (Red Hat 11.5.0-2) Ubuntu 20.04 Kernel: 5.15 Compiler: aarch64-linux-gnu-gcc gcc (Ubuntu 9.4.0-1ubuntu1~20.04.2) 9.4.0 Debian GNU/Linux 12 Kernel: 5.4 Compiler: gcc gcc (Debian 12.2.0-14+deb12u1) 12.2.0 Fedora Linux 42 Kernel: 5.4 Compiler: gcc gcc (GCC) 15.2.1 20250808 (Red Hat 15.2.1-1) Ubuntu 22.04 Kernel: 5.4 Compiler: gcc gcc (Ubuntu 11.4.0-1ubuntu1~22.04) 11.4.0 CentOS Stream 9 Kernel: 5.4 Compiler: gcc gcc (GCC) 11.5.0 20240719 (Red Hat 11.5.0-11) CentOS Stream 10 Kernel: 5.4 Compiler: gcc gcc (GCC) 14.2.1 20250110 (Red Hat 14.2.1-8) Ubuntu 24.04 Kernel: 5.4 Compiler: gcc gcc (Ubuntu 13.3.0-6ubuntu2~24.04) 13.3.0 To view detailed results, visit: https://lab.dpdk.org/results/dashboard/patchsets/34151/ UNH-IOL DPDK Community Lab To manage your email subscriptions, visit: https://lab.dpdk.org/results/dashboard/preferences/subscriptions/