From mboxrd@z Thu Jan 1 00:00:00 1970 Return-Path: Received: from mails.dpdk.org (mails.dpdk.org [217.70.189.124]) by inbox.dpdk.org (Postfix) with ESMTP id 18FE946F80 for ; Fri, 26 Sep 2025 08:36:02 +0200 (CEST) Received: from mails.dpdk.org (localhost [127.0.0.1]) by mails.dpdk.org (Postfix) with ESMTP id 129CF4025D; Fri, 26 Sep 2025 08:36:02 +0200 (CEST) Received: from mail-yx1-f99.google.com (mail-yx1-f99.google.com [74.125.224.99]) by mails.dpdk.org (Postfix) with ESMTP id 9397D4025D for ; Fri, 26 Sep 2025 08:36:00 +0200 (CEST) Received: by mail-yx1-f99.google.com with SMTP id 956f58d0204a3-635355713d9so1306473d50.3 for ; Thu, 25 Sep 2025 23:36:00 -0700 (PDT) DKIM-Signature: v=1; a=rsa-sha256; c=relaxed/relaxed; d=iol.unh.edu; s=unh-iol; t=1758868560; x=1759473360; darn=dpdk.org; h=references:in-reply-to:cc:to:from:subject:message-id:date:from:to :cc:subject:date:message-id:reply-to; bh=6npZXhsFE+0zdklI6nHlURyjNygOgSlzwbHw7iuo9+U=; b=LGDTarq7fblkmBMpDfAVvnTKtLnqAzImyjdlxFgUIUwH6vh2xGgC8IPB5bOTV0c4BB dlsxokP9UD4kUh8+xIZTEZ2MNp5tgOn68U7mKeXm4URK7D9SfE4Ulz07xXsLPbQAoYAJ PbKpwov2kDoRuXRgABP0F/7J8baOqMcFITNUk= X-Google-DKIM-Signature: v=1; a=rsa-sha256; c=relaxed/relaxed; d=1e100.net; s=20230601; t=1758868560; x=1759473360; h=references:in-reply-to:cc:to:from:subject:message-id:date :x-gm-message-state:from:to:cc:subject:date:message-id:reply-to; bh=6npZXhsFE+0zdklI6nHlURyjNygOgSlzwbHw7iuo9+U=; b=D8U+daUQoUpWa46GXynQPGCej8y0r95WiCjvS6GHk0yhcNrjdQUi2ihO1Cu1Yaq837 1iGPCky6HBzTz+xeUIURn4hqBf8D8FOEraK3aG7AaHJzDVPdcE1Sef8vRxsfgWXelkZX /D9Jzocux+VizAfjoSeGvgOz1FwgV9wHs7u4hloUeHr/g0Dsh6smvbpnswLYzFZ8qZdg S7qhVFhW0Q8z7R6Rzz4sQ3YtUzPRIUfYkjQ8SkQTL8wtMmp2xWFkrYIqOjOTDniMErTR 8IisoPJUH2WNJznmo0WEdXf0IRlGknontKbVJ2uISxHGyPX7r/QA53+UaSnLurMXFjNF 1IaA== X-Gm-Message-State: AOJu0Yzu2lNuBJKz3xqOB1iIG9C9/Uuow8IUlHfOC1NA0hdhNtmpAPLP yvkZl6ZPzHhAtPiDaGnbTUBj679zPEjcpav0EptOyv+jm8WzO1ge5Ow/ZBSUfYLISnHkdhF66iz wM4uKghnWJTVcpLwPwoWyGJV4M6n0EMEFK8oipVNPkud/vfOLBfeTK0KQKSy6 X-Gm-Gg: ASbGncs1Mal0B4d3hNJg/4wnJqpPjNzAHaMrmpZgzvkAGA13joDS8ELtiTgZLYLSJp6 lE9O65Naqate7VCItJG+UtMWSJhI/jlhvgiMzsGiQBaDEqF3OLAoWCe1jhRWNGGvs7YCYMDRU7c jPPbolsDTpwiKVFC/CVQmMmfXWQ5YQ/HRkfrkbTwqR/zPfUZhgoHgyLdiPEGhg7pfMifsCxH+lA pMtiT5AI4TT1RC7ar6wrP3enWaONFEPM1FragiWehzFvI0iJ3QNxR0j8NnsmC1jBoO/E3v5wI1F U25lSg2EHm6eFTpcyYhF8Sg7DbAKPFn137UTgd5NT+1oSHQJAA== X-Google-Smtp-Source: AGHT+IFCOm1NLeMfB4p5UlzvymIHqXbGKoealaYmoIy6BNUJbzrzH8cF98EYNALqQGoa8BUEbP9a3w0tLg5c X-Received: by 2002:a53:d017:0:b0:604:3ec3:d78 with SMTP id 956f58d0204a3-6361a7164d6mr5112296d50.11.1758868559903; Thu, 25 Sep 2025 23:35:59 -0700 (PDT) Received: from postal.iol.unh.edu (postal.iol.unh.edu. [2606:4100:3880:1234::84]) by smtp-relay.gmail.com with ESMTPS id 3f1490d57ef6-eb38375ecc2sm247952276.0.2025.09.25.23.35.59 (version=TLS1_2 cipher=ECDHE-ECDSA-AES128-GCM-SHA256 bits=128/128); Thu, 25 Sep 2025 23:35:59 -0700 (PDT) X-Relaying-Domain: iol.unh.edu Date: Thu, 25 Sep 2025 23:35:59 -0700 (PDT) Message-ID: <68d6344f.050a0220.2060e4.eec5SMTPIN_ADDED_MISSING@mx.google.com> Received: from [172.21.0.2] (unknown [172.18.0.240]) by postal.iol.unh.edu (Postfix) with ESMTP id 5EC336051830; Fri, 26 Sep 2025 02:35:59 -0400 (EDT) Subject: |SUCCESS| pw156955 [PATCH] [v2] net/zxdh: support multiple PF proces From: dpdklab@iol.unh.edu To: Test Report Cc: dpdk-test-reports@iol.unh.edu, Stephen Hemminger In-Reply-To: <20250926012806.127837-1-zhang.tianhao2@zte.com.cn> References: <20250926012806.127837-1-zhang.tianhao2@zte.com.cn> Content-Type: text/plain X-BeenThere: test-report@dpdk.org X-Mailman-Version: 2.1.29 Precedence: list List-Id: automatic DPDK test reports List-Unsubscribe: , List-Archive: List-Post: List-Help: List-Subscribe: , Errors-To: test-report-bounces@dpdk.org Test-Label: iol-compile-arm64-testing Test-Status: SUCCESS http://dpdk.org/patch/156955 _Testing PASS_ Submitter: Tianhao Zhang Date: Friday, September 26 2025 01:28:06 DPDK git baseline: Repo:dpdk-next-net Branch: master CommitID:262824827107126b1c53943bce835f1dbbfd1150 156955 --> testing pass Upstream job id: Generic-DPDK-Compile-Meson#428714 Test environment and result as below: +------------------------------+--------------------+ | Environment | dpdk_meson_compile | +==============================+====================+ | Red Hat Enterprise Linux 9.5 | PASS | +------------------------------+--------------------+ | Ubuntu 20.04 | PASS | +------------------------------+--------------------+ | Debian GNU/Linux 12 | PASS | +------------------------------+--------------------+ | Fedora Linux 42 | PASS | +------------------------------+--------------------+ | Ubuntu 22.04 | PASS | +------------------------------+--------------------+ | Ubuntu 24.04 | PASS | +------------------------------+--------------------+ | CentOS Stream 9 | PASS | +------------------------------+--------------------+ | CentOS Stream 10 | PASS | +------------------------------+--------------------+ Red Hat Enterprise Linux 9.5 Kernel: 5.4 Compiler: gcc gcc (GCC) 11.5.0 20240719 (Red Hat 11.5.0-2) Ubuntu 20.04 Kernel: 5.15 Compiler: aarch64-linux-gnu-gcc gcc (Ubuntu 9.4.0-1ubuntu1~20.04.2) 9.4.0 Debian GNU/Linux 12 Kernel: 5.4 Compiler: gcc gcc (Debian 12.2.0-14+deb12u1) 12.2.0 Fedora Linux 42 Kernel: 5.4 Compiler: gcc gcc (GCC) 15.2.1 20250808 (Red Hat 15.2.1-1) Ubuntu 22.04 Kernel: 5.4 Compiler: gcc gcc (Ubuntu 11.4.0-1ubuntu1~22.04) 11.4.0 Ubuntu 24.04 Kernel: 5.4 Compiler: gcc gcc (Ubuntu 13.3.0-6ubuntu2~24.04) 13.3.0 CentOS Stream 9 Kernel: 5.4 Compiler: gcc gcc (GCC) 11.5.0 20240719 (Red Hat 11.5.0-11) CentOS Stream 10 Kernel: 5.4 Compiler: gcc gcc (GCC) 14.2.1 20250110 (Red Hat 14.2.1-8) To view detailed results, visit: https://lab.dpdk.org/results/dashboard/patchsets/34152/ UNH-IOL DPDK Community Lab To manage your email subscriptions, visit: https://lab.dpdk.org/results/dashboard/preferences/subscriptions/