From mboxrd@z Thu Jan 1 00:00:00 1970 Return-Path: Received: from mails.dpdk.org (mails.dpdk.org [217.70.189.124]) by inbox.dpdk.org (Postfix) with ESMTP id 3232146F80 for ; Fri, 26 Sep 2025 09:06:23 +0200 (CEST) Received: from mails.dpdk.org (localhost [127.0.0.1]) by mails.dpdk.org (Postfix) with ESMTP id 2BA334025D; Fri, 26 Sep 2025 09:06:23 +0200 (CEST) Received: from mail-io1-f98.google.com (mail-io1-f98.google.com [209.85.166.98]) by mails.dpdk.org (Postfix) with ESMTP id 0731E4025D for ; Fri, 26 Sep 2025 09:06:22 +0200 (CEST) Received: by mail-io1-f98.google.com with SMTP id ca18e2360f4ac-8c3414ad279so67402239f.2 for ; Fri, 26 Sep 2025 00:06:21 -0700 (PDT) DKIM-Signature: v=1; a=rsa-sha256; c=relaxed/relaxed; d=iol.unh.edu; s=unh-iol; t=1758870381; x=1759475181; darn=dpdk.org; h=cc:to:from:subject:message-id:date:from:to:cc:subject:date :message-id:reply-to; bh=nkuJkr3NHT8x7aEOm9P9+k1vLlNemWtIlg0VzFsz3vM=; b=RCuFfSByZn8Pm29hwwzd+Cuo/0/nJd0PH6UJRnc4SFVtLZpmM+TRNReF/C3ZGlLMGQ mKXdUK76vPnfmdwH5b/xPhdfby/oXBoRVHA7DYacUCX0ZtZtN+6fgsO1aLSvb3c51rlh d4+OX4BK9H+hlDrAf/kzitkKbiSp9KU4AMoRE= X-Google-DKIM-Signature: v=1; a=rsa-sha256; c=relaxed/relaxed; d=1e100.net; s=20230601; t=1758870381; x=1759475181; h=cc:to:from:subject:message-id:date:x-gm-message-state:from:to:cc :subject:date:message-id:reply-to; bh=nkuJkr3NHT8x7aEOm9P9+k1vLlNemWtIlg0VzFsz3vM=; b=wiQwiSyM0hEXU6NWoOWa8WKKuAR04b1JKJtNfBaeZigjseJoMh65z1VJ+F0NsyDTpR F/kiyJvBLl9f38vnR/E5AggjWJCW5QlGEF4Q4kETjVdix+VxqNLzT6/BJeoxvN9b1nSX XucWQrszVANFhsiqgOPSjAbmoV5Bg4ayI4Q16bNNsvzvc9qUrXHaJaV9EOT45Pl8vA3A +AcfXkgEzt7PBfAOB1HxbVT8Xf8e1QChVZl1zBUXalpzfZ/107HDcn0rwr2pv3yqPFX0 VxnM50xtIYy6qAt40qJ/JsK/2HuEzE+2Kxfr+pZSU059+cTyrm2CIPZBYb+gQuwLOXfo z4Zg== X-Gm-Message-State: AOJu0YyEVR7Sazpqq8OcPjvgt5DbxRRc8EXv038dm9k4c4zOwez9keJJ H9wiN8PaPICRqTxKblEwECzzMMRnHcDyujPdNschlksXyl8D80yRNblV9Gtcz5udTxvXgocALWr sRuKjzCOGO2IGmSprn1v6LKQ+oCy+UjPrJvWXMdvHNOlg5n4UPxyr X-Gm-Gg: ASbGncsEh9NdL4EBMLCwUIUq/vH/6fKxi8oGhOe1GbsKXL9VBoTbhKRayOufgRcyEiW LPGKEFFbSAvLdznqX1lQgaGphxKtUBwE6pzumMyB1UFUJobXjGfWuheDA2fE5P8K598EH2+bMrR +3auVRQ4kFLNy/XkWaYrqPe6YCVX7IPsxYoi2a3MJg4OYcrqRFKCDclUAslrnmreoI8EwvTcNWL 6oCrC3Lvo0n9Oecis89JkaFxPmBgY4xwY04s5KvauoWjrDL1Sc1D3qhOsZHOzZBCOOkmQXzd2zx aZQ5YoVrquKyxkCyx9UqDK0xSXBh008pcSrrlvDoI3ZMMQ4JWQ== X-Google-Smtp-Source: AGHT+IF7MwoSPsJMkJzvnxWbIYL+Zt8yvwEPM99NnaixoiuLfTqDiloycRs2jNYxuX4FoUqgTfFT/UfIW3wB X-Received: by 2002:a5e:c206:0:b0:8eb:1451:91c7 with SMTP id ca18e2360f4ac-901528e52cdmr830594239f.5.1758870381294; Fri, 26 Sep 2025 00:06:21 -0700 (PDT) Received: from postal.iol.unh.edu (postal.iol.unh.edu. [2606:4100:3880:1234::84]) by smtp-relay.gmail.com with ESMTPS id ca18e2360f4ac-9040f54bc5fsm14737339f.11.2025.09.26.00.06.21 (version=TLS1_2 cipher=ECDHE-ECDSA-AES128-GCM-SHA256 bits=128/128); Fri, 26 Sep 2025 00:06:21 -0700 (PDT) X-Relaying-Domain: iol.unh.edu Date: Fri, 26 Sep 2025 00:06:21 -0700 (PDT) Message-ID: <68d63b6d.050a0220.15a012.8ec3SMTPIN_ADDED_MISSING@mx.google.com> Received: from [172.21.0.2] (unknown [172.18.0.240]) by postal.iol.unh.edu (Postfix) with ESMTP id C2DC56051830; Fri, 26 Sep 2025 03:06:20 -0400 (EDT) Subject: |SUCCESS| [GIT MASTER] b287e404643aeab5bb5db084c142789df187844e From: dpdklab@iol.unh.edu To: Test Report Cc: dpdk-test-reports@iol.unh.edu, Xueming Li , Christian Ehrhardt , Kevin Traynor , Luca Boccassi Content-Type: text/plain X-BeenThere: test-report@dpdk.org X-Mailman-Version: 2.1.29 Precedence: list List-Id: automatic DPDK test reports List-Unsubscribe: , List-Archive: List-Post: List-Help: List-Subscribe: , Errors-To: test-report-bounces@dpdk.org _Testing PASS_ Branch: tags/v24.11 b287e404643aeab5bb5db084c142789df187844e --> testing pass Upstream job id: Generic-Unit-Test-DPDK#375267 Test environment and result as below: +-------------------------------+----------------+ | Environment | dpdk_unit_test | +===============================+================+ | CentOS Stream 10 | PASS | +-------------------------------+----------------+ | CentOS Stream 9 | PASS | +-------------------------------+----------------+ | Debian GNU/Linux 12 | PASS | +-------------------------------+----------------+ | Fedora Linux 40 | PASS | +-------------------------------+----------------+ | Fedora Linux 41 | PASS | +-------------------------------+----------------+ | Fedora Linux 42 | PASS | +-------------------------------+----------------+ | Red Hat Enterprise Linux 8.10 | PASS | +-------------------------------+----------------+ | Red Hat Enterprise Linux 9.5 | PASS | +-------------------------------+----------------+ | Ubuntu 22.04 | PASS | +-------------------------------+----------------+ | Ubuntu 20.04 | PASS | +-------------------------------+----------------+ | Ubuntu 24.04 | PASS | +-------------------------------+----------------+ | Windows Server 2022 | PASS | +-------------------------------+----------------+ CentOS Stream 10 Kernel: 5.15 Compiler: gcc gcc (GCC) 14.2.1 20250110 (Red Hat 14.2.1-8) CentOS Stream 9 Kernel: 5.15 Compiler: gcc gcc (GCC) 11.5.0 20240719 (Red Hat 11.5.0-11) Debian GNU/Linux 12 Kernel: 5.15 Compiler: gcc gcc (Debian 12.2.0-14+deb12u1) 12.2.0 Fedora Linux 40 Kernel: 5.15 Compiler: gcc gcc (GCC) 14.2.1 20240912 (Red Hat 14.2.1-3) Fedora Linux 41 Kernel: 5.15 Compiler: gcc gcc (GCC) 14.3.1 20250523 (Red Hat 14.3.1-1) Fedora Linux 42 Kernel: 5.15 Compiler: clang gcc (GCC) 15.2.1 20250808 (Red Hat 15.2.1-1) Red Hat Enterprise Linux 8.10 Kernel: 5.15 Compiler: gcc gcc (GCC) 8.5.0 20210514 (Red Hat 8.5.0-22) Red Hat Enterprise Linux 9.5 Kernel: 5.15 Compiler: gcc gcc (GCC) 11.5.0 20240719 (Red Hat 11.5.0-2) Ubuntu 22.04 Kernel: 5.15 Compiler: gcc gcc (Ubuntu 11.4.0-1ubuntu1~22.04) 11.4.0 Ubuntu 20.04 Kernel: 5.15 Compiler: gcc gcc (Ubuntu 9.4.0-1ubuntu1~20.04.2) 9.4.0 Ubuntu 24.04 Kernel: 5.15 Compiler: gcc gcc (Ubuntu 13.3.0-6ubuntu2~24.04) 13.3.0 Windows Server 2022 Kernel: 10.0.20348.2031 Compiler: clang 15.0.7, gcc 14.1.0 (MinGW), and MSVC VS 19.39.33521 To view detailed results, visit: https://lab.dpdk.org/results/dashboard/tarballs/35011/ UNH-IOL DPDK Community Lab To manage your email subscriptions, visit: https://lab.dpdk.org/results/dashboard/preferences/subscriptions/