From mboxrd@z Thu Jan 1 00:00:00 1970 Return-Path: Received: from mails.dpdk.org (mails.dpdk.org [217.70.189.124]) by inbox.dpdk.org (Postfix) with ESMTP id B13E546F80 for ; Fri, 26 Sep 2025 09:11:57 +0200 (CEST) Received: from mails.dpdk.org (localhost [127.0.0.1]) by mails.dpdk.org (Postfix) with ESMTP id ACEFC4025D; Fri, 26 Sep 2025 09:11:57 +0200 (CEST) Received: from mail-pl1-f226.google.com (mail-pl1-f226.google.com [209.85.214.226]) by mails.dpdk.org (Postfix) with ESMTP id 0737B4025D for ; Fri, 26 Sep 2025 09:11:57 +0200 (CEST) Received: by mail-pl1-f226.google.com with SMTP id d9443c01a7336-27a6c3f482dso15535405ad.1 for ; Fri, 26 Sep 2025 00:11:56 -0700 (PDT) DKIM-Signature: v=1; a=rsa-sha256; c=relaxed/relaxed; d=iol.unh.edu; s=unh-iol; t=1758870716; x=1759475516; darn=dpdk.org; h=cc:to:from:subject:message-id:date:from:to:cc:subject:date :message-id:reply-to; bh=Izi61VGws9kWVGm1fJ5tY7vzSJ988BSXrTfNkP7PUq0=; b=TXzQk0v7zycEyyG6OX02VOWRN1JIpOAbVaYEEIFdLlqbMM/NjyDnuIZKA2BC1z6Htr dpdJq0CB5+6tErbhORdolMwIN9zx6ghPiC8Jeu2K4tuQzQiWq1BERWEi5m5LJZ6Qn2KH n4+YImhWyKO9gAYHD2X9a2ZwoWbGDTIBWKzNY= X-Google-DKIM-Signature: v=1; a=rsa-sha256; c=relaxed/relaxed; d=1e100.net; s=20230601; t=1758870716; x=1759475516; h=cc:to:from:subject:message-id:date:x-gm-message-state:from:to:cc :subject:date:message-id:reply-to; bh=Izi61VGws9kWVGm1fJ5tY7vzSJ988BSXrTfNkP7PUq0=; b=jm1xmYmsSW/Vr5NVO2oGQOWTutGDU3hfktgd4VwJNb0gbtlav6epBfy82OdtZ090t1 igCBGoMGqsg7QMSCghbgQfiLoOg0AjO/ABJCcUMPUPSVAh776S23x/UtaVDGPKplfJUj xQb1RN+cyDk0cEJ3e4QpHDJUpCKM/JgMnQX18WiF4Ne1m7GO+R4GEk3qDBO4tvxyKn0A 3DPvjMq87CgWsW00YxQPNqNvDLfrIfXBrRLLpPKxUeC9jC+wv99ebXUSJQu6VdmiBBAC s+Xr32OHoVhmGWZWvQminWmtlwPWS7cYgHft+17qv+mfxwuTXsedb0bQAt6d9BJmqwBv cokA== X-Gm-Message-State: AOJu0YwgGnoV76o1RDbpr6s0Jk2wUV+PMHP3lnar655ctzQhLdUt9j43 Us9WtuyBh5Rni8bthlKq95qdclXyPtusjwYuco5/yu8jqKuURS8tZ6r0TLaVDjr9+Uje7KL2qL8 Kg+71JpSkC84MCWlgznOYlFDg6FNC26MQ0kmVJN9qhOShKIbLuKDkHMlxap19 X-Gm-Gg: ASbGncuJS4d99ycAtVImsOw0hA4qdJNFPualMpGzw542M3oXttB8DHqDGwGDGprh3ey YNRFZd2MBxEwYFy4SRGOyOmBzd2YASRFND3efPFzUG7Dk3fIKvp0GfGL4EhshQ58ViK6vFUUGzO Pkkjzlej75Dr0XmLZpvv8UDesHxJNfu9sNhOjK9ip8drN1J86x8px/gPhcPuh6NxVY11PqtqzxG tgPDIk3ZaIyPz2ae5ICD0WOUiGCeIV1V0Fu34xeupmU5lyTbNxekvlP1KIRauo1spLqp30Ve2xd siO48khbrqn6GWev2QlrEzfo0DzMI/UBxu4e3Ug4POqD5YgG9Q== X-Google-Smtp-Source: AGHT+IETZQzuA6iVyFoEgmcpu5ClAeL4T+P9+F1LhIphzTgwqtR8gx0262kI7M9h85NR5N9BpnoEBQIl9uwc X-Received: by 2002:a17:902:ef0b:b0:248:7018:c739 with SMTP id d9443c01a7336-27ed4aab56fmr64257415ad.28.1758870716137; Fri, 26 Sep 2025 00:11:56 -0700 (PDT) Received: from postal.iol.unh.edu (postal.iol.unh.edu. [2606:4100:3880:1234::84]) by smtp-relay.gmail.com with ESMTPS id d9443c01a7336-27ed680dbcdsm3143525ad.56.2025.09.26.00.11.56 (version=TLS1_2 cipher=ECDHE-ECDSA-AES128-GCM-SHA256 bits=128/128); Fri, 26 Sep 2025 00:11:56 -0700 (PDT) X-Relaying-Domain: iol.unh.edu Date: Fri, 26 Sep 2025 00:11:56 -0700 (PDT) Message-ID: <68d63cbc.170a0220.326421.3f5eSMTPIN_ADDED_MISSING@mx.google.com> Received: from [172.21.0.2] (unknown [172.18.0.240]) by postal.iol.unh.edu (Postfix) with ESMTP id 4EA186051830; Fri, 26 Sep 2025 03:11:55 -0400 (EDT) Subject: |SUCCESS| [GIT MASTER] 0b58c147385ecd20ebb4e678934536a597902c28 From: dpdklab@iol.unh.edu To: Test Report Cc: dpdk-test-reports@iol.unh.edu, Stephen Hemminger Content-Type: text/plain X-BeenThere: test-report@dpdk.org X-Mailman-Version: 2.1.29 Precedence: list List-Id: automatic DPDK test reports List-Unsubscribe: , List-Archive: List-Post: List-Help: List-Subscribe: , Errors-To: test-report-bounces@dpdk.org _Testing PASS_ Branch: dpdk-next-net 0b58c147385ecd20ebb4e678934536a597902c28 --> testing pass Upstream job id: Generic-DPDK-Compile-Meson#428833 Test environment and result as below: +-------------------------------+--------------------+-------------------+------------------+-------------------+-------------------------+----------------------+ | Environment | dpdk_meson_compile | dpdk_compile_spdk | dpdk_compile_ovs | dpdk_msvc_compile | dpdk_llvm_clang_compile | dpdk_mingw64_compile | +===============================+====================+===================+==================+===================+=========================+======================+ | CentOS Stream 9 | PASS | PASS | SKIPPED | SKIPPED | SKIPPED | SKIPPED | +-------------------------------+--------------------+-------------------+------------------+-------------------+-------------------------+----------------------+ | CentOS Stream 10 | PASS | SKIPPED | SKIPPED | SKIPPED | SKIPPED | SKIPPED | +-------------------------------+--------------------+-------------------+------------------+-------------------+-------------------------+----------------------+ | Debian GNU/Linux 12 | PASS | PASS | SKIPPED | SKIPPED | SKIPPED | SKIPPED | +-------------------------------+--------------------+-------------------+------------------+-------------------+-------------------------+----------------------+ | Fedora Linux 42 | PASS | PASS | PASS | SKIPPED | SKIPPED | SKIPPED | +-------------------------------+--------------------+-------------------+------------------+-------------------+-------------------------+----------------------+ | Ubuntu 20.04 | PASS | SKIPPED | SKIPPED | SKIPPED | SKIPPED | SKIPPED | +-------------------------------+--------------------+-------------------+------------------+-------------------+-------------------------+----------------------+ | openSUSE Leap 15.6 | PASS | SKIPPED | SKIPPED | SKIPPED | SKIPPED | SKIPPED | +-------------------------------+--------------------+-------------------+------------------+-------------------+-------------------------+----------------------+ | Red Hat Enterprise Linux 8.10 | PASS | SKIPPED | SKIPPED | SKIPPED | SKIPPED | SKIPPED | +-------------------------------+--------------------+-------------------+------------------+-------------------+-------------------------+----------------------+ | FreeBSD 14.2 | PASS | SKIPPED | SKIPPED | SKIPPED | SKIPPED | SKIPPED | +-------------------------------+--------------------+-------------------+------------------+-------------------+-------------------------+----------------------+ | Red Hat Enterprise Linux 9.5 | PASS | SKIPPED | SKIPPED | SKIPPED | SKIPPED | SKIPPED | +-------------------------------+--------------------+-------------------+------------------+-------------------+-------------------------+----------------------+ | Ubuntu 22.04 | PASS | PASS | SKIPPED | SKIPPED | SKIPPED | SKIPPED | +-------------------------------+--------------------+-------------------+------------------+-------------------+-------------------------+----------------------+ | Ubuntu 24.04 | PASS | PASS | PASS | SKIPPED | SKIPPED | SKIPPED | +-------------------------------+--------------------+-------------------+------------------+-------------------+-------------------------+----------------------+ | Alpine Linux 3.22.0 | PASS | SKIPPED | SKIPPED | SKIPPED | SKIPPED | SKIPPED | +-------------------------------+--------------------+-------------------+------------------+-------------------+-------------------------+----------------------+ | Windows Server 2022 | SKIPPED | SKIPPED | SKIPPED | PASS | PASS | PASS | +-------------------------------+--------------------+-------------------+------------------+-------------------+-------------------------+----------------------+ CentOS Stream 9 Kernel: 5.15 Compiler: gcc gcc (GCC) 11.5.0 20240719 (Red Hat 11.5.0-11) CentOS Stream 10 Kernel: 5.15 Compiler: gcc gcc (GCC) 14.2.1 20250110 (Red Hat 14.2.1-8) Debian GNU/Linux 12 Kernel: 5.15 Compiler: gcc gcc (Debian 12.2.0-14+deb12u1) 12.2.0 Fedora Linux 42 Kernel: 5.15 Compiler: clang gcc (GCC) 15.2.1 20250808 (Red Hat 15.2.1-1) Ubuntu 20.04 Kernel: 4.19 Compiler: gcc gcc (Ubuntu 9.4.0-1ubuntu1~20.04.2) 9.4.0 openSUSE Leap 15.6 Kernel: 5.15 Compiler: gcc gcc (SUSE Linux) 7.5.0 Red Hat Enterprise Linux 8.10 Kernel: 5.15 Compiler: gcc gcc (GCC) 8.5.0 20210514 (Red Hat 8.5.0-22) FreeBSD 14.2 Kernel: 14.2-RELEASE Compiler: clang 18.1.6 Red Hat Enterprise Linux 9.5 Kernel: 5.15 Compiler: gcc gcc (GCC) 11.5.0 20240719 (Red Hat 11.5.0-2) Ubuntu 22.04 Kernel: 5.15 Compiler: gcc gcc (Ubuntu 11.4.0-1ubuntu1~22.04) 11.4.0 Ubuntu 24.04 Kernel: 5.15 Compiler: gcc gcc (Ubuntu 13.3.0-6ubuntu2~24.04) 13.3.0 Alpine Linux 3.22.0 Kernel: 5.15 Compiler: gcc gcc (Alpine 14.2.0) 14.2.0 Windows Server 2022 Kernel: 10.0.20348.2031 Compiler: clang 15.0.7, gcc 14.1.0 (MinGW), and MSVC VS 19.39.33521 To view detailed results, visit: https://lab.dpdk.org/results/dashboard/tarballs/35012/ UNH-IOL DPDK Community Lab To manage your email subscriptions, visit: https://lab.dpdk.org/results/dashboard/preferences/subscriptions/