From mboxrd@z Thu Jan 1 00:00:00 1970 Return-Path: Received: from mails.dpdk.org (mails.dpdk.org [217.70.189.124]) by inbox.dpdk.org (Postfix) with ESMTP id 1126246F80 for ; Fri, 26 Sep 2025 09:14:05 +0200 (CEST) Received: from mails.dpdk.org (localhost [127.0.0.1]) by mails.dpdk.org (Postfix) with ESMTP id DDFCD4025D; Fri, 26 Sep 2025 09:14:04 +0200 (CEST) Received: from mail-qk1-f226.google.com (mail-qk1-f226.google.com [209.85.222.226]) by mails.dpdk.org (Postfix) with ESMTP id 965244025D for ; Fri, 26 Sep 2025 09:14:03 +0200 (CEST) Received: by mail-qk1-f226.google.com with SMTP id af79cd13be357-85ed0a1b35dso95895485a.2 for ; Fri, 26 Sep 2025 00:14:03 -0700 (PDT) DKIM-Signature: v=1; a=rsa-sha256; c=relaxed/relaxed; d=iol.unh.edu; s=unh-iol; t=1758870843; x=1759475643; darn=dpdk.org; h=references:in-reply-to:cc:to:from:subject:message-id:date:from:to :cc:subject:date:message-id:reply-to; bh=fpG83HhZJr9AxBlKIbFHNbbmD26oLqcWnG0ZbFtZleo=; b=XpMX7tAhP1ClDF3Ch8rT3lRTcSQaps+GBfSXt7gu90G5HLGOAjU1nzlM7XtHTjsBsZ zCFRbjkOf+oGmBL4Nk1cExhgC3mvfk039dlf4I35BlHBuAE5bOS2BpE0UOIJ8xzbSfUe eRXDIutOLkw0mQfCEps6l56KuJf6K6JRizgL4= X-Google-DKIM-Signature: v=1; a=rsa-sha256; c=relaxed/relaxed; d=1e100.net; s=20230601; t=1758870843; x=1759475643; h=references:in-reply-to:cc:to:from:subject:message-id:date :x-gm-message-state:from:to:cc:subject:date:message-id:reply-to; bh=fpG83HhZJr9AxBlKIbFHNbbmD26oLqcWnG0ZbFtZleo=; b=WHc6fiIYoicg+ltJAjR6b2L2usCsfyobFZaGmLkk1t7Dt00PlJ68qo2i73BZd13oHW aPtLrwXXT8T8IZJfdlZbDc7FszAK6cX9fIqy7qW2443ZTvhtzOAVbEUZxF/sQULxkGSb azXm1EGRALNuZUKAVafmUS4WvfuOZ37DVAgsV16d1XBtrSInlKx2jVgvK9AnryMyp8+h 97JgkBRXloOvNc8w8xqTpTTfwGHAul7vrcXdqdiQDG8opV9i+SEZllzJjRvVFrZ/mnBw dDc1kQ3X8p1JqRQj/9SpTylWrrDdYyPc4wf4v6L3g/4MJxj+huqe5/iwZEx9pMeN+Gz4 MBcw== X-Gm-Message-State: AOJu0Yz5eDR+pjfbbltDxulYsNXhq7MZFm+BzmVW4ndcfCHsy9UP3pE1 iDBS0VNH8hFXfAM+M31+BndiwYd08f4ORAaWJhe3U7TvBWB5qmjaNeDIW61x8qquTBK0ZDOds/9 O2HP0IFPa9+fuqFrENZYqW1dlZ4rjXx90t/4qLrmJJqEBFupypOesgjDiaUJc X-Gm-Gg: ASbGncsqT6qawyi3BksdNaCD/Qr+MMdnHVI9IIbfIkGXE938VznGKp+GNUf+RtBHE3R qn7nR81lJUZjrr6zBskMtwH5BRwB8P10pIyrYu9pJ3LCpjxoS6kqBZmNbGavsq4PJx6FSPBC4dF Y5tcJe6U3TF2rjf0nk5y9ZDcxohrhWOmWh5hbAoCtg3GX5ayoS4/p1e0sHHgY/O6AGSOh1gXeJS cy9t78plK6EOnYptTwbZjmX+VMDc/2FNlOz/t+j/KEG2ikbE72LsU5rq7aXP6Z0/wwvua8oh28U OsgLgtQ+ENDwTr0xCnXeC0jo82y5T7cET9PSD5Wd755N02x0IQ== X-Google-Smtp-Source: AGHT+IGzI8xxM1mLR+LIr+ySZ8m5b6jWMIrs8zJd8MnIIophjV4Kdog43z3tC7NuAc+cJYxVSVTKvayyw1mV X-Received: by 2002:a05:6214:cc7:b0:81c:ded8:7099 with SMTP id 6a1803df08f44-81cded874f8mr17559956d6.58.1758870842960; Fri, 26 Sep 2025 00:14:02 -0700 (PDT) Received: from postal.iol.unh.edu (postal.iol.unh.edu. [2606:4100:3880:1234::84]) by smtp-relay.gmail.com with ESMTPS id 6a1803df08f44-8016cf8ed45sm2903196d6.38.2025.09.26.00.14.02 (version=TLS1_2 cipher=ECDHE-ECDSA-AES128-GCM-SHA256 bits=128/128); Fri, 26 Sep 2025 00:14:02 -0700 (PDT) X-Relaying-Domain: iol.unh.edu Date: Fri, 26 Sep 2025 00:14:02 -0700 (PDT) Message-ID: <68d63d3a.0c0a0220.36add0.18a5SMTPIN_ADDED_MISSING@mx.google.com> Received: from [172.21.0.2] (unknown [172.18.0.240]) by postal.iol.unh.edu (Postfix) with ESMTP id B13596050A61; Fri, 26 Sep 2025 03:14:02 -0400 (EDT) Subject: |SUCCESS| pw156956-156973 [PATCH] [V14,18/18] drivers/net: add hinic From: dpdklab@iol.unh.edu To: Test Report Cc: dpdk-test-reports@iol.unh.edu In-Reply-To: <20250926024747.1314-19-wff_light@vip.163.com> References: <20250926024747.1314-19-wff_light@vip.163.com> Content-Type: text/plain X-BeenThere: test-report@dpdk.org X-Mailman-Version: 2.1.29 Precedence: list List-Id: automatic DPDK test reports List-Unsubscribe: , List-Archive: List-Post: List-Help: List-Subscribe: , Errors-To: test-report-bounces@dpdk.org Test-Label: iol-compile-arm64-testing Test-Status: SUCCESS http://dpdk.org/patch/156973 _Testing PASS_ Submitter: Feifei Wang Date: Friday, September 26 2025 02:47:34 DPDK git baseline: Repo:dpdk Branch: master CommitID:441861b4a30e6b6b6aca07367dd487657b1f50e8 156956-156973 --> testing pass Upstream job id: Generic-DPDK-Compile-Meson#428747 Test environment and result as below: +------------------------------+--------------------+ | Environment | dpdk_meson_compile | +==============================+====================+ | Red Hat Enterprise Linux 9.5 | PASS | +------------------------------+--------------------+ | Ubuntu 20.04 | PASS | +------------------------------+--------------------+ | Debian GNU/Linux 12 | PASS | +------------------------------+--------------------+ | Fedora Linux 42 | PASS | +------------------------------+--------------------+ | Ubuntu 22.04 | PASS | +------------------------------+--------------------+ | CentOS Stream 9 | PASS | +------------------------------+--------------------+ | Ubuntu 24.04 | PASS | +------------------------------+--------------------+ | CentOS Stream 10 | PASS | +------------------------------+--------------------+ Red Hat Enterprise Linux 9.5 Kernel: 5.4 Compiler: gcc gcc (GCC) 11.5.0 20240719 (Red Hat 11.5.0-2) Ubuntu 20.04 Kernel: 5.15 Compiler: aarch64-linux-gnu-gcc gcc (Ubuntu 9.4.0-1ubuntu1~20.04.2) 9.4.0 Debian GNU/Linux 12 Kernel: 5.4 Compiler: gcc gcc (Debian 12.2.0-14+deb12u1) 12.2.0 Fedora Linux 42 Kernel: 5.4 Compiler: gcc gcc (GCC) 15.2.1 20250808 (Red Hat 15.2.1-1) Ubuntu 22.04 Kernel: 5.4 Compiler: gcc gcc (Ubuntu 11.4.0-1ubuntu1~22.04) 11.4.0 CentOS Stream 9 Kernel: 5.4 Compiler: gcc gcc (GCC) 11.5.0 20240719 (Red Hat 11.5.0-11) Ubuntu 24.04 Kernel: 5.4 Compiler: gcc gcc (Ubuntu 13.3.0-6ubuntu2~24.04) 13.3.0 CentOS Stream 10 Kernel: 5.4 Compiler: gcc gcc (GCC) 14.2.1 20250110 (Red Hat 14.2.1-8) To view detailed results, visit: https://lab.dpdk.org/results/dashboard/patchsets/34153/ UNH-IOL DPDK Community Lab To manage your email subscriptions, visit: https://lab.dpdk.org/results/dashboard/preferences/subscriptions/