From mboxrd@z Thu Jan 1 00:00:00 1970 Return-Path: Received: from mails.dpdk.org (mails.dpdk.org [217.70.189.124]) by inbox.dpdk.org (Postfix) with ESMTP id 1C98D46F80 for ; Fri, 26 Sep 2025 09:15:28 +0200 (CEST) Received: from mails.dpdk.org (localhost [127.0.0.1]) by mails.dpdk.org (Postfix) with ESMTP id 145564025D; Fri, 26 Sep 2025 09:15:28 +0200 (CEST) Received: from mail-qk1-f225.google.com (mail-qk1-f225.google.com [209.85.222.225]) by mails.dpdk.org (Postfix) with ESMTP id 888B14025D for ; Fri, 26 Sep 2025 09:15:27 +0200 (CEST) Received: by mail-qk1-f225.google.com with SMTP id af79cd13be357-8608f72582eso26886585a.2 for ; Fri, 26 Sep 2025 00:15:27 -0700 (PDT) DKIM-Signature: v=1; a=rsa-sha256; c=relaxed/relaxed; d=iol.unh.edu; s=unh-iol; t=1758870927; x=1759475727; darn=dpdk.org; h=cc:to:from:subject:message-id:date:from:to:cc:subject:date :message-id:reply-to; bh=cWczNXZ86gwkPsZI9H2OQ+SnpYukdcmW7RkWcoqHCNI=; b=Pz0bl6+tT/7m1a7t30bfsN1K0W5fMV8GxZPzbu3Nw8hhHtlk/4Pa4o6SOyGQ2aKLBs mdifnumLSN2NVa4CjdUsFdh+Mz8Nk8kb1Ozu6Hf8lt+DDtDWxcNj+k9JqvKi3eFOO+Sb mYv1TOUFjVAEEgGdbpfQ20HGmEitCesS1yDfg= X-Google-DKIM-Signature: v=1; a=rsa-sha256; c=relaxed/relaxed; d=1e100.net; s=20230601; t=1758870927; x=1759475727; h=cc:to:from:subject:message-id:date:x-gm-message-state:from:to:cc :subject:date:message-id:reply-to; bh=cWczNXZ86gwkPsZI9H2OQ+SnpYukdcmW7RkWcoqHCNI=; b=ZYEisF0tX+w924tsyGevQSmIYdJyK2VcLbHUr89po9jBPf+5b6EegoqTVUKpm+IsxD MQOhErptEI/r070Y36LKLGFWD3pMIqO+OUyKiPV9Tc8GnCfCoDY6ceFVk3rqt2Rv4G/s APBrLJjb5VAKFMSa1eXlQB+KIEDCUhWF+Ydi5+BVG1znbed3ayUR+Tp2vnu/l2DJGapS MUVEF5eWxOLPjmdgw6gzEQ3jZA1j6Wvxl8c0qmbWui3JVoPLVgMkBhQnYfnriUA7xs9B t00IQ+gsD8aY765J30aXtsUCP99wMPEHl2xzZjSyCPmSDXroDDBDaz4xs2P1wmuZ1Bxn syAw== X-Gm-Message-State: AOJu0YzPkRuYbtZEZClX7ICyoc1V1mbFg6ZOCJPzdULs88lSy7P9Qc3M zZqOz7gR6uIbnn3MhGspbmpuNix3No2DYZg3SwDU/4VRHGDfGfNtJUWOXdAy3bxzodo9lxMB9cd Sz2hEEK0reA2AuvdKf5Ge0epvS9tm6GjZfbC2 X-Gm-Gg: ASbGncuAJzkCGsAFeT40tnDdiKcR9Bc2+qD5LLR01xF8HKpf3lwLf9pnN2u68FvQ5RU wsGP9mMQi70nUfcvGDlSyxd+o8gYcsk24B44XKqBTQ4Gs6yd+ojorE63Ro5vMDPbdURDe1a6JzW lXxe1NNzOUK7yNva1Q5a9SBB38mtuGhw5iiXqLS6Ex/N5Jj8dvSTQcYKbabLZhjTvEMA8AhhHMw upE5F+4o+ZQfVQlKzTKx6jRsrGZF42PgQd5hIryrhIDSXPz5eMyuvecYk+tRxZAiehJzJKp3+10 hBwG4QiFReglzJL6ANMoZcadKPD8P0ji/QsE+46WL1UOTQTLhkcNXqxuRVqP9psArNz+BZDX X-Google-Smtp-Source: AGHT+IHj1elwGmqdatupt2gWjerDoqVRtJVhyiUCB02P4Humzha1yujRVJiWg//+IhvOaIjDpnLUMkDLWb9l X-Received: by 2002:a05:6214:2aaa:b0:784:4f84:22f8 with SMTP id 6a1803df08f44-7fc2d330151mr104667606d6.21.1758870926924; Fri, 26 Sep 2025 00:15:26 -0700 (PDT) Received: from postal.iol.unh.edu (postal.iol.unh.edu. [132.177.123.84]) by smtp-relay.gmail.com with ESMTPS id 6a1803df08f44-8016193d071sm2752586d6.25.2025.09.26.00.15.26 (version=TLS1_2 cipher=ECDHE-ECDSA-AES128-GCM-SHA256 bits=128/128); Fri, 26 Sep 2025 00:15:26 -0700 (PDT) X-Relaying-Domain: iol.unh.edu Date: Fri, 26 Sep 2025 00:15:26 -0700 (PDT) Message-ID: <68d63d8e.050a0220.120fb8.06f6SMTPIN_ADDED_MISSING@mx.google.com> Received: from [172.21.0.4] (unknown [172.18.0.240]) by postal.iol.unh.edu (Postfix) with ESMTP id A2A8D6050A61; Fri, 26 Sep 2025 03:15:26 -0400 (EDT) Subject: |SUCCESS| [GIT MASTER] 3b43ce3f4a54468e7ef65760c2fd7b4d6ee6d9fc From: dpdklab@iol.unh.edu To: Test Report Cc: dpdk-test-reports@iol.unh.edu, Xueming Li , Christian Ehrhardt , Kevin Traynor , Luca Boccassi Content-Type: text/plain X-BeenThere: test-report@dpdk.org X-Mailman-Version: 2.1.29 Precedence: list List-Id: automatic DPDK test reports List-Unsubscribe: , List-Archive: List-Post: List-Help: List-Subscribe: , Errors-To: test-report-bounces@dpdk.org _Testing PASS_ Branch: tags/v22.11 3b43ce3f4a54468e7ef65760c2fd7b4d6ee6d9fc --> testing pass Upstream job id: Generic-DPDK-Compile-Meson#428775 Test environment and result as below: +------------------------------+--------------------+ | Environment | dpdk_meson_compile | +==============================+====================+ | Red Hat Enterprise Linux 9.5 | PASS | +------------------------------+--------------------+ | Ubuntu 20.04 | PASS | +------------------------------+--------------------+ | Debian GNU/Linux 12 | PASS | +------------------------------+--------------------+ | Fedora Linux 42 | PASS | +------------------------------+--------------------+ | Ubuntu 22.04 | PASS | +------------------------------+--------------------+ | CentOS Stream 9 | PASS | +------------------------------+--------------------+ | Ubuntu 24.04 | PASS | +------------------------------+--------------------+ | CentOS Stream 10 | PASS | +------------------------------+--------------------+ Red Hat Enterprise Linux 9.5 Kernel: 5.4 Compiler: gcc gcc (GCC) 11.5.0 20240719 (Red Hat 11.5.0-2) Ubuntu 20.04 Kernel: 5.15 Compiler: aarch64-linux-gnu-gcc gcc (Ubuntu 9.4.0-1ubuntu1~20.04.2) 9.4.0 Debian GNU/Linux 12 Kernel: 5.4 Compiler: gcc gcc (Debian 12.2.0-14+deb12u1) 12.2.0 Fedora Linux 42 Kernel: 5.4 Compiler: gcc gcc (GCC) 15.2.1 20250808 (Red Hat 15.2.1-1) Ubuntu 22.04 Kernel: 5.4 Compiler: gcc gcc (Ubuntu 11.4.0-1ubuntu1~22.04) 11.4.0 CentOS Stream 9 Kernel: 5.4 Compiler: gcc gcc (GCC) 11.5.0 20240719 (Red Hat 11.5.0-11) Ubuntu 24.04 Kernel: 5.4 Compiler: gcc gcc (Ubuntu 13.3.0-6ubuntu2~24.04) 13.3.0 CentOS Stream 10 Kernel: 5.4 Compiler: gcc gcc (GCC) 14.2.1 20250110 (Red Hat 14.2.1-8) To view detailed results, visit: https://lab.dpdk.org/results/dashboard/tarballs/35009/ UNH-IOL DPDK Community Lab To manage your email subscriptions, visit: https://lab.dpdk.org/results/dashboard/preferences/subscriptions/