From mboxrd@z Thu Jan 1 00:00:00 1970 Return-Path: Received: from mails.dpdk.org (mails.dpdk.org [217.70.189.124]) by inbox.dpdk.org (Postfix) with ESMTP id DA24246F80 for ; Fri, 26 Sep 2025 09:22:54 +0200 (CEST) Received: from mails.dpdk.org (localhost [127.0.0.1]) by mails.dpdk.org (Postfix) with ESMTP id B38834025D; Fri, 26 Sep 2025 09:22:54 +0200 (CEST) Received: from mail-oa1-f98.google.com (mail-oa1-f98.google.com [209.85.160.98]) by mails.dpdk.org (Postfix) with ESMTP id 4629B4025D for ; Fri, 26 Sep 2025 09:22:54 +0200 (CEST) Received: by mail-oa1-f98.google.com with SMTP id 586e51a60fabf-35bdcaf79e7so1468255fac.0 for ; Fri, 26 Sep 2025 00:22:54 -0700 (PDT) DKIM-Signature: v=1; a=rsa-sha256; c=relaxed/relaxed; d=iol.unh.edu; s=unh-iol; t=1758871373; x=1759476173; darn=dpdk.org; h=cc:to:from:subject:message-id:date:from:to:cc:subject:date :message-id:reply-to; bh=M0XDir4O6aXA1NRSMyjsxoasvnqzFr46UUOKrJ1AEOA=; b=Bo+gyOEW+CILW4Gtg0Dpjyhlf3zLo9V8Kg17f2jJo2FIiPTHp3lIAirN+6AiIGGtsb 4+SQwODgZp//uy2AzLP6zQRQY7lhH4gYrhNwMaX9I0kFm+ejMb+PWhHQwKpIJGQvi0Ce nK/gbuERYDrrxe6JcUccD4EOIxQnDD4cQLE9A= X-Google-DKIM-Signature: v=1; a=rsa-sha256; c=relaxed/relaxed; d=1e100.net; s=20230601; t=1758871373; x=1759476173; h=cc:to:from:subject:message-id:date:x-gm-message-state:from:to:cc :subject:date:message-id:reply-to; bh=M0XDir4O6aXA1NRSMyjsxoasvnqzFr46UUOKrJ1AEOA=; b=NjyYDmXqBa05iiGNxuEO+/WaweKk3QeYQHBWvd6I1sBA8ngwDDSIAexuUPX7Ki1xUt lA/gjaoSUG+b0WSoOJREI+KLJE0EqU50gJymq2ww9PPkZjCNla3dS07L5+su+RCzH/bX NNprMfHaoK55hytrmYE7/jL1TyHp3lnNWZFujvBz/vHFFSK/+EJYuMbCiraigo1APWqF pYaANj+wm9HWWnifHYe2fhiaMVcd+942MRUtOS3uQC3RGyXk7THcV/3ggeUKYCQt6W6l KqiKXMxKKESIj0rP+pCBZcE/ZfebF1vWe2TFvqSGOUHrbXaRtYrm0J18n9soogcIH8f2 LQNQ== X-Gm-Message-State: AOJu0YzDGhmDuI8otuAoXGBaOKWYHHDc10Q1a6rG8v29kBbVamXi9Bto scSWYW+2cuZ3UDXvtn42s2I6PyMW31CnfU1jX35FZt2YNhlAmsFdH4Hm2H8S/mI4yWZht0DktUW EtZUJCiD4W8bQY4jtsQPRI9nvWxbWOWd8vt5g6V/oGa26IIDEV+FfcrdAXPPr X-Gm-Gg: ASbGncvb5LJ5pYD92hM1yWtTuRAYZx58+EaSX1saXwJ7t5yVu/+uaFBIuxc/2OlYzyz rrCKbMBIPtMvGECamm/v+le+n3CNHVdOCDYQSjs73DfCaljfddnj3Zcs0AdKyT+n3pdmM1jv26+ Y17xlqjWRYbQek8dKNgPaIhcdbZ4Rzf7/nNr1KOjnGLkF1eBUQHM3DyOUtkuRB7yVyg+0em652L cZoc3xTga8nFees3R+f35zHKN/R17LHoy0+55V918BgFUbK657+e9BK6b7tIfwZWfHP2ea7/kqw YlXtkvqbO8A+bUfkl2/mY79mbbUw2ST2kP3sU8AkAf5lK4ojag== X-Google-Smtp-Source: AGHT+IHQji6mJlULkCMV2vgebLiEb8a3nWX+BwSMZpTsx8QZr0S7q/21wUOTmsdpGq8Te4wUoqaxiy/pytIl X-Received: by 2002:a05:6871:740d:b0:348:4ee3:1592 with SMTP id 586e51a60fabf-35eea09ef4emr3422114fac.34.1758871373322; Fri, 26 Sep 2025 00:22:53 -0700 (PDT) Received: from postal.iol.unh.edu (postal.iol.unh.edu. [2606:4100:3880:1234::84]) by smtp-relay.gmail.com with ESMTPS id 586e51a60fabf-363b49ab3basm272366fac.14.2025.09.26.00.22.53 (version=TLS1_2 cipher=ECDHE-ECDSA-AES128-GCM-SHA256 bits=128/128); Fri, 26 Sep 2025 00:22:53 -0700 (PDT) X-Relaying-Domain: iol.unh.edu Date: Fri, 26 Sep 2025 00:22:53 -0700 (PDT) Message-ID: <68d63f4d.050a0220.3532bc.013bSMTPIN_ADDED_MISSING@mx.google.com> Received: from [172.21.0.2] (unknown [172.18.0.240]) by postal.iol.unh.edu (Postfix) with ESMTP id D17536050A61; Fri, 26 Sep 2025 03:22:52 -0400 (EDT) Subject: |SUCCESS| [GIT MASTER] 0b58c147385ecd20ebb4e678934536a597902c28 From: dpdklab@iol.unh.edu To: Test Report Cc: dpdk-test-reports@iol.unh.edu, Stephen Hemminger Content-Type: text/plain X-BeenThere: test-report@dpdk.org X-Mailman-Version: 2.1.29 Precedence: list List-Id: automatic DPDK test reports List-Unsubscribe: , List-Archive: List-Post: List-Help: List-Subscribe: , Errors-To: test-report-bounces@dpdk.org _Testing PASS_ Branch: dpdk-next-net 0b58c147385ecd20ebb4e678934536a597902c28 --> testing pass Upstream job id: Generic-Unit-Test-DPDK#375288 Test environment and result as below: +-------------------------------+----------------+ | Environment | dpdk_unit_test | +===============================+================+ | CentOS Stream 9 | PASS | +-------------------------------+----------------+ | CentOS Stream 10 | PASS | +-------------------------------+----------------+ | Debian GNU/Linux 12 | PASS | +-------------------------------+----------------+ | Fedora Linux 40 | PASS | +-------------------------------+----------------+ | Fedora Linux 41 | PASS | +-------------------------------+----------------+ | Fedora Linux 42 | PASS | +-------------------------------+----------------+ | Red Hat Enterprise Linux 9.5 | PASS | +-------------------------------+----------------+ | Ubuntu 22.04 | PASS | +-------------------------------+----------------+ | Red Hat Enterprise Linux 8.10 | PASS | +-------------------------------+----------------+ | Ubuntu 20.04 | PASS | +-------------------------------+----------------+ | Ubuntu 24.04 | PASS | +-------------------------------+----------------+ | Windows Server 2022 | PASS | +-------------------------------+----------------+ CentOS Stream 9 Kernel: 5.15 Compiler: gcc gcc (GCC) 11.5.0 20240719 (Red Hat 11.5.0-11) CentOS Stream 10 Kernel: 5.15 Compiler: gcc gcc (GCC) 14.2.1 20250110 (Red Hat 14.2.1-8) Debian GNU/Linux 12 Kernel: 5.15 Compiler: gcc gcc (Debian 12.2.0-14+deb12u1) 12.2.0 Fedora Linux 40 Kernel: 5.15 Compiler: clang gcc (GCC) 14.2.1 20240912 (Red Hat 14.2.1-3) Fedora Linux 41 Kernel: 5.15 Compiler: gcc gcc (GCC) 14.3.1 20250523 (Red Hat 14.3.1-1) Fedora Linux 42 Kernel: 5.15 Compiler: gcc gcc (GCC) 15.2.1 20250808 (Red Hat 15.2.1-1) Red Hat Enterprise Linux 9.5 Kernel: 5.15 Compiler: gcc gcc (GCC) 11.5.0 20240719 (Red Hat 11.5.0-2) Ubuntu 22.04 Kernel: 5.15 Compiler: gcc gcc (Ubuntu 11.4.0-1ubuntu1~22.04) 11.4.0 Red Hat Enterprise Linux 8.10 Kernel: 5.15 Compiler: gcc gcc (GCC) 8.5.0 20210514 (Red Hat 8.5.0-22) Ubuntu 20.04 Kernel: 5.15 Compiler: gcc gcc (Ubuntu 9.4.0-1ubuntu1~20.04.2) 9.4.0 Ubuntu 24.04 Kernel: 5.15 Compiler: gcc gcc (Ubuntu 13.3.0-6ubuntu2~24.04) 13.3.0 Windows Server 2022 Kernel: 10.0.20348.2031 Compiler: clang 15.0.7, gcc 14.1.0 (MinGW), and MSVC VS 19.39.33521 To view detailed results, visit: https://lab.dpdk.org/results/dashboard/tarballs/35012/ UNH-IOL DPDK Community Lab To manage your email subscriptions, visit: https://lab.dpdk.org/results/dashboard/preferences/subscriptions/