From mboxrd@z Thu Jan 1 00:00:00 1970 Return-Path: Received: from mails.dpdk.org (mails.dpdk.org [217.70.189.124]) by inbox.dpdk.org (Postfix) with ESMTP id B50F246F84 for ; Fri, 26 Sep 2025 10:32:02 +0200 (CEST) Received: from mails.dpdk.org (localhost [127.0.0.1]) by mails.dpdk.org (Postfix) with ESMTP id 814654025D; Fri, 26 Sep 2025 10:32:02 +0200 (CEST) Received: from mail-qk1-f228.google.com (mail-qk1-f228.google.com [209.85.222.228]) by mails.dpdk.org (Postfix) with ESMTP id 1001E4025D for ; Fri, 26 Sep 2025 10:32:02 +0200 (CEST) Received: by mail-qk1-f228.google.com with SMTP id af79cd13be357-85d02580a07so98183985a.0 for ; Fri, 26 Sep 2025 01:32:02 -0700 (PDT) DKIM-Signature: v=1; a=rsa-sha256; c=relaxed/relaxed; d=iol.unh.edu; s=unh-iol; t=1758875521; x=1759480321; darn=dpdk.org; h=references:in-reply-to:cc:to:from:subject:message-id:date:from:to :cc:subject:date:message-id:reply-to; bh=fSeaeeYT13wccC7QDktH/enzjtJPef4yBlUynqqDHNs=; b=T15n36l6x6nFrJ9b5cLsh4qbJxAQ86ytCkDgAYy9KyYwkf+4LvHssem2woBsXDXzGy hN9//1qyH+VG/fub8lhmzvLPOUBuG/8imbSIHdOaieHvbcQs2wcJDmJjjvA7KFIWKyZg VHu62UNd0V0pdaf18Bx76bRT54xMWxvazaXng= X-Google-DKIM-Signature: v=1; a=rsa-sha256; c=relaxed/relaxed; d=1e100.net; s=20230601; t=1758875521; x=1759480321; h=references:in-reply-to:cc:to:from:subject:message-id:date :x-gm-message-state:from:to:cc:subject:date:message-id:reply-to; bh=fSeaeeYT13wccC7QDktH/enzjtJPef4yBlUynqqDHNs=; b=KbZk9w6RcU/K5N8c99FRJO9mwD2r+C7GtlREtQYOxLkFSMwdrLUdS5BURCXQUUAX6o soMBx/Xwul6bRriaXUXP4FqzXvMBNjBMt8PAnmnN+9wpYeBYYC7zf9hmeRxkGBGYRXBt 6/emtKWhKrl8M0Y7OvoHOZvfqfvigWwsF+Wi95Uz7lcmn0DXRCJEl+u98snD+ZTwtk56 31h/xdVccl+RyUdLMUXDhOTJktjbOojeF83xU+OutOl+JQhcthue+fA3HYesNy9crwcs kNy4ZUvNdnU43ItNKydegD3yEhjHThcrRnHY/p8Pf8n4y5LAJwdrtjlZL2D6wO3hzWFc 1AGA== X-Gm-Message-State: AOJu0YzXt4GW9tqRH0I9FpQpexDdLb1nsv+6qg8BSmhNN8GtPe6o5hgU s8/EB0ZlbP0FmUMfDWCwAK6xpJSXc+OGDClyq6QW8+qxLykd96Xv8gZt4CU/jHCJTPAWVGht4xa /Ju5mAWZFvf9TVGRlfLv6w2+77tFVKetjwNgVR60l8PP+ X-Gm-Gg: ASbGncv3i4RNgKi3kJemiXJweSwss+7FHs7gvMxR4N8J4Wib6tQTaiqaz36QXJTc7xA OuQW9PlQWx55MrmzsQasW3LHRaZgMaCPWZGwC6IvNzu4d2VI+qGB09/VZ5FbD2DXIfFDmimPnw7 RX9hJhFIDla8x7WNIBxzBCjJt95n5U4X1M4ylti9bL0SqmaJXPCmhWUfroFif10lypww/p7SOwU uM7/rDRvb7+bZln1SKRChReWe6309xMNcT84Zq+SQH7IXrX2uz2ausxyoehzaK4UmYCb/DfhGt9 qwYmWGUpKfynm2eomOZ/Kf8zmf5V/r/Uzucbg7tKPco/OPPZfwH2lebH1cJSy03x9vY8+o4/ X-Google-Smtp-Source: AGHT+IGVuT1RYBVIdQyTjSq6VWgLM7N2DMlcgITn9dqNy+N+ZeK/ONouqZfyCJWiNBjSiNenedpxbadA53pd X-Received: by 2002:a05:6214:2cd0:b0:81a:33f3:62cf with SMTP id 6a1803df08f44-81a343fb55emr22166656d6.4.1758875521340; Fri, 26 Sep 2025 01:32:01 -0700 (PDT) Received: from postal.iol.unh.edu (postal.iol.unh.edu. [132.177.123.84]) by smtp-relay.gmail.com with ESMTPS id d75a77b69052e-4db0ee49556sm1361581cf.9.2025.09.26.01.32.01 (version=TLS1_2 cipher=ECDHE-ECDSA-AES128-GCM-SHA256 bits=128/128); Fri, 26 Sep 2025 01:32:01 -0700 (PDT) X-Relaying-Domain: iol.unh.edu Date: Fri, 26 Sep 2025 01:32:01 -0700 (PDT) Message-ID: <68d64f81.050a0220.35daba.8090SMTPIN_ADDED_MISSING@mx.google.com> Received: from [172.21.0.2] (unknown [172.18.0.240]) by postal.iol.unh.edu (Postfix) with ESMTP id E96816051830; Fri, 26 Sep 2025 04:32:00 -0400 (EDT) Subject: |SUCCESS| pw156974-156990 [PATCH] [v12,17/17] net/nbl: add nbl devic From: dpdklab@iol.unh.edu To: Test Report Cc: dpdk-test-reports@iol.unh.edu, Stephen Hemminger In-Reply-To: <20250926072602.3030541-18-dimon.zhao@nebula-matrix.com> References: <20250926072602.3030541-18-dimon.zhao@nebula-matrix.com> Content-Type: text/plain X-BeenThere: test-report@dpdk.org X-Mailman-Version: 2.1.29 Precedence: list List-Id: automatic DPDK test reports List-Unsubscribe: , List-Archive: List-Post: List-Help: List-Subscribe: , Errors-To: test-report-bounces@dpdk.org Test-Label: iol-unit-amd64-testing Test-Status: SUCCESS http://dpdk.org/patch/156990 _Testing PASS_ Submitter: Dimon Zhao Date: Friday, September 26 2025 07:26:02 DPDK git baseline: Repo:dpdk-next-net Branch: master CommitID:0b58c147385ecd20ebb4e678934536a597902c28 156974-156990 --> testing pass Upstream job id: Generic-VM-Unit-Test-DPDK#31401 Test environment and result as below: +-------------------------------+----------------+ | Environment | dpdk_unit_test | +===============================+================+ | CentOS Stream 9 | PASS | +-------------------------------+----------------+ | Fedora Linux 40 | PASS | +-------------------------------+----------------+ | CentOS Stream 10 | PASS | +-------------------------------+----------------+ | Debian GNU/Linux 12 | PASS | +-------------------------------+----------------+ | Fedora Linux 41 | PASS | +-------------------------------+----------------+ | Fedora Linux 42 | PASS | +-------------------------------+----------------+ | Red Hat Enterprise Linux 8.10 | PASS | +-------------------------------+----------------+ | Red Hat Enterprise Linux 9.5 | PASS | +-------------------------------+----------------+ | Ubuntu 22.04 | PASS | +-------------------------------+----------------+ | Windows Server 2022 | PASS | +-------------------------------+----------------+ | Ubuntu 20.04 | PASS | +-------------------------------+----------------+ | Ubuntu 24.04 | PASS | +-------------------------------+----------------+ CentOS Stream 9 Kernel: 5.15 Compiler: gcc gcc (GCC) 11.5.0 20240719 (Red Hat 11.5.0-11) Fedora Linux 40 Kernel: 5.15 Compiler: gcc gcc (GCC) 14.2.1 20240912 (Red Hat 14.2.1-3) CentOS Stream 10 Kernel: 5.15 Compiler: gcc gcc (GCC) 14.2.1 20250110 (Red Hat 14.2.1-8) Debian GNU/Linux 12 Kernel: 5.15 Compiler: gcc gcc (Debian 12.2.0-14+deb12u1) 12.2.0 Fedora Linux 41 Kernel: 5.15 Compiler: gcc gcc (GCC) 14.3.1 20250523 (Red Hat 14.3.1-1) Fedora Linux 42 Kernel: 5.15 Compiler: gcc gcc (GCC) 15.2.1 20250808 (Red Hat 15.2.1-1) Red Hat Enterprise Linux 8.10 Kernel: 5.15 Compiler: gcc gcc (GCC) 8.5.0 20210514 (Red Hat 8.5.0-22) Red Hat Enterprise Linux 9.5 Kernel: 5.15 Compiler: gcc gcc (GCC) 11.5.0 20240719 (Red Hat 11.5.0-2) Ubuntu 22.04 Kernel: 5.15 Compiler: gcc gcc (Ubuntu 11.4.0-1ubuntu1~22.04) 11.4.0 Windows Server 2022 Kernel: 10.0.20348.2031 Compiler: clang 15.0.7, gcc 14.1.0 (MinGW), and MSVC VS 19.39.33521 Ubuntu 20.04 Kernel: 5.15 Compiler: gcc gcc (Ubuntu 9.4.0-1ubuntu1~20.04.2) 9.4.0 Ubuntu 24.04 Kernel: 5.15 Compiler: gcc gcc (Ubuntu 13.3.0-6ubuntu2~24.04) 13.3.0 To view detailed results, visit: https://lab.dpdk.org/results/dashboard/patchsets/34154/ UNH-IOL DPDK Community Lab To manage your email subscriptions, visit: https://lab.dpdk.org/results/dashboard/preferences/subscriptions/