From mboxrd@z Thu Jan 1 00:00:00 1970 Return-Path: Received: from mails.dpdk.org (mails.dpdk.org [217.70.189.124]) by inbox.dpdk.org (Postfix) with ESMTP id 7156746F84 for ; Fri, 26 Sep 2025 10:38:11 +0200 (CEST) Received: from mails.dpdk.org (localhost [127.0.0.1]) by mails.dpdk.org (Postfix) with ESMTP id 4C9FD4025D; Fri, 26 Sep 2025 10:38:11 +0200 (CEST) Received: from mail-pg1-f227.google.com (mail-pg1-f227.google.com [209.85.215.227]) by mails.dpdk.org (Postfix) with ESMTP id 8B92B4025D for ; Fri, 26 Sep 2025 10:38:09 +0200 (CEST) Received: by mail-pg1-f227.google.com with SMTP id 41be03b00d2f7-b55562f3130so1364270a12.2 for ; Fri, 26 Sep 2025 01:38:09 -0700 (PDT) DKIM-Signature: v=1; a=rsa-sha256; c=relaxed/relaxed; d=iol.unh.edu; s=unh-iol; t=1758875888; x=1759480688; darn=dpdk.org; h=references:in-reply-to:cc:to:from:subject:message-id:date:from:to :cc:subject:date:message-id:reply-to; bh=ABMb2DQZrsZFLIrnTk+gM3Eq0VXKH+BO9FOp3gvLpeQ=; b=LgFG1iMGblReyA6iYUx51tIch+iD6CX0K/vj79v6Tghl90/NLOzDc2irI5e3Arsy9H +J8HeWdERYrxm9O6UqVnNdVpiCXF3rS0jkesPCisn+bDuJnKZKTOMo+QaalJgknw0tl5 D2a2pjomV3hbZeggXy1lMCSeEt4dzhb3Nv3L0= X-Google-DKIM-Signature: v=1; a=rsa-sha256; c=relaxed/relaxed; d=1e100.net; s=20230601; t=1758875888; x=1759480688; h=references:in-reply-to:cc:to:from:subject:message-id:date :x-gm-message-state:from:to:cc:subject:date:message-id:reply-to; bh=ABMb2DQZrsZFLIrnTk+gM3Eq0VXKH+BO9FOp3gvLpeQ=; b=bhvS4RDMC5NDWeKhR2psOBFrdHcY6gVc7qY8Xxis+qQmDyUN/rCBU7p1vgWS5NNLEo VlM3Y9UO8tCjqXphBqQBqG/QbhVO4PqFo/cZ6E0c8DE5CDKQYOAJ+HUeQ+Zxc5wubbFC 7NcG5qE0KN2i5931nxmHbhv1iiv86Wd8oBPmi9fRISE/Nxh/1w6tucdz9CGVQoJH7OTM aPMOZak0U/Kl96uyDhjv/bvZTiyXzR1fsyvSVhCZhC5/oPG0QhE90tHGlOoBZh7hVwX4 9+hLTHwhCNABrfEKf5PEyjE1hjsq3H/O1jwR9d9neqfLD5Y+ZN6LKc741/s+zcz2/4DC 8Ozw== X-Gm-Message-State: AOJu0YzE/1I99nA2Bi20iE9IF22S0IQMM8RffLORXEBv4gZmlCWVISU5 +V6V/LAP15JJ0Q4ibsbmqvY7H4Rjn8eB+UBxo6ZiiJOCNpQqXxzUircwat4KnLS1enlPO90jB/b bZjQOIulEd76DI+xjHsC5Wxnd6FLwsZ16Hs89a/6YjHS6VKqcWX3nXYeB+Mg/ X-Gm-Gg: ASbGnctiKV6RYbPP9lNBANgMwHF9ep2SNIJdfcJ8FZ5l/7HkM/54OeVbrjhlbwHqcho dnt3g4VHb25NFebJlsQ2+o61E/rL0B3q8gIxbzC1qD66cR7a+g8G6GXMaUHm6n6n+SZe2ByRhn2 r+ZDV2bS+083pjRxQYjwsh08VIWXV0ZA32R175AWgLDOOjjEJKJ/WnNkCCyMMbSEwCHSpB3ZYXh /EidMgo7BH6tHvYbkcH85vV6184qqrm7gj8KHFkW0Oc4cif82GOIMhpLgZOEBe+VWpMC2t5pWan 2gwXKjxlNS07pGTdxKuLqeMKZnXoQHAirTGdsh5UswwfLuSr+Q== X-Google-Smtp-Source: AGHT+IHebsb1iSkXznaCpq6SGXzVjHBYfQeUx+LbAblmkfLYQ8fi8oU2pNuMy2POPL7v9FLW1Gp9HqE7hpFe X-Received: by 2002:a17:902:e890:b0:240:9dd8:219b with SMTP id d9443c01a7336-27ed4a93691mr73853205ad.49.1758875888454; Fri, 26 Sep 2025 01:38:08 -0700 (PDT) Received: from postal.iol.unh.edu (postal.iol.unh.edu. [2606:4100:3880:1234::84]) by smtp-relay.gmail.com with ESMTPS id d9443c01a7336-27ed67e78cdsm3323645ad.37.2025.09.26.01.38.08 (version=TLS1_2 cipher=ECDHE-ECDSA-AES128-GCM-SHA256 bits=128/128); Fri, 26 Sep 2025 01:38:08 -0700 (PDT) X-Relaying-Domain: iol.unh.edu Date: Fri, 26 Sep 2025 01:38:08 -0700 (PDT) Message-ID: <68d650f0.170a0220.e30e5.40a4SMTPIN_ADDED_MISSING@mx.google.com> Received: from [172.21.0.2] (unknown [172.18.0.240]) by postal.iol.unh.edu (Postfix) with ESMTP id DE5206051830; Fri, 26 Sep 2025 04:38:07 -0400 (EDT) Subject: |SUCCESS| pw156974-156990 [PATCH] [v12,17/17] net/nbl: add nbl devic From: dpdklab@iol.unh.edu To: Test Report Cc: dpdk-test-reports@iol.unh.edu, Stephen Hemminger In-Reply-To: <20250926072602.3030541-18-dimon.zhao@nebula-matrix.com> References: <20250926072602.3030541-18-dimon.zhao@nebula-matrix.com> Content-Type: text/plain X-BeenThere: test-report@dpdk.org X-Mailman-Version: 2.1.29 Precedence: list List-Id: automatic DPDK test reports List-Unsubscribe: , List-Archive: List-Post: List-Help: List-Subscribe: , Errors-To: test-report-bounces@dpdk.org Test-Label: iol-compile-amd64-testing Test-Status: SUCCESS http://dpdk.org/patch/156990 _Testing PASS_ Submitter: Dimon Zhao Date: Friday, September 26 2025 07:26:02 DPDK git baseline: Repo:dpdk-next-net Branch: master CommitID:0b58c147385ecd20ebb4e678934536a597902c28 156974-156990 --> testing pass Upstream job id: Generic-DPDK-Compile-Meson#428858 Test environment and result as below: +-------------------------------+--------------------+-------------------+------------------+-------------------------+-------------------+----------------------+ | Environment | dpdk_meson_compile | dpdk_compile_spdk | dpdk_compile_ovs | dpdk_llvm_clang_compile | dpdk_msvc_compile | dpdk_mingw64_compile | +===============================+====================+===================+==================+=========================+===================+======================+ | CentOS Stream 10 | PASS | SKIPPED | SKIPPED | SKIPPED | SKIPPED | SKIPPED | +-------------------------------+--------------------+-------------------+------------------+-------------------------+-------------------+----------------------+ | CentOS Stream 9 | PASS | PASS | SKIPPED | SKIPPED | SKIPPED | SKIPPED | +-------------------------------+--------------------+-------------------+------------------+-------------------------+-------------------+----------------------+ | Fedora Linux 42 | PASS | PASS | PASS | SKIPPED | SKIPPED | SKIPPED | +-------------------------------+--------------------+-------------------+------------------+-------------------------+-------------------+----------------------+ | openSUSE Leap 15.6 | PASS | SKIPPED | SKIPPED | SKIPPED | SKIPPED | SKIPPED | +-------------------------------+--------------------+-------------------+------------------+-------------------------+-------------------+----------------------+ | Debian GNU/Linux 12 | PASS | PASS | SKIPPED | SKIPPED | SKIPPED | SKIPPED | +-------------------------------+--------------------+-------------------+------------------+-------------------------+-------------------+----------------------+ | Red Hat Enterprise Linux 8.10 | PASS | SKIPPED | SKIPPED | SKIPPED | SKIPPED | SKIPPED | +-------------------------------+--------------------+-------------------+------------------+-------------------------+-------------------+----------------------+ | Ubuntu 20.04 | PASS | SKIPPED | SKIPPED | SKIPPED | SKIPPED | SKIPPED | +-------------------------------+--------------------+-------------------+------------------+-------------------------+-------------------+----------------------+ | Red Hat Enterprise Linux 9.5 | PASS | SKIPPED | SKIPPED | SKIPPED | SKIPPED | SKIPPED | +-------------------------------+--------------------+-------------------+------------------+-------------------------+-------------------+----------------------+ | FreeBSD 14.2 | PASS | SKIPPED | SKIPPED | SKIPPED | SKIPPED | SKIPPED | +-------------------------------+--------------------+-------------------+------------------+-------------------------+-------------------+----------------------+ | Ubuntu 22.04 | PASS | PASS | SKIPPED | SKIPPED | SKIPPED | SKIPPED | +-------------------------------+--------------------+-------------------+------------------+-------------------------+-------------------+----------------------+ | Ubuntu 24.04 | PASS | PASS | PASS | SKIPPED | SKIPPED | SKIPPED | +-------------------------------+--------------------+-------------------+------------------+-------------------------+-------------------+----------------------+ | Alpine Linux 3.22.0 | PASS | SKIPPED | SKIPPED | SKIPPED | SKIPPED | SKIPPED | +-------------------------------+--------------------+-------------------+------------------+-------------------------+-------------------+----------------------+ | Windows Server 2022 | SKIPPED | SKIPPED | SKIPPED | PASS | PASS | PASS | +-------------------------------+--------------------+-------------------+------------------+-------------------------+-------------------+----------------------+ CentOS Stream 10 Kernel: 5.15 Compiler: gcc gcc (GCC) 14.2.1 20250110 (Red Hat 14.2.1-8) CentOS Stream 9 Kernel: 5.15 Compiler: gcc gcc (GCC) 11.5.0 20240719 (Red Hat 11.5.0-11) Fedora Linux 42 Kernel: 5.15 Compiler: gcc gcc (GCC) 15.2.1 20250808 (Red Hat 15.2.1-1) openSUSE Leap 15.6 Kernel: 5.15 Compiler: gcc gcc (SUSE Linux) 7.5.0 Debian GNU/Linux 12 Kernel: 5.15 Compiler: gcc gcc (Debian 12.2.0-14+deb12u1) 12.2.0 Red Hat Enterprise Linux 8.10 Kernel: 5.15 Compiler: gcc gcc (GCC) 8.5.0 20210514 (Red Hat 8.5.0-22) Ubuntu 20.04 Kernel: 4.19 Compiler: gcc gcc (Ubuntu 9.4.0-1ubuntu1~20.04.2) 9.4.0 Red Hat Enterprise Linux 9.5 Kernel: 5.15 Compiler: gcc gcc (GCC) 11.5.0 20240719 (Red Hat 11.5.0-2) FreeBSD 14.2 Kernel: 14.2-RELEASE Compiler: clang 18.1.6 Ubuntu 22.04 Kernel: 5.15 Compiler: gcc gcc (Ubuntu 11.4.0-1ubuntu1~22.04) 11.4.0 Ubuntu 24.04 Kernel: 5.15 Compiler: gcc gcc (Ubuntu 13.3.0-6ubuntu2~24.04) 13.3.0 Alpine Linux 3.22.0 Kernel: 5.15 Compiler: gcc gcc (Alpine 14.2.0) 14.2.0 Windows Server 2022 Kernel: 10.0.20348.2031 Compiler: clang 15.0.7, gcc 14.1.0 (MinGW), and MSVC VS 19.39.33521 To view detailed results, visit: https://lab.dpdk.org/results/dashboard/patchsets/34154/ UNH-IOL DPDK Community Lab To manage your email subscriptions, visit: https://lab.dpdk.org/results/dashboard/preferences/subscriptions/