From mboxrd@z Thu Jan 1 00:00:00 1970 Return-Path: Received: from mails.dpdk.org (mails.dpdk.org [217.70.189.124]) by inbox.dpdk.org (Postfix) with ESMTP id C23A746F85 for ; Fri, 26 Sep 2025 12:17:17 +0200 (CEST) Received: from mails.dpdk.org (localhost [127.0.0.1]) by mails.dpdk.org (Postfix) with ESMTP id 9D4DB4042F; Fri, 26 Sep 2025 12:17:17 +0200 (CEST) Received: from mail-pg1-f226.google.com (mail-pg1-f226.google.com [209.85.215.226]) by mails.dpdk.org (Postfix) with ESMTP id CE7E84042F for ; Fri, 26 Sep 2025 12:17:15 +0200 (CEST) Received: by mail-pg1-f226.google.com with SMTP id 41be03b00d2f7-b5579235200so1465858a12.3 for ; Fri, 26 Sep 2025 03:17:15 -0700 (PDT) DKIM-Signature: v=1; a=rsa-sha256; c=relaxed/relaxed; d=iol.unh.edu; s=unh-iol; t=1758881835; x=1759486635; darn=dpdk.org; h=references:in-reply-to:cc:to:from:subject:message-id:date:from:to :cc:subject:date:message-id:reply-to; bh=dZREoGlpMCSq/DBkVfd3zIL7YKRkOzBJn9axtBBZHNo=; b=aENzLfkw8M516jGBhWR6HaiV/yxOwbvjhkImOxlL75sH6R80sgdqTp5CwWTmn6VIkn suezQA4b8m/RzftOxqpbYVBQzB3Lg7S7mSM2Z1xZ0hp+jI2sXL8eUqFMQxt7m1oLCIhV 1xsxZodTVljZrlldaP7Lrm6id/0wIcb4sAPuQ= X-Google-DKIM-Signature: v=1; a=rsa-sha256; c=relaxed/relaxed; d=1e100.net; s=20230601; t=1758881835; x=1759486635; h=references:in-reply-to:cc:to:from:subject:message-id:date :x-gm-message-state:from:to:cc:subject:date:message-id:reply-to; bh=dZREoGlpMCSq/DBkVfd3zIL7YKRkOzBJn9axtBBZHNo=; b=bchPPHPHAIPuNx1NPGAHXSj+iob1AwX+/dT4HMKwR91lYwq9v16fFYLjVShdoQyjhW 56nqDx8v7Cs1BlTNSCLlnLRBBd/xpw82s6AnQ0tNbHxffw/Q4dldpGTXDl1Hi1MhKQmc Wl1ivLSh3fTLJ03i2Drx8zhMVv+wDwoqNP69JUpdTm/HALD3BMytAKNQjSv53C0dUUDP sHBU5tujs4hf6LTN1vNDbIZYPUdaE/zqchDStFqLOhIa40WANvTq3vJB74VfRtCVTcJG DqP2VDs5K3XkjoeDO32i5s9Q62adW5dwSm9fOy+psPUmUHHnjroNrCCWkf3KJvI2Xh+O fgfA== X-Gm-Message-State: AOJu0Yy8t+Reg0kcrpvMqcultsdaeZ8fYp5vyrTDZHeM0gJC2cn9hF02 eI6MWU56gqercusiCwxgBZhpHFoPNZdUZ1K/VlLjKBQ0PQX25SZ1dU5UZKl/f6IJmdzb1JC1+DB lqUCM1FiUa1E3291IyS9WYeIhvcjVkHrzZ2k+KoQtV+K0XIk9fZyaYC1dbfWT X-Gm-Gg: ASbGncuUinnOviz46nKt78DaDnVwa5h0QrYGUdTLBFIFx52FmNBvACqHRrfzheP6Bq+ P3E9AYKXnoeN9ooi3Ixeye9sKYqQlO1a2/Rm/9RFhyuh1CvXub2XYYZzBFd+QdUBgUmPVHYi6Tz 670FKUSzBVjZE0wse5e+LjRJI0F2+vgi1TO/K/hmBb4avc3UprrcePWm4CkVIxcHqgcBQXDfS7j l5eHkcKWJDUvPTfD/ujPz5mBKs2LhZ0NVrQwyEwMNF32zp5THlH+rEv/DKHD5W9EGEsmnDW0Rls GZruaEdMc6ugDSLLNZoNrcdQT9fysLf1z2BPAPombDlj2BjNEA== X-Google-Smtp-Source: AGHT+IE+3NvkUfvwe5Vn2pOhlcZCccHJww6xM5jzwF7uEg+mE5xUJ/VlAjfDS6uJ/QdKcJ6i/Sm/kKD0gXt4 X-Received: by 2002:a17:902:fc48:b0:246:80b1:8c87 with SMTP id d9443c01a7336-27ed4a4974fmr100108755ad.43.1758881834950; Fri, 26 Sep 2025 03:17:14 -0700 (PDT) Received: from postal.iol.unh.edu (postal.iol.unh.edu. [2606:4100:3880:1234::84]) by smtp-relay.gmail.com with ESMTPS id d9443c01a7336-27ed66bb8b8sm3414865ad.14.2025.09.26.03.17.14 (version=TLS1_2 cipher=ECDHE-ECDSA-AES128-GCM-SHA256 bits=128/128); Fri, 26 Sep 2025 03:17:14 -0700 (PDT) X-Relaying-Domain: iol.unh.edu Date: Fri, 26 Sep 2025 03:17:14 -0700 (PDT) Message-ID: <68d6682a.170a0220.15f201.41d5SMTPIN_ADDED_MISSING@mx.google.com> Received: from [172.21.0.2] (unknown [172.18.0.240]) by postal.iol.unh.edu (Postfix) with ESMTP id 6F9556051830; Fri, 26 Sep 2025 06:17:14 -0400 (EDT) Subject: |SUCCESS| pw156992-156993 [PATCH] [v3,2/2] net/idpf: enable AVX2 for From: dpdklab@iol.unh.edu To: Test Report Cc: dpdk-test-reports@iol.unh.edu, Bruce Richardson In-Reply-To: <20250926085404.2074382-3-shaiq.wani@intel.com> References: <20250926085404.2074382-3-shaiq.wani@intel.com> Content-Type: text/plain X-BeenThere: test-report@dpdk.org X-Mailman-Version: 2.1.29 Precedence: list List-Id: automatic DPDK test reports List-Unsubscribe: , List-Archive: List-Post: List-Help: List-Subscribe: , Errors-To: test-report-bounces@dpdk.org Test-Label: iol-unit-amd64-testing Test-Status: SUCCESS http://dpdk.org/patch/156993 _Testing PASS_ Submitter: Shaiq Wani Date: Friday, September 26 2025 08:54:04 DPDK git baseline: Repo:dpdk-next-net-intel Branch: master CommitID:ab1325719d538b7f3527bb603f5e7d3f46a5eb53 156992-156993 --> testing pass Upstream job id: Generic-Unit-Test-DPDK#375357 Test environment and result as below: +-------------------------------+----------------+ | Environment | dpdk_unit_test | +===============================+================+ | CentOS Stream 9 | PASS | +-------------------------------+----------------+ | Fedora Linux 40 | PASS | +-------------------------------+----------------+ | CentOS Stream 10 | PASS | +-------------------------------+----------------+ | Fedora Linux 41 | PASS | +-------------------------------+----------------+ | Debian GNU/Linux 12 | PASS | +-------------------------------+----------------+ | Fedora Linux 42 | PASS | +-------------------------------+----------------+ | Red Hat Enterprise Linux 9.5 | PASS | +-------------------------------+----------------+ | Red Hat Enterprise Linux 8.10 | PASS | +-------------------------------+----------------+ | Ubuntu 22.04 | PASS | +-------------------------------+----------------+ | Ubuntu 20.04 | PASS | +-------------------------------+----------------+ | Ubuntu 24.04 | PASS | +-------------------------------+----------------+ | Windows Server 2022 | PASS | +-------------------------------+----------------+ CentOS Stream 9 Kernel: 5.15 Compiler: gcc gcc (GCC) 11.5.0 20240719 (Red Hat 11.5.0-11) Fedora Linux 40 Kernel: 5.15 Compiler: gcc gcc (GCC) 14.2.1 20240912 (Red Hat 14.2.1-3) CentOS Stream 10 Kernel: 5.15 Compiler: gcc gcc (GCC) 14.2.1 20250110 (Red Hat 14.2.1-8) Fedora Linux 41 Kernel: 5.15 Compiler: gcc gcc (GCC) 14.3.1 20250523 (Red Hat 14.3.1-1) Debian GNU/Linux 12 Kernel: 5.15 Compiler: gcc gcc (Debian 12.2.0-14+deb12u1) 12.2.0 Fedora Linux 42 Kernel: 5.15 Compiler: gcc gcc (GCC) 15.2.1 20250808 (Red Hat 15.2.1-1) Red Hat Enterprise Linux 9.5 Kernel: 5.15 Compiler: gcc gcc (GCC) 11.5.0 20240719 (Red Hat 11.5.0-2) Red Hat Enterprise Linux 8.10 Kernel: 5.15 Compiler: gcc gcc (GCC) 8.5.0 20210514 (Red Hat 8.5.0-22) Ubuntu 22.04 Kernel: 5.15 Compiler: gcc gcc (Ubuntu 11.4.0-1ubuntu1~22.04) 11.4.0 Ubuntu 20.04 Kernel: 5.15 Compiler: gcc gcc (Ubuntu 9.4.0-1ubuntu1~20.04.2) 9.4.0 Ubuntu 24.04 Kernel: 5.15 Compiler: gcc gcc (Ubuntu 13.3.0-6ubuntu2~24.04) 13.3.0 Windows Server 2022 Kernel: 10.0.20348.2031 Compiler: clang 15.0.7, gcc 14.1.0 (MinGW), and MSVC VS 19.39.33521 To view detailed results, visit: https://lab.dpdk.org/results/dashboard/patchsets/34155/ UNH-IOL DPDK Community Lab To manage your email subscriptions, visit: https://lab.dpdk.org/results/dashboard/preferences/subscriptions/