From mboxrd@z Thu Jan 1 00:00:00 1970 Return-Path: Received: from mails.dpdk.org (mails.dpdk.org [217.70.189.124]) by inbox.dpdk.org (Postfix) with ESMTP id 3327846F85 for ; Fri, 26 Sep 2025 12:29:42 +0200 (CEST) Received: from mails.dpdk.org (localhost [127.0.0.1]) by mails.dpdk.org (Postfix) with ESMTP id 12A1B4042F; Fri, 26 Sep 2025 12:29:42 +0200 (CEST) Received: from mail-pf1-f226.google.com (mail-pf1-f226.google.com [209.85.210.226]) by mails.dpdk.org (Postfix) with ESMTP id A54EA4042F for ; Fri, 26 Sep 2025 12:29:40 +0200 (CEST) Received: by mail-pf1-f226.google.com with SMTP id d2e1a72fcca58-780fc3b181aso1275525b3a.2 for ; Fri, 26 Sep 2025 03:29:40 -0700 (PDT) DKIM-Signature: v=1; a=rsa-sha256; c=relaxed/relaxed; d=iol.unh.edu; s=unh-iol; t=1758882580; x=1759487380; darn=dpdk.org; h=references:in-reply-to:cc:to:from:subject:message-id:date:from:to :cc:subject:date:message-id:reply-to; bh=zdQCjfzKZyf8JAXOO9ao5BrXANJgXp2/MXT3gmOO+yQ=; b=T+AFycCkblqu3elvPH3hxQrt+l27nyNm8caJFf1AgwMJ+EOWyuouxDJg0AvFD613sV NJUWtw0AnkB5hgXhH3Tl30be3cSCz+yy56/Cqh7FU59E02iE91ee2EDlthaU6RJ5pEH7 F3JtwH4t43vh72/LyTmekibtewqNMSlf77oV0= X-Google-DKIM-Signature: v=1; a=rsa-sha256; c=relaxed/relaxed; d=1e100.net; s=20230601; t=1758882580; x=1759487380; h=references:in-reply-to:cc:to:from:subject:message-id:date :x-gm-message-state:from:to:cc:subject:date:message-id:reply-to; bh=zdQCjfzKZyf8JAXOO9ao5BrXANJgXp2/MXT3gmOO+yQ=; b=Td8OysyYp4jTS8ECVGwcz9ytRdzToOdGE7uxKR7gxNaYzjj4tJcgDv/EqU5XhIBPEF bNocITu7cwTkW9sgcewW8kxNk+YJvVBg+w5HGP/yONwRyh72Zjd0XEp/tS9/Oia5wyPH WwK3vBdIyhCmlSgdPV9MyT3SfF487YYAuULThBEeN6tgmXlpiHpyTlUEtPgxtontV8UV NQtvLKoA/9G5NF3OGmRV/4jM058xlpTQ98FA5mGMvpkQCl2y3qX+pRPgOUI8MCc0KLZ/ 9QIqumdTWa2lq7lZZ85sARVhSoCgK27PWQL3F6/J50uPM7Xq2XW2D0c8OZZ2d0WKXbTO 3qpQ== X-Gm-Message-State: AOJu0YzA03kRhzWdGTXBhAGcH6VP12CNkeWGhnPYbC68+x+JLdLk9Mm2 La0waViFPDDlTI8osCzRoylvGt4LUBsgaFwGNDkgUJsgm1a9rzYU4BEgNosQdsilAmb0qRHpMfl EGRSqudzOufgbttQRChzUrpeuYuiCqtkUi2ayM31XP829 X-Gm-Gg: ASbGncs5BBUAzgfo4inn+i2NWd29+hWDMl6CH2L2tVDxleCXBMFSf+hmBebr7hzqPHP TmD4aKZ1d32QfBV5lruQE5r4ruXD6Wkfm0H7fArxzG1SHyavVwW/OZCGPqwF9kH2GnzzzqH2Ucl FKDU1vJB85OIXBTI3Rx55YCak5ksUrTGEKjACr4qreuIombQH1d4PMrrhhyeLOHUJ6Ti+bUamDn Xmbd7iyT8OlnDcLxQelJHW5z/5g/3vzBqiJS+7QUpRzODMOEeFvEKw0jWZyy/dLegt3/tT19ZH/ YZlzbXJf3yOz+Vz5AoiZlHHZtkz+LVGnmQ7cO8LRKAJcbrmWGd55lJFYkDyg4RyZfKWl3yyC X-Google-Smtp-Source: AGHT+IEFh71tt2KFUHJbsba5/Cz1C3l7yzzM0zSfsdgLUZzYEdAxd3Di2a46v1NYKn3AVFFqAYksQdSiJTJY X-Received: by 2002:a05:6a20:2447:b0:2d9:b2ee:785e with SMTP id adf61e73a8af0-2e7da45fdb7mr8275082637.53.1758882579738; Fri, 26 Sep 2025 03:29:39 -0700 (PDT) Received: from postal.iol.unh.edu (postal.iol.unh.edu. [132.177.123.84]) by smtp-relay.gmail.com with ESMTPS id 98e67ed59e1d1-3341bdf72d8sm465392a91.3.2025.09.26.03.29.39 (version=TLS1_2 cipher=ECDHE-ECDSA-AES128-GCM-SHA256 bits=128/128); Fri, 26 Sep 2025 03:29:39 -0700 (PDT) X-Relaying-Domain: iol.unh.edu Date: Fri, 26 Sep 2025 03:29:39 -0700 (PDT) Message-ID: <68d66b13.170a0220.2ee0e7.c1e5SMTPIN_ADDED_MISSING@mx.google.com> Received: from [172.21.0.2] (unknown [172.18.0.240]) by postal.iol.unh.edu (Postfix) with ESMTP id 2A1D86051830; Fri, 26 Sep 2025 06:29:39 -0400 (EDT) Subject: |SUCCESS| pw156991 [PATCH] [v3] net/intel: add IDPF PCI class ID sup From: dpdklab@iol.unh.edu To: Test Report Cc: dpdk-test-reports@iol.unh.edu In-Reply-To: <20250925174707.131821-1-venkatesh.vemula@intel.com> References: <20250925174707.131821-1-venkatesh.vemula@intel.com> Content-Type: text/plain X-BeenThere: test-report@dpdk.org X-Mailman-Version: 2.1.29 Precedence: list List-Id: automatic DPDK test reports List-Unsubscribe: , List-Archive: List-Post: List-Help: List-Subscribe: , Errors-To: test-report-bounces@dpdk.org Test-Label: iol-compile-amd64-testing Test-Status: SUCCESS http://dpdk.org/patch/156991 _Testing PASS_ Submitter: Vemula Venkatesh Date: Thursday, September 25 2025 17:47:07 DPDK git baseline: Repo:dpdk Branch: master CommitID:441861b4a30e6b6b6aca07367dd487657b1f50e8 156991 --> testing pass Upstream job id: Generic-DPDK-Compile-Meson#428912 Test environment and result as below: +-------------------------------+--------------------+-------------------+------------------+-------------------+-------------------------+----------------------+ | Environment | dpdk_meson_compile | dpdk_compile_spdk | dpdk_compile_ovs | dpdk_msvc_compile | dpdk_llvm_clang_compile | dpdk_mingw64_compile | +===============================+====================+===================+==================+===================+=========================+======================+ | CentOS Stream 9 | PASS | PASS | SKIPPED | SKIPPED | SKIPPED | SKIPPED | +-------------------------------+--------------------+-------------------+------------------+-------------------+-------------------------+----------------------+ | CentOS Stream 10 | PASS | SKIPPED | SKIPPED | SKIPPED | SKIPPED | SKIPPED | +-------------------------------+--------------------+-------------------+------------------+-------------------+-------------------------+----------------------+ | Debian GNU/Linux 12 | PASS | PASS | SKIPPED | SKIPPED | SKIPPED | SKIPPED | +-------------------------------+--------------------+-------------------+------------------+-------------------+-------------------------+----------------------+ | Fedora Linux 42 | PASS | PASS | PASS | SKIPPED | SKIPPED | SKIPPED | +-------------------------------+--------------------+-------------------+------------------+-------------------+-------------------------+----------------------+ | openSUSE Leap 15.6 | PASS | SKIPPED | SKIPPED | SKIPPED | SKIPPED | SKIPPED | +-------------------------------+--------------------+-------------------+------------------+-------------------+-------------------------+----------------------+ | Red Hat Enterprise Linux 8.10 | PASS | SKIPPED | SKIPPED | SKIPPED | SKIPPED | SKIPPED | +-------------------------------+--------------------+-------------------+------------------+-------------------+-------------------------+----------------------+ | FreeBSD 14.2 | PASS | SKIPPED | SKIPPED | SKIPPED | SKIPPED | SKIPPED | +-------------------------------+--------------------+-------------------+------------------+-------------------+-------------------------+----------------------+ | Red Hat Enterprise Linux 9.5 | PASS | SKIPPED | SKIPPED | SKIPPED | SKIPPED | SKIPPED | +-------------------------------+--------------------+-------------------+------------------+-------------------+-------------------------+----------------------+ | Ubuntu 20.04 | PASS | SKIPPED | SKIPPED | SKIPPED | SKIPPED | SKIPPED | +-------------------------------+--------------------+-------------------+------------------+-------------------+-------------------------+----------------------+ | Ubuntu 22.04 | PASS | PASS | SKIPPED | SKIPPED | SKIPPED | SKIPPED | +-------------------------------+--------------------+-------------------+------------------+-------------------+-------------------------+----------------------+ | Ubuntu 24.04 | PASS | PASS | PASS | SKIPPED | SKIPPED | SKIPPED | +-------------------------------+--------------------+-------------------+------------------+-------------------+-------------------------+----------------------+ | Alpine Linux 3.22.0 | PASS | SKIPPED | SKIPPED | SKIPPED | SKIPPED | SKIPPED | +-------------------------------+--------------------+-------------------+------------------+-------------------+-------------------------+----------------------+ | Windows Server 2022 | SKIPPED | SKIPPED | SKIPPED | PASS | PASS | PASS | +-------------------------------+--------------------+-------------------+------------------+-------------------+-------------------------+----------------------+ CentOS Stream 9 Kernel: 5.15 Compiler: gcc gcc (GCC) 11.5.0 20240719 (Red Hat 11.5.0-11) CentOS Stream 10 Kernel: 5.15 Compiler: gcc gcc (GCC) 14.2.1 20250110 (Red Hat 14.2.1-8) Debian GNU/Linux 12 Kernel: 5.15 Compiler: gcc gcc (Debian 12.2.0-14+deb12u1) 12.2.0 Fedora Linux 42 Kernel: 5.15 Compiler: clang gcc (GCC) 15.2.1 20250808 (Red Hat 15.2.1-1) openSUSE Leap 15.6 Kernel: 5.15 Compiler: gcc gcc (SUSE Linux) 7.5.0 Red Hat Enterprise Linux 8.10 Kernel: 5.15 Compiler: gcc gcc (GCC) 8.5.0 20210514 (Red Hat 8.5.0-22) FreeBSD 14.2 Kernel: 14.2-RELEASE Compiler: clang 18.1.6 Red Hat Enterprise Linux 9.5 Kernel: 5.15 Compiler: gcc gcc (GCC) 11.5.0 20240719 (Red Hat 11.5.0-2) Ubuntu 20.04 Kernel: 4.19 Compiler: gcc gcc (Ubuntu 9.4.0-1ubuntu1~20.04.2) 9.4.0 Ubuntu 22.04 Kernel: 5.15 Compiler: gcc gcc (Ubuntu 11.4.0-1ubuntu1~22.04) 11.4.0 Ubuntu 24.04 Kernel: 5.15 Compiler: gcc gcc (Ubuntu 13.3.0-6ubuntu2~24.04) 13.3.0 Alpine Linux 3.22.0 Kernel: 5.15 Compiler: gcc gcc (Alpine 14.2.0) 14.2.0 Windows Server 2022 Kernel: 10.0.20348.2031 Compiler: clang 15.0.7, gcc 14.1.0 (MinGW), and MSVC VS 19.39.33521 To view detailed results, visit: https://lab.dpdk.org/results/dashboard/patchsets/34156/ UNH-IOL DPDK Community Lab To manage your email subscriptions, visit: https://lab.dpdk.org/results/dashboard/preferences/subscriptions/