From mboxrd@z Thu Jan 1 00:00:00 1970 Return-Path: Received: from mails.dpdk.org (mails.dpdk.org [217.70.189.124]) by inbox.dpdk.org (Postfix) with ESMTP id BAB2746F85 for ; Fri, 26 Sep 2025 12:35:39 +0200 (CEST) Received: from mails.dpdk.org (localhost [127.0.0.1]) by mails.dpdk.org (Postfix) with ESMTP id B6D95402B5; Fri, 26 Sep 2025 12:35:39 +0200 (CEST) Received: from mail-qk1-f227.google.com (mail-qk1-f227.google.com [209.85.222.227]) by mails.dpdk.org (Postfix) with ESMTP id 2129F402B5 for ; Fri, 26 Sep 2025 12:35:38 +0200 (CEST) Received: by mail-qk1-f227.google.com with SMTP id af79cd13be357-8593bcdd909so192568785a.3 for ; Fri, 26 Sep 2025 03:35:38 -0700 (PDT) DKIM-Signature: v=1; a=rsa-sha256; c=relaxed/relaxed; d=iol.unh.edu; s=unh-iol; t=1758882937; x=1759487737; darn=dpdk.org; h=references:in-reply-to:cc:to:from:subject:message-id:date:from:to :cc:subject:date:message-id:reply-to; bh=zQ+/d3jIpcgif5NMkKTfvws5m6+/bgJMXFdYiNd9k2g=; b=U8Bg94mQVO8unUWcEHg9/s3AWqiIWel32Ez/lksl09jY1XRAbXl7PrurvnTXL7s3Pr 4q0/NFfifMkNQVIok+muKAx806VrGOsjnxxUFN9JOrwbpyLW6JRPSY7Lua2zfX8Newhn iexBQa2+byByUb5SduOJDEaRimIMy4Gu8L6Io= X-Google-DKIM-Signature: v=1; a=rsa-sha256; c=relaxed/relaxed; d=1e100.net; s=20230601; t=1758882937; x=1759487737; h=references:in-reply-to:cc:to:from:subject:message-id:date :x-gm-message-state:from:to:cc:subject:date:message-id:reply-to; bh=zQ+/d3jIpcgif5NMkKTfvws5m6+/bgJMXFdYiNd9k2g=; b=k13yDV5tuZ/0gOirdeAwTYfs96VpbK0ylUp1E8qS4CREHwHLrQBNd9BQfK3KRO0rZ3 yGdDoJxxtcmEidmcB6fHw7bcM/NunhJL7xXnniHQiQboNbxnD6/7eEnbd7v/O/yB0QUN zE3YfG2TPfKbwK0EqVxzNHI5IGqoQuoVoaIYdEYgdnxP5BZ0Vy4/II87AOYmZkb5KVh1 WVFdnJwyZPbjir/HgVtuQHwv1GvO8csax4OAFagMInmqbBbQfYEi0zop+gDE2p7CEko/ l8WuMpRvxFkyFCyJ/muWuExICvP/pn6EXluprQoyK/BQScRXLsaTiVlo+YlEcO3gQ3CB V8xw== X-Gm-Message-State: AOJu0YwMlCjSL745o/sdwZV83WSypFE9l+ma2eYMlXheLKPgzEkQDEDH ilv7D5whyCUmbLZBUQcDgUBFcRMEGRIRjuzl//aWx9gDr5NGgqTMp9/uLbnR7UL2gD9ISRF14AW Gm0QQRnE3j7zrqru0Wji7tBnX3v0oEZEd+jXZ2Hj2hBmB5spidrerYNDmu7HK X-Gm-Gg: ASbGncv9xCY86URXJIFMrHSdtqvjZfdMbPip2DE313CJ61iB2/bNU/hy5Wf8X/jFPvf oDnSF3CflIKftbXMGkFFXULxtjewBPuasQmOd+cPXL16cm6Grr3YFNixrGQm8KfEuEAwpcIqRah R2+D5IEQwytJTOd4pJpgB0tJ2ubnhTB40LzAAI8K6o9tkMZ2+AMdt3nK9SywDa0t5Ngze2Db0ak IXgmb1aAkWKpmc5m+9ZkLoRIDhu7mADbNR5oy0fUF6TV2X3JplDgzhS3RI6kzo88ul/MUbdK78o Wx4O6hA3YfFyPRWfWkfP5TEjvePQF6o6oECQRPliUt5lc3mXIw== X-Google-Smtp-Source: AGHT+IEAZXw16egWLV9ksDIukjRQpD1dISejaU9O54b8rl7KsyjPsX93EGWqcQ0LeRTc56snOZ0QhzbVeydq X-Received: by 2002:a05:620a:4093:b0:855:875f:a587 with SMTP id af79cd13be357-85aea138856mr812167685a.76.1758882937352; Fri, 26 Sep 2025 03:35:37 -0700 (PDT) Received: from postal.iol.unh.edu (postal.iol.unh.edu. [2606:4100:3880:1234::84]) by smtp-relay.gmail.com with ESMTPS id af79cd13be357-85c2c71a729sm31202185a.4.2025.09.26.03.35.37 (version=TLS1_2 cipher=ECDHE-ECDSA-AES128-GCM-SHA256 bits=128/128); Fri, 26 Sep 2025 03:35:37 -0700 (PDT) X-Relaying-Domain: iol.unh.edu Date: Fri, 26 Sep 2025 03:35:37 -0700 (PDT) Message-ID: <68d66c79.050a0220.4ec87.3c0fSMTPIN_ADDED_MISSING@mx.google.com> Received: from [172.21.0.2] (unknown [172.18.0.240]) by postal.iol.unh.edu (Postfix) with ESMTP id 03C1C6051830; Fri, 26 Sep 2025 06:35:37 -0400 (EDT) Subject: |SUCCESS| pw156991 [PATCH] [v3] net/intel: add IDPF PCI class ID sup From: dpdklab@iol.unh.edu To: Test Report Cc: dpdk-test-reports@iol.unh.edu In-Reply-To: <20250925174707.131821-1-venkatesh.vemula@intel.com> References: <20250925174707.131821-1-venkatesh.vemula@intel.com> Content-Type: text/plain X-BeenThere: test-report@dpdk.org X-Mailman-Version: 2.1.29 Precedence: list List-Id: automatic DPDK test reports List-Unsubscribe: , List-Archive: List-Post: List-Help: List-Subscribe: , Errors-To: test-report-bounces@dpdk.org Test-Label: iol-unit-amd64-testing Test-Status: SUCCESS http://dpdk.org/patch/156991 _Testing PASS_ Submitter: Vemula Venkatesh Date: Thursday, September 25 2025 17:47:07 DPDK git baseline: Repo:dpdk Branch: master CommitID:441861b4a30e6b6b6aca07367dd487657b1f50e8 156991 --> testing pass Upstream job id: Generic-Unit-Test-DPDK#375378 Test environment and result as below: +-------------------------------+----------------+ | Environment | dpdk_unit_test | +===============================+================+ | CentOS Stream 9 | PASS | +-------------------------------+----------------+ | CentOS Stream 10 | PASS | +-------------------------------+----------------+ | Fedora Linux 40 | PASS | +-------------------------------+----------------+ | Debian GNU/Linux 12 | PASS | +-------------------------------+----------------+ | Fedora Linux 41 | PASS | +-------------------------------+----------------+ | Fedora Linux 42 | PASS | +-------------------------------+----------------+ | Red Hat Enterprise Linux 9.5 | PASS | +-------------------------------+----------------+ | Red Hat Enterprise Linux 8.10 | PASS | +-------------------------------+----------------+ | Ubuntu 20.04 | PASS | +-------------------------------+----------------+ | Ubuntu 22.04 | PASS | +-------------------------------+----------------+ | Ubuntu 24.04 | PASS | +-------------------------------+----------------+ | Windows Server 2022 | PASS | +-------------------------------+----------------+ CentOS Stream 9 Kernel: 5.15 Compiler: gcc gcc (GCC) 11.5.0 20240719 (Red Hat 11.5.0-11) CentOS Stream 10 Kernel: 5.15 Compiler: gcc gcc (GCC) 14.2.1 20250110 (Red Hat 14.2.1-8) Fedora Linux 40 Kernel: 5.15 Compiler: gcc gcc (GCC) 14.2.1 20240912 (Red Hat 14.2.1-3) Debian GNU/Linux 12 Kernel: 5.15 Compiler: gcc gcc (Debian 12.2.0-14+deb12u1) 12.2.0 Fedora Linux 41 Kernel: 5.15 Compiler: clang gcc (GCC) 14.3.1 20250523 (Red Hat 14.3.1-1) Fedora Linux 42 Kernel: 5.15 Compiler: gcc gcc (GCC) 15.2.1 20250808 (Red Hat 15.2.1-1) Red Hat Enterprise Linux 9.5 Kernel: 5.15 Compiler: gcc gcc (GCC) 11.5.0 20240719 (Red Hat 11.5.0-2) Red Hat Enterprise Linux 8.10 Kernel: 5.15 Compiler: gcc gcc (GCC) 8.5.0 20210514 (Red Hat 8.5.0-22) Ubuntu 20.04 Kernel: 5.15 Compiler: gcc gcc (Ubuntu 9.4.0-1ubuntu1~20.04.2) 9.4.0 Ubuntu 22.04 Kernel: 5.15 Compiler: gcc gcc (Ubuntu 11.4.0-1ubuntu1~22.04) 11.4.0 Ubuntu 24.04 Kernel: 5.15 Compiler: gcc gcc (Ubuntu 13.3.0-6ubuntu2~24.04) 13.3.0 Windows Server 2022 Kernel: 10.0.20348.2031 Compiler: clang 15.0.7, gcc 14.1.0 (MinGW), and MSVC VS 19.39.33521 To view detailed results, visit: https://lab.dpdk.org/results/dashboard/patchsets/34156/ UNH-IOL DPDK Community Lab To manage your email subscriptions, visit: https://lab.dpdk.org/results/dashboard/preferences/subscriptions/