automatic DPDK test reports
 help / color / mirror / Atom feed
From: dpdklab@iol.unh.edu
To: Test Report <test-report@dpdk.org>
Cc: dpdk-test-reports@iol.unh.edu
Subject: |SUCCESS| pw156991 [PATCH] [v3] net/intel: add IDPF PCI class ID sup
Date: Fri, 26 Sep 2025 03:53:47 -0700 (PDT)	[thread overview]
Message-ID: <68d670bb.050a0220.11a6df.5fa6SMTPIN_ADDED_MISSING@mx.google.com> (raw)
In-Reply-To: <20250925174707.131821-1-venkatesh.vemula@intel.com>

Test-Label: iol-sample-apps-testing
Test-Status: SUCCESS
http://dpdk.org/patch/156991

_Testing PASS_

Submitter: Vemula Venkatesh <venkatesh.vemula@intel.com>
Date: Thursday, September 25 2025 17:47:07 
DPDK git baseline: Repo:dpdk
  Branch: master
  CommitID:441861b4a30e6b6b6aca07367dd487657b1f50e8

156991 --> testing pass

Upstream job id: Template-DTS-Pipeline#246523

Test environment and result as below:

+--------------+----------------------+----------------------+
| Environment  | compressdev_zlib_pmd | dpdk_fips_validation |
+==============+======================+======================+
| Ubuntu 22.04 | PASS                 | SKIPPED              |
+--------------+----------------------+----------------------+
| Ubuntu 20.04 | SKIPPED              | PASS                 |
+--------------+----------------------+----------------------+


Ubuntu 22.04
	Kernel: 5.15
	Compiler: gcc gcc (Ubuntu 11.4.0-1ubuntu1~22.04.2) 11.4.0

Ubuntu 20.04
	Kernel: 5.15
	Compiler: gcc gcc (Ubuntu 9.4.0-1ubuntu1~20.04.2) 9.4.0

To view detailed results, visit:
https://lab.dpdk.org/results/dashboard/patchsets/34156/

UNH-IOL DPDK Community Lab

To manage your email subscriptions, visit: 
https://lab.dpdk.org/results/dashboard/preferences/subscriptions/

  parent reply	other threads:[~2025-09-26 10:53 UTC|newest]

Thread overview: 23+ messages / expand[flat|nested]  mbox.gz  Atom feed  top
     [not found] <20250925174707.131821-1-venkatesh.vemula@intel.com>
2025-09-26  8:15 ` |SUCCESS| pw156991 [PATCH v3] net/intel: add IDPF PCI class ID support qemudev
2025-09-26  8:20 ` qemudev
2025-09-26  8:48 ` |WARNING| " checkpatch
2025-09-26  9:37 ` |PENDING| pw156991 [PATCH] [v3] net/intel: add IDPF PCI class ID sup dpdklab
2025-09-26  9:39 ` |SUCCESS| " dpdklab
2025-09-26  9:43 ` dpdklab
2025-09-26  9:47 ` dpdklab
2025-09-26 10:02 ` |PENDING| " dpdklab
2025-09-26 10:04 ` |SUCCESS| " dpdklab
2025-09-26 10:07 ` |PENDING| " dpdklab
2025-09-26 10:12 ` |SUCCESS| " dpdklab
2025-09-26 10:14 ` |PENDING| " dpdklab
2025-09-26 10:26 ` |SUCCESS| pw156991 [PATCH v3] net/intel: add IDPF PCI class ID support 0-day Robot
2025-09-26 10:26 ` 0-day Robot
2025-09-26 10:29 ` |SUCCESS| pw156991 [PATCH] [v3] net/intel: add IDPF PCI class ID sup dpdklab
2025-09-26 10:30 ` dpdklab
2025-09-26 10:34 ` dpdklab
2025-09-26 10:35 ` dpdklab
2025-09-26 10:53 ` dpdklab [this message]
2025-09-26 11:18 ` dpdklab
2025-09-26 13:57 ` dpdklab
2025-09-26 23:20 ` dpdklab
2025-09-27  7:49 ` dpdklab

Reply instructions:

You may reply publicly to this message via plain-text email
using any one of the following methods:

* Save the following mbox file, import it into your mail client,
  and reply-to-all from there: mbox

  Avoid top-posting and favor interleaved quoting:
  https://en.wikipedia.org/wiki/Posting_style#Interleaved_style

* Reply using the --to, --cc, and --in-reply-to
  switches of git-send-email(1):

  git send-email \
    --in-reply-to=68d670bb.050a0220.11a6df.5fa6SMTPIN_ADDED_MISSING@mx.google.com \
    --to=dpdklab@iol.unh.edu \
    --cc=dpdk-test-reports@iol.unh.edu \
    --cc=test-report@dpdk.org \
    /path/to/YOUR_REPLY

  https://kernel.org/pub/software/scm/git/docs/git-send-email.html

* If your mail client supports setting the In-Reply-To header
  via mailto: links, try the mailto: link
Be sure your reply has a Subject: header at the top and a blank line before the message body.
This is a public inbox, see mirroring instructions
for how to clone and mirror all data and code used for this inbox;
as well as URLs for NNTP newsgroup(s).