From mboxrd@z Thu Jan 1 00:00:00 1970 Return-Path: Received: from mails.dpdk.org (mails.dpdk.org [217.70.189.124]) by inbox.dpdk.org (Postfix) with ESMTP id AADA646F85 for ; Fri, 26 Sep 2025 13:19:11 +0200 (CEST) Received: from mails.dpdk.org (localhost [127.0.0.1]) by mails.dpdk.org (Postfix) with ESMTP id A3569402B5; Fri, 26 Sep 2025 13:19:11 +0200 (CEST) Received: from mail-oa1-f100.google.com (mail-oa1-f100.google.com [209.85.160.100]) by mails.dpdk.org (Postfix) with ESMTP id 69347402B5 for ; Fri, 26 Sep 2025 13:19:10 +0200 (CEST) Received: by mail-oa1-f100.google.com with SMTP id 586e51a60fabf-32bd4f1b671so2281903fac.0 for ; Fri, 26 Sep 2025 04:19:10 -0700 (PDT) DKIM-Signature: v=1; a=rsa-sha256; c=relaxed/relaxed; d=iol.unh.edu; s=unh-iol; t=1758885549; x=1759490349; darn=dpdk.org; h=cc:to:from:subject:message-id:date:from:to:cc:subject:date :message-id:reply-to; bh=Uffvc9amJ7xSCBx9GxPxjTKA2iQfzvSzhcOevv0FLDU=; b=ACV1LctqxiYUSPotM0sB49HWUitoJlhfPGqHCXuf4t8+pddPu/VWblrqgFIy1yhqHt ToTMRmQGJF5GNoS3EdUYFII20PTP65X3ILjxF2GzjoxwEDpHzC5eRewUh483iViSay92 wya04tGh1qrmhuixeaTRlEgA+ZJ1vOV5AEbdM= X-Google-DKIM-Signature: v=1; a=rsa-sha256; c=relaxed/relaxed; d=1e100.net; s=20230601; t=1758885549; x=1759490349; h=cc:to:from:subject:message-id:date:x-gm-message-state:from:to:cc :subject:date:message-id:reply-to; bh=Uffvc9amJ7xSCBx9GxPxjTKA2iQfzvSzhcOevv0FLDU=; b=UqJ4WZE/cbcm3LDac/NuwqBgUYb52MEDEupsRnmXIBm8Bqed+2RJNWMjmA81UaC7op JzLwnk1f8+coIwC6uHSbptlB8W6WL2DbI37sDHbJ0xNVR0uwVJWIE3G/2Z00MORthUYh vSbbmDxfFmGmaDsSFmYueu+eSSlIUFYqQlg4oXuUhrMCtm3Csqw0E9lhrzOIKW3Zol7d 4clh1xrb2rWhIxtHEDlJsfeuSgq+NJJhthTedfh1hPaSAc/mpIUROWmyCzd+wm82+65Z VcAvmiGLEUruqBPr4Ymh16kAUTOmeZiyNSj7eZWvAQvU7CMDVZvFsNIlOI2RPlaLN4Eb lliw== X-Gm-Message-State: AOJu0YweBHc1+TSudm4unB0+/6yl3DaEWodVhIz38+4OboYOkuL1OyY+ NhmjpnuStJWroMdUYQoK5a1iSnmOH0TO55i7QVy5DPgUG5yarqJQioUsxpdAGTwWXXiDtwDuPaY pnTLw43CpCXC5x63JXL1XWmVCTQEqLeX8u3fX/7Js0GLy X-Gm-Gg: ASbGnculJ9LzxUCcm2lA4waytEv1r3lKvDWpVuFrMVYVc1QxXQZdwTdAIdiGd/1Vaci zC6HvyqwOYfMrEyu/lvHsJ/AKZTssxvn1uarK01Sp2v7GlMblVM6JJyrAA9fYdYsMP2fKa2OUcm vu4wjv+R7jyiiB2KrhdsmJGm3jjgXFIIX/T85SWc4EcZfGNCGAJEakg26jLAZcuyM+K5r9rW+Gr tcTbMRsg5/6E9oWE5W8PZGIhjAwB3zeyO3HF9ButH1sHEQyvOVUj/aIVDhOvSMemrg8LFqsPEGr 2Kh9t5T+NSKkW4ZWG6EoJSdIZ1kgcZw3qvlx/p14/kdqCDcFiwxEqntAw/E0h05DuWISo2Oi X-Google-Smtp-Source: AGHT+IFCGa968j9xUNOFTeCmgaonxM9deEM3WLwvdd0e1xy66JlyyFAnF1rFmsyOfLGr/AMlBMgjFx6Q+pgn X-Received: by 2002:a05:6871:2312:b0:315:8d77:4a22 with SMTP id 586e51a60fabf-362233781a3mr2837115fac.23.1758885549587; Fri, 26 Sep 2025 04:19:09 -0700 (PDT) Received: from postal.iol.unh.edu (postal.iol.unh.edu. [132.177.123.84]) by smtp-relay.gmail.com with ESMTPS id 586e51a60fabf-363b77d2d21sm340888fac.20.2025.09.26.04.19.09 (version=TLS1_2 cipher=ECDHE-ECDSA-AES128-GCM-SHA256 bits=128/128); Fri, 26 Sep 2025 04:19:09 -0700 (PDT) X-Relaying-Domain: iol.unh.edu Date: Fri, 26 Sep 2025 04:19:09 -0700 (PDT) Message-ID: <68d676ad.050a0220.dd10d.570dSMTPIN_ADDED_MISSING@mx.google.com> Received: from [172.21.0.2] (unknown [172.18.0.240]) by postal.iol.unh.edu (Postfix) with ESMTP id 1621C6051830; Fri, 26 Sep 2025 07:19:09 -0400 (EDT) Subject: |SUCCESS| [GIT MASTER] 441861b4a30e6b6b6aca07367dd487657b1f50e8 From: dpdklab@iol.unh.edu To: Test Report Cc: dpdk-test-reports@iol.unh.edu Content-Type: text/plain X-BeenThere: test-report@dpdk.org X-Mailman-Version: 2.1.29 Precedence: list List-Id: automatic DPDK test reports List-Unsubscribe: , List-Archive: List-Post: List-Help: List-Subscribe: , Errors-To: test-report-bounces@dpdk.org _Testing PASS_ Branch: dpdk 441861b4a30e6b6b6aca07367dd487657b1f50e8 --> testing pass Upstream job id: Generic-Unit-Test-DPDK#375092 Test environment and result as below: +------------------------------+----------------+--------------+---------------------------+------------------------------+ | Environment | dpdk_unit_test | lpm_autotest | cryptodev_sw_zuc_autotest | cryptodev_sw_snow3g_autotest | +==============================+================+==============+===========================+==============================+ | CentOS Stream 9 | PASS | SKIPPED | SKIPPED | SKIPPED | +------------------------------+----------------+--------------+---------------------------+------------------------------+ | Debian GNU/Linux 12 | PASS | SKIPPED | SKIPPED | SKIPPED | +------------------------------+----------------+--------------+---------------------------+------------------------------+ | CentOS Stream 10 | PASS | SKIPPED | SKIPPED | SKIPPED | +------------------------------+----------------+--------------+---------------------------+------------------------------+ | Fedora Linux 40 | PASS | SKIPPED | SKIPPED | SKIPPED | +------------------------------+----------------+--------------+---------------------------+------------------------------+ | Fedora Linux 41 | PASS | SKIPPED | SKIPPED | SKIPPED | +------------------------------+----------------+--------------+---------------------------+------------------------------+ | Fedora Linux 42 | PASS | SKIPPED | SKIPPED | SKIPPED | +------------------------------+----------------+--------------+---------------------------+------------------------------+ | Ubuntu 20.04 | PASS | PASS | SKIPPED | SKIPPED | +------------------------------+----------------+--------------+---------------------------+------------------------------+ | Ubuntu 24.04 | PASS | SKIPPED | SKIPPED | SKIPPED | +------------------------------+----------------+--------------+---------------------------+------------------------------+ | Red Hat Enterprise Linux 9.5 | PASS | SKIPPED | SKIPPED | SKIPPED | +------------------------------+----------------+--------------+---------------------------+------------------------------+ | Ubuntu 22.04 | PASS | SKIPPED | SKIPPED | SKIPPED | +------------------------------+----------------+--------------+---------------------------+------------------------------+ | Debian 12 (arm) | SKIPPED | SKIPPED | PASS | PASS | +------------------------------+----------------+--------------+---------------------------+------------------------------+ CentOS Stream 9 Kernel: 5.4 Compiler: gcc gcc (GCC) 11.5.0 20240719 (Red Hat 11.5.0-11) Debian GNU/Linux 12 Kernel: 5.4 Compiler: gcc gcc (Debian 12.2.0-14+deb12u1) 12.2.0 CentOS Stream 10 Kernel: 5.4 Compiler: gcc gcc (GCC) 14.2.1 20250110 (Red Hat 14.2.1-8) Fedora Linux 40 Kernel: 5.4 Compiler: gcc gcc (GCC) 14.2.1 20240912 (Red Hat 14.2.1-3) Fedora Linux 41 Kernel: 5.4 Compiler: clang gcc (GCC) 14.3.1 20250523 (Red Hat 14.3.1-1) Fedora Linux 42 Kernel: 5.4 Compiler: clang gcc (GCC) 15.2.1 20250808 (Red Hat 15.2.1-1) Ubuntu 20.04 Kernel: 5.4 Compiler: gcc gcc (Ubuntu 9.4.0-1ubuntu1~20.04.2) 9.4.0 Ubuntu 24.04 Kernel: 5.4 Compiler: gcc gcc (Ubuntu 13.3.0-6ubuntu2~24.04) 13.3.0 Red Hat Enterprise Linux 9.5 Kernel: 5.4 Compiler: gcc gcc (GCC) 11.5.0 20240719 (Red Hat 11.5.0-2) Ubuntu 22.04 Kernel: 5.4 Compiler: gcc gcc (Ubuntu 11.4.0-1ubuntu1~22.04) 11.4.0 Debian 12 (arm) Kernel: Depends on container host Compiler: gcc (Debian 12.2.0-14) 12.2.0 To view detailed results, visit: https://lab.dpdk.org/results/dashboard/tarballs/35005/ UNH-IOL DPDK Community Lab To manage your email subscriptions, visit: https://lab.dpdk.org/results/dashboard/preferences/subscriptions/