From mboxrd@z Thu Jan 1 00:00:00 1970 Return-Path: Received: from mails.dpdk.org (mails.dpdk.org [217.70.189.124]) by inbox.dpdk.org (Postfix) with ESMTP id 43C5E46F85 for ; Fri, 26 Sep 2025 13:25:07 +0200 (CEST) Received: from mails.dpdk.org (localhost [127.0.0.1]) by mails.dpdk.org (Postfix) with ESMTP id 3F66C4025D; Fri, 26 Sep 2025 13:25:07 +0200 (CEST) Received: from mail-pj1-f100.google.com (mail-pj1-f100.google.com [209.85.216.100]) by mails.dpdk.org (Postfix) with ESMTP id E48A64025D for ; Fri, 26 Sep 2025 13:25:05 +0200 (CEST) Received: by mail-pj1-f100.google.com with SMTP id 98e67ed59e1d1-32ed19ce5a3so1754235a91.0 for ; Fri, 26 Sep 2025 04:25:05 -0700 (PDT) DKIM-Signature: v=1; a=rsa-sha256; c=relaxed/relaxed; d=iol.unh.edu; s=unh-iol; t=1758885905; x=1759490705; darn=dpdk.org; h=cc:to:from:subject:message-id:date:from:to:cc:subject:date :message-id:reply-to; bh=CjgdcaIIcThKDJHZlUspT6+7TpCoSQKztvl6bK38UA8=; b=LVJVWiUnfjNaU9HIKZWE1bv9Rob6iKUwSIcMHDm/lCb689MUeWBelrJKUexpVmDqUc uHUUAoCdr3wUkaoBP8fAvtrJbb6Tptbi098B0rK+LxbF8uOcvd54AMOO9PvjKqwnM8c4 TonFRbiZc64fyDBPJ8Ltlw6aOnGqZRtSwuXyY= X-Google-DKIM-Signature: v=1; a=rsa-sha256; c=relaxed/relaxed; d=1e100.net; s=20230601; t=1758885905; x=1759490705; h=cc:to:from:subject:message-id:date:x-gm-message-state:from:to:cc :subject:date:message-id:reply-to; bh=CjgdcaIIcThKDJHZlUspT6+7TpCoSQKztvl6bK38UA8=; b=pD2+PzUB1a9CFGTdpIwTCl3V96Sbf74c/53jP5y9n6X6LlGoDW81c6FBsA+qn8dLG/ T4f3toaVNHnyoFa2ZdZioMJbhl4Drb6ygLcsGlgZybqt/M+CpGsHxCiC8wCkNf6B3Ax+ u9z+L61JPQ0HYQG5m+8wHpsUlvtFlOBbJVMewnt09lTbp/FZvo7i7OOnPGOBG9zPIilr VzDSM8kcUB3huN4JAFx24GwldovSHRWd9TkYow5NdjPIuRu5GWdCzGd9rKtLCrR/C/OY BDGUVPgIP+egyEmS8/OwFmHBT+5fgSSw1Pg9YYExerPTocchyjiB8qnXaqVSKZQdwWua URLw== X-Gm-Message-State: AOJu0YzZlN/ChSvDb2nSrR1g1eDf76COyXyzcqRJF8Yk8sz0kQrGxRE4 XwNd1H71y/6rnjrhCuZgKQcNAgboLDrn2FwfEvnoeRB3NEpTRUhkz7gNdvHYSJzuX7aRE8COD1r LEGfgw8xKZyUnLPN08UXTwkvekb6POAes4/H/ai6Pg6pf4UJzNIfP6MgZsxey X-Gm-Gg: ASbGncsnoShcn01g/tnKsgmENRSsXjfrjBbfYPLZPj42harJ7h9G9VAdY9zaA/wjGp9 UmuSFaLzkMPvUfSfZmrafbxtBnS3eFgU0gfpd9olgaMNiR/dwZORfX4shvEm3S4atxYRb6G3dTh QI4H+mDu/5bV5m3ykeFjFDdZNr5Si9YOm7fwUkuUfmV28VgHQvB01ts0nfo3ly21RRN52MPIvcV eKf1xMraaDgLgPo8d0SBZ5/J+n0bz7hisuXJw2BYgVool36HZTXadcwqI5CKzxDP4JD8CXyZjuN xO1YPjMdHkSMXUKK5NUfcG9Xd1AscmSGy2A8Li4yz307wp4nVQ== X-Google-Smtp-Source: AGHT+IGPcYfqf0pryZBCHOoya77RHxEwUQbexiv4M2aCrvb8d9UV1UL6W3wQYfETf3HV4TVY9Ymi+DJ6wfD7 X-Received: by 2002:a17:90b:1e53:b0:334:cb89:bde6 with SMTP id 98e67ed59e1d1-334cb89bf5bmr5939793a91.4.1758885904632; Fri, 26 Sep 2025 04:25:04 -0700 (PDT) Received: from postal.iol.unh.edu (postal.iol.unh.edu. [2606:4100:3880:1234::84]) by smtp-relay.gmail.com with ESMTPS id d2e1a72fcca58-7811b75812dsm52073b3a.12.2025.09.26.04.25.04 (version=TLS1_2 cipher=ECDHE-ECDSA-AES128-GCM-SHA256 bits=128/128); Fri, 26 Sep 2025 04:25:04 -0700 (PDT) X-Relaying-Domain: iol.unh.edu Date: Fri, 26 Sep 2025 04:25:04 -0700 (PDT) Message-ID: <68d67810.050a0220.200a7f.2a5bSMTPIN_ADDED_MISSING@mx.google.com> Received: from [172.21.0.2] (unknown [172.18.0.240]) by postal.iol.unh.edu (Postfix) with ESMTP id E5CC16051830; Fri, 26 Sep 2025 07:25:03 -0400 (EDT) Subject: |SUCCESS| [GIT MASTER] ab1325719d538b7f3527bb603f5e7d3f46a5eb53 From: dpdklab@iol.unh.edu To: Test Report Cc: dpdk-test-reports@iol.unh.edu, Bruce Richardson Content-Type: text/plain X-BeenThere: test-report@dpdk.org X-Mailman-Version: 2.1.29 Precedence: list List-Id: automatic DPDK test reports List-Unsubscribe: , List-Archive: List-Post: List-Help: List-Subscribe: , Errors-To: test-report-bounces@dpdk.org _Testing PASS_ Branch: dpdk-next-net-intel ab1325719d538b7f3527bb603f5e7d3f46a5eb53 --> testing pass Upstream job id: Generic-VM-Unit-Test-DPDK#31407 Test environment and result as below: +-------------------------------+----------------+ | Environment | dpdk_unit_test | +===============================+================+ | CentOS Stream 10 | PASS | +-------------------------------+----------------+ | CentOS Stream 9 | PASS | +-------------------------------+----------------+ | Debian GNU/Linux 12 | PASS | +-------------------------------+----------------+ | Fedora Linux 41 | PASS | +-------------------------------+----------------+ | Fedora Linux 40 | PASS | +-------------------------------+----------------+ | Fedora Linux 42 | PASS | +-------------------------------+----------------+ | Windows Server 2022 | PASS | +-------------------------------+----------------+ | Ubuntu 20.04 | PASS | +-------------------------------+----------------+ | Red Hat Enterprise Linux 8.10 | PASS | +-------------------------------+----------------+ | Ubuntu 24.04 | PASS | +-------------------------------+----------------+ | Ubuntu 22.04 | PASS | +-------------------------------+----------------+ | Red Hat Enterprise Linux 9.5 | PASS | +-------------------------------+----------------+ CentOS Stream 10 Kernel: 5.15 Compiler: gcc gcc (GCC) 14.2.1 20250110 (Red Hat 14.2.1-8) CentOS Stream 9 Kernel: 5.15 Compiler: gcc gcc (GCC) 11.5.0 20240719 (Red Hat 11.5.0-11) Debian GNU/Linux 12 Kernel: 5.15 Compiler: gcc gcc (Debian 12.2.0-14+deb12u1) 12.2.0 Fedora Linux 41 Kernel: 5.15 Compiler: clang gcc (GCC) 14.3.1 20250523 (Red Hat 14.3.1-1) Fedora Linux 40 Kernel: 5.15 Compiler: gcc gcc (GCC) 14.2.1 20240912 (Red Hat 14.2.1-3) Fedora Linux 42 Kernel: 5.15 Compiler: gcc gcc (GCC) 15.2.1 20250808 (Red Hat 15.2.1-1) Windows Server 2022 Kernel: 10.0.20348.2031 Compiler: clang 15.0.7, gcc 14.1.0 (MinGW), and MSVC VS 19.39.33521 Ubuntu 20.04 Kernel: 5.15 Compiler: gcc gcc (Ubuntu 9.4.0-1ubuntu1~20.04.2) 9.4.0 Red Hat Enterprise Linux 8.10 Kernel: 5.15 Compiler: gcc gcc (GCC) 8.5.0 20210514 (Red Hat 8.5.0-22) Ubuntu 24.04 Kernel: 5.15 Compiler: gcc gcc (Ubuntu 13.3.0-6ubuntu2~24.04) 13.3.0 Ubuntu 22.04 Kernel: 5.15 Compiler: gcc gcc (Ubuntu 11.4.0-1ubuntu1~22.04) 11.4.0 Red Hat Enterprise Linux 9.5 Kernel: 5.15 Compiler: gcc gcc (GCC) 11.5.0 20240719 (Red Hat 11.5.0-2) To view detailed results, visit: https://lab.dpdk.org/results/dashboard/tarballs/35016/ UNH-IOL DPDK Community Lab To manage your email subscriptions, visit: https://lab.dpdk.org/results/dashboard/preferences/subscriptions/