From mboxrd@z Thu Jan 1 00:00:00 1970 Return-Path: Received: from mails.dpdk.org (mails.dpdk.org [217.70.189.124]) by inbox.dpdk.org (Postfix) with ESMTP id D7CE646F85 for ; Fri, 26 Sep 2025 13:30:36 +0200 (CEST) Received: from mails.dpdk.org (localhost [127.0.0.1]) by mails.dpdk.org (Postfix) with ESMTP id B90994025D; Fri, 26 Sep 2025 13:30:36 +0200 (CEST) Received: from mail-oa1-f97.google.com (mail-oa1-f97.google.com [209.85.160.97]) by mails.dpdk.org (Postfix) with ESMTP id B42804025D for ; Fri, 26 Sep 2025 13:30:35 +0200 (CEST) Received: by mail-oa1-f97.google.com with SMTP id 586e51a60fabf-36e4d00ebfdso210217fac.1 for ; Fri, 26 Sep 2025 04:30:35 -0700 (PDT) DKIM-Signature: v=1; a=rsa-sha256; c=relaxed/relaxed; d=iol.unh.edu; s=unh-iol; t=1758886235; x=1759491035; darn=dpdk.org; h=cc:to:from:subject:message-id:date:from:to:cc:subject:date :message-id:reply-to; bh=+StjC3yXPW9iUJdvJ4o0A/rkngwdVJe7DmjqlzH/FV8=; b=csoCGwsQzI+46oBOOvRlD/OKT+byVB4Jvmt9+MaDEcctCY/RTqor5PsK5cIgY3oIVi p1lVO5nEF6ZC3QlbwE6fd7Qbrq/jLhEF1jessJ4teHjtCnWm+ANmqoc8Lv2X8tO+n/mS 1yLOAwSmN8HYwwvW5K5Yv28Di7infw6QWga9Y= X-Google-DKIM-Signature: v=1; a=rsa-sha256; c=relaxed/relaxed; d=1e100.net; s=20230601; t=1758886235; x=1759491035; h=cc:to:from:subject:message-id:date:x-gm-message-state:from:to:cc :subject:date:message-id:reply-to; bh=+StjC3yXPW9iUJdvJ4o0A/rkngwdVJe7DmjqlzH/FV8=; b=P1qkqNgZwdxoZownSKk4UJVXMt8APXmv9+91PUWrYAA/5Jmx4T0oE5veczjSfNYtvc O0iOkvrH6G/iJk9qwJUfEk2mcl27lUMV+lJZ8uduVCr9FJc1TbmycghzeKzXQwjPuKdp vlWjkO1BdDlQtDedp5hyv/ytIJdfwxeYx8CYDUrwaaoRLs8CedHvWcM/xhmEkk1M4UuQ m1mfqQO4DULmx6Z7mzl2z8E1LPA9YNoMP6y1RxXTQAytuNWALMKUz6d/cJQ1KFdPW+MI 6QhhJ5JNgNJOBuXxe/0Ohi9V3Rl2O5Smu/as0SOWH+t8iz9HsIr2y/aEgrIIqqGEGTnb zboA== X-Gm-Message-State: AOJu0YwTOxO6H8tpdn3IwHOiuBWGGOE2Va0fevlrRwiK34gbSK+MBjHg o/k+FhUABuZE2VCi0DSEn2hAyMqDXDmdfZ/TSZgiQsmQWSmUQ+kxSu+UmC46Bo78T1AzNem4HfB o5K8mVg4BojhV2PuuI5IY5PfInZwIxgVf69IzPer/AOvC X-Gm-Gg: ASbGnctPOkYKFlL5BbMEX2AY4oQul4PhCV9xm2TK7/pgie8CeqSWJbdfhdhAo8gthS1 poODE8eHgrqzGxTrVxa5h6T3rAh846K6A7RoIue+0iy/cndxffWfck80epMIyNCffh9hG1XNXEj Plp9pos2mCNa87KQaDUzGmh0TwSrJaY6mmmYF8+mKgyjgC96L6H2pv3RyhRZsQLvSpSjZUuV5fr 5C/ggadVzuFs73F/GSCGDd9vw5jg76ej7haxT5w/BSMSm8NMrF0ZQtzSrZ5NnKri/BrQTYdu7c3 QyREGyX5cmw05WuKXi++7mw24yqx4fwpMgz+tSkytP8JUVP/NNM+9LILKJm/BmtUM/VP0EWL X-Google-Smtp-Source: AGHT+IHRsSyhToJ4A8b05bev1wlBeVWlVq8IjXDNMNqvldH0o2rBZAy12RJKrgts7docCKQdnjsNBztufk1W X-Received: by 2002:a05:6808:120e:b0:43f:4c41:bed0 with SMTP id 5614622812f47-43f4cd88dcemr3299651b6e.12.1758886234930; Fri, 26 Sep 2025 04:30:34 -0700 (PDT) Received: from postal.iol.unh.edu (postal.iol.unh.edu. [132.177.123.84]) by smtp-relay.gmail.com with ESMTPS id 006d021491bc7-63b1f673382sm162485eaf.6.2025.09.26.04.30.34 (version=TLS1_2 cipher=ECDHE-ECDSA-AES128-GCM-SHA256 bits=128/128); Fri, 26 Sep 2025 04:30:34 -0700 (PDT) X-Relaying-Domain: iol.unh.edu Date: Fri, 26 Sep 2025 04:30:34 -0700 (PDT) Message-ID: <68d6795a.4a0a0220.259d24.94c2SMTPIN_ADDED_MISSING@mx.google.com> Received: from [172.21.0.2] (unknown [172.18.0.240]) by postal.iol.unh.edu (Postfix) with ESMTP id E2AEF6051830; Fri, 26 Sep 2025 07:30:32 -0400 (EDT) Subject: |SUCCESS| [GIT MASTER] ab1325719d538b7f3527bb603f5e7d3f46a5eb53 From: dpdklab@iol.unh.edu To: Test Report Cc: dpdk-test-reports@iol.unh.edu, Bruce Richardson Content-Type: text/plain X-BeenThere: test-report@dpdk.org X-Mailman-Version: 2.1.29 Precedence: list List-Id: automatic DPDK test reports List-Unsubscribe: , List-Archive: List-Post: List-Help: List-Subscribe: , Errors-To: test-report-bounces@dpdk.org _Testing PASS_ Branch: dpdk-next-net-intel ab1325719d538b7f3527bb603f5e7d3f46a5eb53 --> testing pass Upstream job id: Generic-DPDK-Compile-Meson#428939 Test environment and result as below: +-------------------------------+--------------------+-------------------+------------------+-------------------+-------------------------+----------------------+ | Environment | dpdk_meson_compile | dpdk_compile_spdk | dpdk_compile_ovs | dpdk_msvc_compile | dpdk_llvm_clang_compile | dpdk_mingw64_compile | +===============================+====================+===================+==================+===================+=========================+======================+ | CentOS Stream 9 | PASS | PASS | SKIPPED | SKIPPED | SKIPPED | SKIPPED | +-------------------------------+--------------------+-------------------+------------------+-------------------+-------------------------+----------------------+ | CentOS Stream 10 | PASS | SKIPPED | SKIPPED | SKIPPED | SKIPPED | SKIPPED | +-------------------------------+--------------------+-------------------+------------------+-------------------+-------------------------+----------------------+ | Debian GNU/Linux 12 | PASS | PASS | SKIPPED | SKIPPED | SKIPPED | SKIPPED | +-------------------------------+--------------------+-------------------+------------------+-------------------+-------------------------+----------------------+ | Fedora Linux 42 | PASS | PASS | PASS | SKIPPED | SKIPPED | SKIPPED | +-------------------------------+--------------------+-------------------+------------------+-------------------+-------------------------+----------------------+ | openSUSE Leap 15.6 | PASS | SKIPPED | SKIPPED | SKIPPED | SKIPPED | SKIPPED | +-------------------------------+--------------------+-------------------+------------------+-------------------+-------------------------+----------------------+ | Ubuntu 20.04 | PASS | SKIPPED | SKIPPED | SKIPPED | SKIPPED | SKIPPED | +-------------------------------+--------------------+-------------------+------------------+-------------------+-------------------------+----------------------+ | Red Hat Enterprise Linux 8.10 | PASS | SKIPPED | SKIPPED | SKIPPED | SKIPPED | SKIPPED | +-------------------------------+--------------------+-------------------+------------------+-------------------+-------------------------+----------------------+ | Red Hat Enterprise Linux 9.5 | PASS | SKIPPED | SKIPPED | SKIPPED | SKIPPED | SKIPPED | +-------------------------------+--------------------+-------------------+------------------+-------------------+-------------------------+----------------------+ | Ubuntu 22.04 | PASS | PASS | SKIPPED | SKIPPED | SKIPPED | SKIPPED | +-------------------------------+--------------------+-------------------+------------------+-------------------+-------------------------+----------------------+ | FreeBSD 14.2 | PASS | SKIPPED | SKIPPED | SKIPPED | SKIPPED | SKIPPED | +-------------------------------+--------------------+-------------------+------------------+-------------------+-------------------------+----------------------+ | Ubuntu 24.04 | PASS | PASS | PASS | SKIPPED | SKIPPED | SKIPPED | +-------------------------------+--------------------+-------------------+------------------+-------------------+-------------------------+----------------------+ | Alpine Linux 3.22.0 | PASS | SKIPPED | SKIPPED | SKIPPED | SKIPPED | SKIPPED | +-------------------------------+--------------------+-------------------+------------------+-------------------+-------------------------+----------------------+ | Windows Server 2022 | SKIPPED | SKIPPED | SKIPPED | PASS | PASS | PASS | +-------------------------------+--------------------+-------------------+------------------+-------------------+-------------------------+----------------------+ CentOS Stream 9 Kernel: 5.15 Compiler: gcc gcc (GCC) 11.5.0 20240719 (Red Hat 11.5.0-11) CentOS Stream 10 Kernel: 5.15 Compiler: gcc gcc (GCC) 14.2.1 20250110 (Red Hat 14.2.1-8) Debian GNU/Linux 12 Kernel: 5.15 Compiler: gcc gcc (Debian 12.2.0-14+deb12u1) 12.2.0 Fedora Linux 42 Kernel: 5.15 Compiler: clang gcc (GCC) 15.2.1 20250808 (Red Hat 15.2.1-1) openSUSE Leap 15.6 Kernel: 5.15 Compiler: gcc gcc (SUSE Linux) 7.5.0 Ubuntu 20.04 Kernel: 4.19 Compiler: gcc gcc (Ubuntu 9.4.0-1ubuntu1~20.04.2) 9.4.0 Red Hat Enterprise Linux 8.10 Kernel: 5.15 Compiler: gcc gcc (GCC) 8.5.0 20210514 (Red Hat 8.5.0-22) Red Hat Enterprise Linux 9.5 Kernel: 5.15 Compiler: gcc gcc (GCC) 11.5.0 20240719 (Red Hat 11.5.0-2) Ubuntu 22.04 Kernel: 5.15 Compiler: gcc gcc (Ubuntu 11.4.0-1ubuntu1~22.04) 11.4.0 FreeBSD 14.2 Kernel: 14.2-RELEASE Compiler: clang 18.1.6 Ubuntu 24.04 Kernel: 5.15 Compiler: gcc gcc (Ubuntu 13.3.0-6ubuntu2~24.04) 13.3.0 Alpine Linux 3.22.0 Kernel: 5.15 Compiler: gcc gcc (Alpine 14.2.0) 14.2.0 Windows Server 2022 Kernel: 10.0.20348.2031 Compiler: clang 15.0.7, gcc 14.1.0 (MinGW), and MSVC VS 19.39.33521 To view detailed results, visit: https://lab.dpdk.org/results/dashboard/tarballs/35016/ UNH-IOL DPDK Community Lab To manage your email subscriptions, visit: https://lab.dpdk.org/results/dashboard/preferences/subscriptions/