From mboxrd@z Thu Jan 1 00:00:00 1970 Return-Path: Received: from mails.dpdk.org (mails.dpdk.org [217.70.189.124]) by inbox.dpdk.org (Postfix) with ESMTP id 77D7A46F85 for ; Fri, 26 Sep 2025 13:37:16 +0200 (CEST) Received: from mails.dpdk.org (localhost [127.0.0.1]) by mails.dpdk.org (Postfix) with ESMTP id 4E3514025D; Fri, 26 Sep 2025 13:37:16 +0200 (CEST) Received: from mail-io1-f99.google.com (mail-io1-f99.google.com [209.85.166.99]) by mails.dpdk.org (Postfix) with ESMTP id 6CF274025D for ; Fri, 26 Sep 2025 13:37:15 +0200 (CEST) Received: by mail-io1-f99.google.com with SMTP id ca18e2360f4ac-9032edd72c1so180950839f.3 for ; Fri, 26 Sep 2025 04:37:15 -0700 (PDT) DKIM-Signature: v=1; a=rsa-sha256; c=relaxed/relaxed; d=iol.unh.edu; s=unh-iol; t=1758886634; x=1759491434; darn=dpdk.org; h=references:in-reply-to:cc:to:from:subject:message-id:date:from:to :cc:subject:date:message-id:reply-to; bh=k7VUsv47/TawzQzEz3DGJHlCEvp3tt7exhNoONMLjJ0=; b=e/1SRvlSzVojqFsQqkp9j0CHPl7VR0CvK496dodw8KQZsaoLL0QiKVz0bHalaAmfqm 4iTLAg/7QHAWvL303xsOV3UqP2tbUF77Cw5wZJhvjq9LAcs01Myiep25gsvtBwAzTu20 BAnAZuw55yjRaDLeYlv6n/eI5mj2EhTfByZjY= X-Google-DKIM-Signature: v=1; a=rsa-sha256; c=relaxed/relaxed; d=1e100.net; s=20230601; t=1758886634; x=1759491434; h=references:in-reply-to:cc:to:from:subject:message-id:date :x-gm-message-state:from:to:cc:subject:date:message-id:reply-to; bh=k7VUsv47/TawzQzEz3DGJHlCEvp3tt7exhNoONMLjJ0=; b=r9jccxma5kAfHNCZWR9HsAYBaCTpxHNciETt6oBmoCf9Sc8NIVYN3BQSDGTMiSp+3h Nl2rX7W7g5vIh7x9p+UsH7m+Ss08FqBFD5NTMb0DeYIpOFt0t47C1MHZJHxyT6ZaxZQa GEgEOEy8qZYpKWAjbSsYQwDpNwcnDZ8vBF3R0urpKwHIkyuFVT5y24tW0u5QaWCIUNwn b2d0Tlou0HXPa7AwivTxT3rNQ/WNhAWZO9Sz80ymzIcBAqiH/8mmqF5723mFIVlCmW+c M99A644flyBt+uVA/qujTj9FyeV5Egc+SYh7i1NJ+Ufto7BR1ghbn6GBnat8Ri7iv9HE Ko0g== X-Gm-Message-State: AOJu0YxaFykzSFifbzALWSwqKv/bq1seBAZck2VCXefQO2DlrkNpNbFF x1QgrzAR0I0L8HSAsuvpW645NFOE+FseTl9otXWcokRmUJQmuw65y4SI07tP5OXQhvJ/STk1DUV +0yFH5CO9AnAEHDlG+5cF5FBN8S6kjeSmPbdOZLN6asSmk0u90YlKvm5jhJNb X-Gm-Gg: ASbGnctliDsaYWWvfdJuHULAQYMWQdvpKH9WM0idVfWSxf0tWczhGnZDyQIXQjSDcQh 6sl7K3CuXvmrSa49Dt1hRDhrACeo+lzhH0j+yTY8z1JndHgjUQbJ7FFmBEAvz+kr5Sa1+jI7Wcc bKsiV2kZqWXLJmQZdxJd9BxjlZAsn6GPu+h2R1ve4tKDQWGfV+UT1J5tKVlMLfSS5P2M2s62KCH DBsvAkFEcQ73BE+rvhr8RBthLVVpnUwKZQ7TYfEcKJ/fHvC6UcF8IpqlAt+6YTn//jO1RcchVRn +TUj1shbTAjv26wMpjGnkKHIBMRVHKgaK8Dd16yT9jvPGdROsw== X-Google-Smtp-Source: AGHT+IGhSRtwHw/v5qU3DRp6+MYze+4ZoBrDrP+UnK7+6AaN363Au/oDuehv4Y/eAoKRJhHoxcRJ4RHp+Lp6 X-Received: by 2002:a05:6602:14c7:b0:896:fc57:cb9a with SMTP id ca18e2360f4ac-9016448a4eemr984763039f.10.1758886634616; Fri, 26 Sep 2025 04:37:14 -0700 (PDT) Received: from postal.iol.unh.edu (postal.iol.unh.edu. [2606:4100:3880:1234::84]) by smtp-relay.gmail.com with ESMTPS id 8926c6da1cb9f-56a64bb9f30sm286606173.13.2025.09.26.04.37.14 (version=TLS1_2 cipher=ECDHE-ECDSA-AES128-GCM-SHA256 bits=128/128); Fri, 26 Sep 2025 04:37:14 -0700 (PDT) X-Relaying-Domain: iol.unh.edu Date: Fri, 26 Sep 2025 04:37:14 -0700 (PDT) Message-ID: <68d67aea.050a0220.10d807.0965SMTPIN_ADDED_MISSING@mx.google.com> Received: from [172.21.0.2] (unknown [172.18.0.240]) by postal.iol.unh.edu (Postfix) with ESMTP id 1C6FF6051830; Fri, 26 Sep 2025 07:37:14 -0400 (EDT) Subject: |SUCCESS| pw156974-156990 [PATCH] [v12,17/17] net/nbl: add nbl devic From: dpdklab@iol.unh.edu To: Test Report Cc: dpdk-test-reports@iol.unh.edu, Stephen Hemminger In-Reply-To: <20250926072602.3030541-18-dimon.zhao@nebula-matrix.com> References: <20250926072602.3030541-18-dimon.zhao@nebula-matrix.com> Content-Type: text/plain X-BeenThere: test-report@dpdk.org X-Mailman-Version: 2.1.29 Precedence: list List-Id: automatic DPDK test reports List-Unsubscribe: , List-Archive: List-Post: List-Help: List-Subscribe: , Errors-To: test-report-bounces@dpdk.org Test-Label: iol-compile-arm64-testing Test-Status: SUCCESS http://dpdk.org/patch/156990 _Testing PASS_ Submitter: Dimon Zhao Date: Friday, September 26 2025 07:26:02 DPDK git baseline: Repo:dpdk-next-net Branch: master CommitID:0b58c147385ecd20ebb4e678934536a597902c28 156974-156990 --> testing pass Upstream job id: Generic-DPDK-Compile-Meson#428871 Test environment and result as below: +------------------------------+--------------------+ | Environment | dpdk_meson_compile | +==============================+====================+ | Red Hat Enterprise Linux 9.5 | PASS | +------------------------------+--------------------+ | Ubuntu 20.04 | PASS | +------------------------------+--------------------+ | Debian GNU/Linux 12 | PASS | +------------------------------+--------------------+ | Fedora Linux 42 | PASS | +------------------------------+--------------------+ | Ubuntu 22.04 | PASS | +------------------------------+--------------------+ | CentOS Stream 9 | PASS | +------------------------------+--------------------+ | CentOS Stream 10 | PASS | +------------------------------+--------------------+ | Ubuntu 24.04 | PASS | +------------------------------+--------------------+ Red Hat Enterprise Linux 9.5 Kernel: 5.4 Compiler: gcc gcc (GCC) 11.5.0 20240719 (Red Hat 11.5.0-2) Ubuntu 20.04 Kernel: 5.15 Compiler: aarch64-linux-gnu-gcc gcc (Ubuntu 9.4.0-1ubuntu1~20.04.2) 9.4.0 Debian GNU/Linux 12 Kernel: 5.4 Compiler: gcc gcc (Debian 12.2.0-14+deb12u1) 12.2.0 Fedora Linux 42 Kernel: 5.4 Compiler: clang gcc (GCC) 15.2.1 20250808 (Red Hat 15.2.1-1) Ubuntu 22.04 Kernel: 5.4 Compiler: gcc gcc (Ubuntu 11.4.0-1ubuntu1~22.04) 11.4.0 CentOS Stream 9 Kernel: 5.4 Compiler: gcc gcc (GCC) 11.5.0 20240719 (Red Hat 11.5.0-11) CentOS Stream 10 Kernel: 5.4 Compiler: gcc gcc (GCC) 14.2.1 20250110 (Red Hat 14.2.1-8) Ubuntu 24.04 Kernel: 5.4 Compiler: gcc gcc (Ubuntu 13.3.0-6ubuntu2~24.04) 13.3.0 To view detailed results, visit: https://lab.dpdk.org/results/dashboard/patchsets/34154/ UNH-IOL DPDK Community Lab To manage your email subscriptions, visit: https://lab.dpdk.org/results/dashboard/preferences/subscriptions/