From: dpdklab@iol.unh.edu
To: Test Report <test-report@dpdk.org>
Cc: dpdk-test-reports@iol.unh.edu,
Bruce Richardson <bruce.richardson@intel.com>
Subject: |SUCCESS| pw156992-156993 [PATCH] [v3,2/2] net/idpf: enable AVX2 for
Date: Fri, 26 Sep 2025 05:42:03 -0700 (PDT) [thread overview]
Message-ID: <68d68a1b.050a0220.26c8a.e06eSMTPIN_ADDED_MISSING@mx.google.com> (raw)
In-Reply-To: <20250926085404.2074382-3-shaiq.wani@intel.com>
Test-Label: iol-compile-arm64-testing
Test-Status: SUCCESS
http://dpdk.org/patch/156993
_Testing PASS_
Submitter: Shaiq Wani <shaiq.wani@intel.com>
Date: Friday, September 26 2025 08:54:04
DPDK git baseline: Repo:dpdk-next-net-intel
Branch: master
CommitID:ab1325719d538b7f3527bb603f5e7d3f46a5eb53
156992-156993 --> testing pass
Upstream job id: Generic-DPDK-Compile-Meson#428898
Test environment and result as below:
+------------------------------+--------------------+
| Environment | dpdk_meson_compile |
+==============================+====================+
| Red Hat Enterprise Linux 9.5 | PASS |
+------------------------------+--------------------+
| Ubuntu 20.04 | PASS |
+------------------------------+--------------------+
| Debian GNU/Linux 12 | PASS |
+------------------------------+--------------------+
| Fedora Linux 42 | PASS |
+------------------------------+--------------------+
| Ubuntu 22.04 | PASS |
+------------------------------+--------------------+
| Ubuntu 24.04 | PASS |
+------------------------------+--------------------+
| CentOS Stream 9 | PASS |
+------------------------------+--------------------+
| CentOS Stream 10 | PASS |
+------------------------------+--------------------+
Red Hat Enterprise Linux 9.5
Kernel: 5.4
Compiler: gcc gcc (GCC) 11.5.0 20240719 (Red Hat 11.5.0-2)
Ubuntu 20.04
Kernel: 5.15
Compiler: aarch64-linux-gnu-gcc gcc (Ubuntu 9.4.0-1ubuntu1~20.04.2) 9.4.0
Debian GNU/Linux 12
Kernel: 5.4
Compiler: gcc gcc (Debian 12.2.0-14+deb12u1) 12.2.0
Fedora Linux 42
Kernel: 5.4
Compiler: gcc gcc (GCC) 15.2.1 20250808 (Red Hat 15.2.1-1)
Ubuntu 22.04
Kernel: 5.4
Compiler: gcc gcc (Ubuntu 11.4.0-1ubuntu1~22.04) 11.4.0
Ubuntu 24.04
Kernel: 5.4
Compiler: gcc gcc (Ubuntu 13.3.0-6ubuntu2~24.04) 13.3.0
CentOS Stream 9
Kernel: 5.4
Compiler: gcc gcc (GCC) 11.5.0 20240719 (Red Hat 11.5.0-11)
CentOS Stream 10
Kernel: 5.4
Compiler: gcc gcc (GCC) 14.2.1 20250110 (Red Hat 14.2.1-8)
To view detailed results, visit:
https://lab.dpdk.org/results/dashboard/patchsets/34155/
UNH-IOL DPDK Community Lab
To manage your email subscriptions, visit:
https://lab.dpdk.org/results/dashboard/preferences/subscriptions/
next prev parent reply other threads:[~2025-09-26 12:42 UTC|newest]
Thread overview: 21+ messages / expand[flat|nested] mbox.gz Atom feed top
[not found] <20250926085404.2074382-3-shaiq.wani@intel.com>
2025-09-26 8:22 ` |SUCCESS| pw156992-156993 [PATCH v3 2/2] net/idpf: enable AVX2 for split queue Tx qemudev
2025-09-26 8:26 ` qemudev
2025-09-26 8:52 ` |SUCCESS| pw156993 " checkpatch
2025-09-26 9:19 ` |PENDING| pw156992-156993 [PATCH] [v3,2/2] net/idpf: enable AVX2 for dpdklab
2025-09-26 9:23 ` |SUCCESS| " dpdklab
2025-09-26 9:23 ` |PENDING| " dpdklab
2025-09-26 9:27 ` |SUCCESS| " dpdklab
2025-09-26 9:31 ` |PENDING| " dpdklab
2025-09-26 9:35 ` dpdklab
2025-09-26 9:36 ` dpdklab
2025-09-26 9:40 ` |SUCCESS| " dpdklab
2025-09-26 9:44 ` dpdklab
2025-09-26 10:03 ` dpdklab
2025-09-26 10:08 ` dpdklab
2025-09-26 10:12 ` dpdklab
2025-09-26 10:17 ` dpdklab
2025-09-26 10:22 ` dpdklab
2025-09-26 10:24 ` dpdklab
2025-09-26 12:42 ` dpdklab [this message]
2025-09-26 23:08 ` dpdklab
2025-09-27 7:24 ` dpdklab
Reply instructions:
You may reply publicly to this message via plain-text email
using any one of the following methods:
* Save the following mbox file, import it into your mail client,
and reply-to-all from there: mbox
Avoid top-posting and favor interleaved quoting:
https://en.wikipedia.org/wiki/Posting_style#Interleaved_style
* Reply using the --to, --cc, and --in-reply-to
switches of git-send-email(1):
git send-email \
--in-reply-to=68d68a1b.050a0220.26c8a.e06eSMTPIN_ADDED_MISSING@mx.google.com \
--to=dpdklab@iol.unh.edu \
--cc=bruce.richardson@intel.com \
--cc=dpdk-test-reports@iol.unh.edu \
--cc=test-report@dpdk.org \
/path/to/YOUR_REPLY
https://kernel.org/pub/software/scm/git/docs/git-send-email.html
* If your mail client supports setting the In-Reply-To header
via mailto: links, try the mailto: link
Be sure your reply has a Subject: header at the top and a blank line
before the message body.
This is a public inbox, see mirroring instructions
for how to clone and mirror all data and code used for this inbox;
as well as URLs for NNTP newsgroup(s).