From mboxrd@z Thu Jan 1 00:00:00 1970 Return-Path: Received: from mails.dpdk.org (mails.dpdk.org [217.70.189.124]) by inbox.dpdk.org (Postfix) with ESMTP id D610146F89 for ; Fri, 26 Sep 2025 14:42:05 +0200 (CEST) Received: from mails.dpdk.org (localhost [127.0.0.1]) by mails.dpdk.org (Postfix) with ESMTP id CE173406B4; Fri, 26 Sep 2025 14:42:05 +0200 (CEST) Received: from mail-vk1-f226.google.com (mail-vk1-f226.google.com [209.85.221.226]) by mails.dpdk.org (Postfix) with ESMTP id F0B5B4066D for ; Fri, 26 Sep 2025 14:42:03 +0200 (CEST) Received: by mail-vk1-f226.google.com with SMTP id 71dfb90a1353d-54a86cc950dso377546e0c.2 for ; Fri, 26 Sep 2025 05:42:03 -0700 (PDT) DKIM-Signature: v=1; a=rsa-sha256; c=relaxed/relaxed; d=iol.unh.edu; s=unh-iol; t=1758890523; x=1759495323; darn=dpdk.org; h=references:in-reply-to:cc:to:from:subject:message-id:date:from:to :cc:subject:date:message-id:reply-to; bh=fYgEQAnPYJA4vpBo1HLpaDfcpAtbk1ypq1Ax6CoDRrc=; b=PLJiZRxLcoqZKEd/e9Py2vdZEe5S7das3T5C4h5Izs58TzRWSG7S59JCsBpThm+ozD busm8aOGh5cUCNRJLFL2o+Zk9DX5uif9kbrG3eW2ipI2+FSkC3pZinclTO8DL78UOE2X Yii41Q75GR5vJ2z851AzJ+kyIKm+/JS5AS28s= X-Google-DKIM-Signature: v=1; a=rsa-sha256; c=relaxed/relaxed; d=1e100.net; s=20230601; t=1758890523; x=1759495323; h=references:in-reply-to:cc:to:from:subject:message-id:date :x-gm-message-state:from:to:cc:subject:date:message-id:reply-to; bh=fYgEQAnPYJA4vpBo1HLpaDfcpAtbk1ypq1Ax6CoDRrc=; b=q8ragTuaTRXoKMm68tpJjCaY1NjUzfpINEoHdo8+HIYydAElPiWURriszDABlGc4sd UBXNGKvIICWJTzvy/fbFcgB8PvMxYiUWjEOqGXZNrweT+SIxeI3MHjLnxXLYi2Qa+tmq +d0xN2apqWB3cl8CiOu4wx1Be+4hhCk/YBP/ox/ylEbXrd2okYI8BEc3cCJrrC6yNDNQ o7nnQpm+jeqkD8Y6BPJUlKBm4gsCBHYhu6QcCQWbmRyDSVmgKbOxoyn2xyI0IEMcqFvS Qky3dlEf744kQ/5hV/rCqUm0fe69N/GroLV5SqJRHdEPwp4NKLtheLxXmJqE2cXcEtmK FmPg== X-Gm-Message-State: AOJu0YydL5pof7lz0a4TlC80vZWYLh9wx67fcd9l68pbXHBhZx0/rs2O 4NM2vxJnFuqUbx0vjm2rabS3Hq22ttp0AvOhJasV8OYnP2m5d/t0E/920hvW3mky+MYLQKyZ1Kq 1Mf+yOJScMB2G/g2Aaj7gkRH/sLNnC8ayEmu6mV4DxdPPA77LIS0rFxuWPGew X-Gm-Gg: ASbGncs01oBtmMx4S9yBLUtyatGRA/iqAkcBwkb8UmeZqTU4809ch56nnzn05y2Vd4b i32SNHN3YpomzoB2m9FmlqKWNtOwIp3XvBQER1I8QEWHN4aaGdpPfyE9w8cjDKKYq4ZS+eUnHx0 3RaVkRq0mFsdV2r43OQYDPrgRMQSFlLJoP1WOyeus03IYstVSDoHTb4i1jKQY+E6BnL+jywXrGw y05Mz8UDGLfL4MOb9D7Ts/J47+VHZ4Dky1s2HL0Z28AWOdEeA5AXM/L4FTNdYig2X+8W2IYrCtI tpSAqw92WjfRJJbOqcb9jPBXDhUK+ndxHxAr9gjlw8U2s2qjlw== X-Google-Smtp-Source: AGHT+IGs4D262a4uFDA/nXkACwjPSR5b/rZXrL3QOtKrYrF9UK/RzBUvP0HDS9dRtg7YRQ2jlMfps1wzbXAE X-Received: by 2002:a05:6122:308e:b0:544:9414:105f with SMTP id 71dfb90a1353d-54bea0b83d9mr2773862e0c.2.1758890523287; Fri, 26 Sep 2025 05:42:03 -0700 (PDT) Received: from postal.iol.unh.edu (postal.iol.unh.edu. [2606:4100:3880:1234::84]) by smtp-relay.gmail.com with ESMTPS id 71dfb90a1353d-54bed60f8d6sm250443e0c.0.2025.09.26.05.42.03 (version=TLS1_2 cipher=ECDHE-ECDSA-AES128-GCM-SHA256 bits=128/128); Fri, 26 Sep 2025 05:42:03 -0700 (PDT) X-Relaying-Domain: iol.unh.edu Date: Fri, 26 Sep 2025 05:42:03 -0700 (PDT) Message-ID: <68d68a1b.050a0220.26c8a.e06eSMTPIN_ADDED_MISSING@mx.google.com> Received: from [172.21.0.2] (unknown [172.18.0.240]) by postal.iol.unh.edu (Postfix) with ESMTP id C13B860003EA; Fri, 26 Sep 2025 08:42:02 -0400 (EDT) Subject: |SUCCESS| pw156992-156993 [PATCH] [v3,2/2] net/idpf: enable AVX2 for From: dpdklab@iol.unh.edu To: Test Report Cc: dpdk-test-reports@iol.unh.edu, Bruce Richardson In-Reply-To: <20250926085404.2074382-3-shaiq.wani@intel.com> References: <20250926085404.2074382-3-shaiq.wani@intel.com> Content-Type: text/plain X-BeenThere: test-report@dpdk.org X-Mailman-Version: 2.1.29 Precedence: list List-Id: automatic DPDK test reports List-Unsubscribe: , List-Archive: List-Post: List-Help: List-Subscribe: , Errors-To: test-report-bounces@dpdk.org Test-Label: iol-compile-arm64-testing Test-Status: SUCCESS http://dpdk.org/patch/156993 _Testing PASS_ Submitter: Shaiq Wani Date: Friday, September 26 2025 08:54:04 DPDK git baseline: Repo:dpdk-next-net-intel Branch: master CommitID:ab1325719d538b7f3527bb603f5e7d3f46a5eb53 156992-156993 --> testing pass Upstream job id: Generic-DPDK-Compile-Meson#428898 Test environment and result as below: +------------------------------+--------------------+ | Environment | dpdk_meson_compile | +==============================+====================+ | Red Hat Enterprise Linux 9.5 | PASS | +------------------------------+--------------------+ | Ubuntu 20.04 | PASS | +------------------------------+--------------------+ | Debian GNU/Linux 12 | PASS | +------------------------------+--------------------+ | Fedora Linux 42 | PASS | +------------------------------+--------------------+ | Ubuntu 22.04 | PASS | +------------------------------+--------------------+ | Ubuntu 24.04 | PASS | +------------------------------+--------------------+ | CentOS Stream 9 | PASS | +------------------------------+--------------------+ | CentOS Stream 10 | PASS | +------------------------------+--------------------+ Red Hat Enterprise Linux 9.5 Kernel: 5.4 Compiler: gcc gcc (GCC) 11.5.0 20240719 (Red Hat 11.5.0-2) Ubuntu 20.04 Kernel: 5.15 Compiler: aarch64-linux-gnu-gcc gcc (Ubuntu 9.4.0-1ubuntu1~20.04.2) 9.4.0 Debian GNU/Linux 12 Kernel: 5.4 Compiler: gcc gcc (Debian 12.2.0-14+deb12u1) 12.2.0 Fedora Linux 42 Kernel: 5.4 Compiler: gcc gcc (GCC) 15.2.1 20250808 (Red Hat 15.2.1-1) Ubuntu 22.04 Kernel: 5.4 Compiler: gcc gcc (Ubuntu 11.4.0-1ubuntu1~22.04) 11.4.0 Ubuntu 24.04 Kernel: 5.4 Compiler: gcc gcc (Ubuntu 13.3.0-6ubuntu2~24.04) 13.3.0 CentOS Stream 9 Kernel: 5.4 Compiler: gcc gcc (GCC) 11.5.0 20240719 (Red Hat 11.5.0-11) CentOS Stream 10 Kernel: 5.4 Compiler: gcc gcc (GCC) 14.2.1 20250110 (Red Hat 14.2.1-8) To view detailed results, visit: https://lab.dpdk.org/results/dashboard/patchsets/34155/ UNH-IOL DPDK Community Lab To manage your email subscriptions, visit: https://lab.dpdk.org/results/dashboard/preferences/subscriptions/