From mboxrd@z Thu Jan 1 00:00:00 1970 Return-Path: Received: from mails.dpdk.org (mails.dpdk.org [217.70.189.124]) by inbox.dpdk.org (Postfix) with ESMTP id 2F90946F89 for ; Fri, 26 Sep 2025 15:44:50 +0200 (CEST) Received: from mails.dpdk.org (localhost [127.0.0.1]) by mails.dpdk.org (Postfix) with ESMTP id 097FE40664; Fri, 26 Sep 2025 15:44:50 +0200 (CEST) Received: from mail-oa1-f98.google.com (mail-oa1-f98.google.com [209.85.160.98]) by mails.dpdk.org (Postfix) with ESMTP id 321C340664 for ; Fri, 26 Sep 2025 15:44:49 +0200 (CEST) Received: by mail-oa1-f98.google.com with SMTP id 586e51a60fabf-35c80c1dc3fso1255725fac.3 for ; Fri, 26 Sep 2025 06:44:49 -0700 (PDT) DKIM-Signature: v=1; a=rsa-sha256; c=relaxed/relaxed; d=iol.unh.edu; s=unh-iol; t=1758894288; x=1759499088; darn=dpdk.org; h=references:in-reply-to:cc:to:from:subject:message-id:date:from:to :cc:subject:date:message-id:reply-to; bh=w2k1w4Jptq9NXuB1Io+n0QlP3li00j9ni1Ba76IiX8k=; b=Ir6gEEXvgkOS36qSyGRLw3MMu9acZCnQQBUYoilttS3QbSCNv27cG2mRqaZRhopLux Zp08JR//H0Wg814Yb0bkn6QMyqyd577Fby+fjq8N47RrDll9v90Tpfc2bH8gyql/NGQc L584Q5rl3qxwzZEClmuwG+w8zy4VWq09C8YJE= X-Google-DKIM-Signature: v=1; a=rsa-sha256; c=relaxed/relaxed; d=1e100.net; s=20230601; t=1758894288; x=1759499088; h=references:in-reply-to:cc:to:from:subject:message-id:date :x-gm-message-state:from:to:cc:subject:date:message-id:reply-to; bh=w2k1w4Jptq9NXuB1Io+n0QlP3li00j9ni1Ba76IiX8k=; b=HX9hsf2v19KyWM5mZxbzJ44X8DS74mYO5hH8Qc4KmafumuOAO6SbqNkEEfbrWCyGQ7 eSWRAMKQNWXVaHBmJgvNMcDI2UJNgqQ1ZXT9CscubsHJrRZ1A8wNPkItruKGKsWBm6JW L4OsYnwYDm6f9wgumLlroqY3MYGDW6N3JR2wCW3lcuFkXThKvTOfDg348sUlnflbpC9d 5Wt6w+rV1ApaR0gm2gMmrVW9LrhJTKr6Dy/dZ6Eyc7AuwMC3ng6Bgkz7+HR0TcLK5uBg 1n+jsbHCoufK/YXhl7P9sc0rZtw9QDigGml1USr7uqZ79KDXzoRCRfkPb5rol0l60RcW 7Zew== X-Gm-Message-State: AOJu0YwcWsGuxkqNf5vI+blZTSx+sS+p1kukskYX9dYA1BakWGDD5n/4 H6yRoytpnIJIviq14nOkYW4OP/7EY9kQ+rb/d4jqw8GYfnXDGfuTVBMLKD6kS01IRJI98aAkdG4 BzK4Dm9Py+Pcvps8MgsS8royVZJKBhkUVW/wK7MOW0HkW X-Gm-Gg: ASbGncvhED9EUGXlALkILmNOHeYFAB4klpyz9UuodpbZ+F0LVzRWQ11i4gyHuJvisap mnVwhGfN/ZO6pKUADhAZdfF1MRymBQED1wrWVPflPrfSxC3ow4n5K9MX0+rTgfIHkVhlr0WzX1a SDMU78+Xd9U8tUOGWZe4KaW5NMnulfW8Stw+rycugsfz5Jl8X1stbb8gkX4SvOPkyOzrUQec1G4 2KjZ4fp7cYRY0crszukJ8w/a8aPMeh7+Q+Q2XLN1Kbput/+cCwMs4l27YLxAUg+mzVRJT6aZuow xL+bZd7qhBl88UQQWQwS0SyFZBBAMR3rBhTJOmenvWQpNly/Yh+JDBFUQd9/aVS9y2q9hNQ2 X-Google-Smtp-Source: AGHT+IHI5OJp/WftGAh1VWLcUddfSfElZbTY88VGQTGu8nPB2kWFLW4EF2nr/W5rmUJchUELQTNPVAU1SkVt X-Received: by 2002:a05:6870:e9a5:b0:34a:294d:3012 with SMTP id 586e51a60fabf-35eef5e6f84mr4151118fac.39.1758894288196; Fri, 26 Sep 2025 06:44:48 -0700 (PDT) Received: from postal.iol.unh.edu (postal.iol.unh.edu. [132.177.123.84]) by smtp-relay.gmail.com with ESMTPS id 586e51a60fabf-363a2ce9c64sm389046fac.5.2025.09.26.06.44.48 (version=TLS1_2 cipher=ECDHE-ECDSA-AES128-GCM-SHA256 bits=128/128); Fri, 26 Sep 2025 06:44:48 -0700 (PDT) X-Relaying-Domain: iol.unh.edu Date: Fri, 26 Sep 2025 06:44:48 -0700 (PDT) Message-ID: <68d698d0.050a0220.3a9a8d.66d1SMTPIN_ADDED_MISSING@mx.google.com> Received: from [172.21.0.2] (unknown [172.18.0.240]) by postal.iol.unh.edu (Postfix) with ESMTP id AF8636051830; Fri, 26 Sep 2025 09:44:47 -0400 (EDT) Subject: |SUCCESS| pw156994 [PATCH] [v2] app/testpmd: use table ID for jump t From: dpdklab@iol.unh.edu To: Test Report Cc: dpdk-test-reports@iol.unh.edu, Stephen Hemminger In-Reply-To: <20250926123045.3944957-1-akozyrev@nvidia.com> References: <20250926123045.3944957-1-akozyrev@nvidia.com> Content-Type: text/plain X-BeenThere: test-report@dpdk.org X-Mailman-Version: 2.1.29 Precedence: list List-Id: automatic DPDK test reports List-Unsubscribe: , List-Archive: List-Post: List-Help: List-Subscribe: , Errors-To: test-report-bounces@dpdk.org Test-Label: iol-unit-amd64-testing Test-Status: SUCCESS http://dpdk.org/patch/156994 _Testing PASS_ Submitter: Alexander Kozyrev Date: Friday, September 26 2025 12:30:33 DPDK git baseline: Repo:dpdk-next-net Branch: master CommitID:0b58c147385ecd20ebb4e678934536a597902c28 156994 --> testing pass Upstream job id: Generic-Unit-Test-DPDK#375434 Test environment and result as below: +-------------------------------+----------------+ | Environment | dpdk_unit_test | +===============================+================+ | CentOS Stream 9 | PASS | +-------------------------------+----------------+ | Fedora Linux 40 | PASS | +-------------------------------+----------------+ | CentOS Stream 10 | PASS | +-------------------------------+----------------+ | Debian GNU/Linux 12 | PASS | +-------------------------------+----------------+ | Fedora Linux 41 | PASS | +-------------------------------+----------------+ | Fedora Linux 42 | PASS | +-------------------------------+----------------+ | Red Hat Enterprise Linux 9.5 | PASS | +-------------------------------+----------------+ | Red Hat Enterprise Linux 8.10 | PASS | +-------------------------------+----------------+ | Ubuntu 20.04 | PASS | +-------------------------------+----------------+ | Windows Server 2022 | PASS | +-------------------------------+----------------+ | Ubuntu 24.04 | PASS | +-------------------------------+----------------+ | Ubuntu 22.04 | PASS | +-------------------------------+----------------+ CentOS Stream 9 Kernel: 5.15 Compiler: gcc gcc (GCC) 11.5.0 20240719 (Red Hat 11.5.0-11) Fedora Linux 40 Kernel: 5.15 Compiler: gcc gcc (GCC) 14.2.1 20240912 (Red Hat 14.2.1-3) CentOS Stream 10 Kernel: 5.15 Compiler: gcc gcc (GCC) 14.2.1 20250110 (Red Hat 14.2.1-8) Debian GNU/Linux 12 Kernel: 5.15 Compiler: gcc gcc (Debian 12.2.0-14+deb12u1) 12.2.0 Fedora Linux 41 Kernel: 5.15 Compiler: gcc gcc (GCC) 14.3.1 20250523 (Red Hat 14.3.1-1) Fedora Linux 42 Kernel: 5.15 Compiler: clang gcc (GCC) 15.2.1 20250808 (Red Hat 15.2.1-1) Red Hat Enterprise Linux 9.5 Kernel: 5.15 Compiler: gcc gcc (GCC) 11.5.0 20240719 (Red Hat 11.5.0-2) Red Hat Enterprise Linux 8.10 Kernel: 5.15 Compiler: gcc gcc (GCC) 8.5.0 20210514 (Red Hat 8.5.0-22) Ubuntu 20.04 Kernel: 5.15 Compiler: gcc gcc (Ubuntu 9.4.0-1ubuntu1~20.04.2) 9.4.0 Windows Server 2022 Kernel: 10.0.20348.2031 Compiler: clang 15.0.7, gcc 14.1.0 (MinGW), and MSVC VS 19.39.33521 Ubuntu 24.04 Kernel: 5.15 Compiler: gcc gcc (Ubuntu 13.3.0-6ubuntu2~24.04) 13.3.0 Ubuntu 22.04 Kernel: 5.15 Compiler: gcc gcc (Ubuntu 11.4.0-1ubuntu1~22.04) 11.4.0 To view detailed results, visit: https://lab.dpdk.org/results/dashboard/patchsets/34157/ UNH-IOL DPDK Community Lab To manage your email subscriptions, visit: https://lab.dpdk.org/results/dashboard/preferences/subscriptions/