From mboxrd@z Thu Jan 1 00:00:00 1970 Return-Path: Received: from mails.dpdk.org (mails.dpdk.org [217.70.189.124]) by inbox.dpdk.org (Postfix) with ESMTP id 7685846F89 for ; Fri, 26 Sep 2025 15:57:06 +0200 (CEST) Received: from mails.dpdk.org (localhost [127.0.0.1]) by mails.dpdk.org (Postfix) with ESMTP id 4D37740664; Fri, 26 Sep 2025 15:57:06 +0200 (CEST) Received: from mail-yx1-f98.google.com (mail-yx1-f98.google.com [74.125.224.98]) by mails.dpdk.org (Postfix) with ESMTP id 0E91040664 for ; Fri, 26 Sep 2025 15:57:05 +0200 (CEST) Received: by mail-yx1-f98.google.com with SMTP id 956f58d0204a3-6354f14b881so1400193d50.3 for ; Fri, 26 Sep 2025 06:57:04 -0700 (PDT) DKIM-Signature: v=1; a=rsa-sha256; c=relaxed/relaxed; d=iol.unh.edu; s=unh-iol; t=1758895024; x=1759499824; darn=dpdk.org; h=references:in-reply-to:cc:to:from:subject:message-id:date:from:to :cc:subject:date:message-id:reply-to; bh=rvtN9sN0Hm1iLlslj5/sqa3e3BqMkmrymq/cbrMUjxE=; b=KG5yGP/J0bf/MGE4e57MIsaGxzlOo+OEfJQIkxWoOHaqVLXnksDzLKo7PIRiaxFqrK SmKdNjE3xJz+I7n4T66VAOxpK4rrCeJQdrXeKskVdFNjCykEVW6kEdUiF6kXG0C74WdK YYcENPfvVHpLvLOz+7pg6ycho/ZwAsa38RtdY= X-Google-DKIM-Signature: v=1; a=rsa-sha256; c=relaxed/relaxed; d=1e100.net; s=20230601; t=1758895024; x=1759499824; h=references:in-reply-to:cc:to:from:subject:message-id:date :x-gm-message-state:from:to:cc:subject:date:message-id:reply-to; bh=rvtN9sN0Hm1iLlslj5/sqa3e3BqMkmrymq/cbrMUjxE=; b=ktfyYIHgT42ropooKcnXrX4ZIJwdhNu/a8sdxYeNES+C6nCYtGXrt/O5vfJdDc+uBc eHDNk+FjW1E39/3DIo18Zb0+YgXTBwcwlcCGKSK0rIHRDA7cuH3oL0PLh8PQPdFLk7UK NrumzX8nafkmLjT4I7XVa+F6shRZcVuH0mQ6EJ7D0ijMhJKkYE2cLeb+Cr0ZnHb1xRng PTAQnNnBMWjbXnd3pRoGhRCmwptUOZg6oxAwR+/Z/YUS1mV70ApdKv2KrpkTAzSNxWGx ja09Y0gSAwJMdW1wpzGuL3VbFf4CLMSFZQ2QFecWgG5abM7cV3Gv5J3pxuZvjBTo7/pb ZILQ== X-Gm-Message-State: AOJu0Yysr/7nGqQZV4QY8Jc/wczP7NBh7UqE8iyqShRleJ858fBAKFgJ C5r3nmvMSoye8H96T7p7wGPRx+5SfiFdAjAvIdJ0A6OvBpimU3M3c6gkMI0nKWAgydwiYVm5x0E i0j20v0lOX0BMpuJE3+kKINWbEpfSu+IlY7aeJY6wPCYEaZJ/XmuISbWEPN4T X-Gm-Gg: ASbGncvxUmG7sTcKGSnSszUGQuMHm2UyITdZHLSjIgLO5cqwI219rB1PtTpm39UnHpc JIXvjY9Yj4jDVpSKeJHr2qN9r1E9IJLmQ09fPw5EPcWmY8vp2j28yaYecxz50FKqv0Jdv8GwozA YtzA4GemNOIbOA0fiBkO0DzJ3vFo4wZxZgcDWyro9+51EiEj2lbncUzmEzMXlzpWMC3E5HGH1oO SvhhDQEXu3wbEU2671gLeUhoA0gu1cHbWUcohtzb5eC/TEu8xO++ZHkwW3yE2usaE1DVVY+uF6t lsKPDhLybYtIc4L9DWE5iiXs/cP9f0cpczaWuufcZHytwxg2tw== X-Google-Smtp-Source: AGHT+IFkcNsHAKYt5tSyg07mxzkN23Wb8xbZovBExP2Ai9p72Kl001rCT4tZQ7gyXTjLC6v8M0g5tQ+jRSVK X-Received: by 2002:a53:d486:0:b0:636:d286:485e with SMTP id 956f58d0204a3-636d2865083mr4099894d50.0.1758895024097; Fri, 26 Sep 2025 06:57:04 -0700 (PDT) Received: from postal.iol.unh.edu (postal.iol.unh.edu. [2606:4100:3880:1234::84]) by smtp-relay.gmail.com with ESMTPS id 3f1490d57ef6-eb508c46571sm83389276.14.2025.09.26.06.57.04 (version=TLS1_2 cipher=ECDHE-ECDSA-AES128-GCM-SHA256 bits=128/128); Fri, 26 Sep 2025 06:57:04 -0700 (PDT) X-Relaying-Domain: iol.unh.edu Date: Fri, 26 Sep 2025 06:57:04 -0700 (PDT) Message-ID: <68d69bb0.250a0220.1e11c.46a7SMTPIN_ADDED_MISSING@mx.google.com> Received: from [172.21.0.3] (unknown [172.18.0.240]) by postal.iol.unh.edu (Postfix) with ESMTP id B7D316050A61; Fri, 26 Sep 2025 09:57:03 -0400 (EDT) Subject: |SUCCESS| pw156991 [PATCH] [v3] net/intel: add IDPF PCI class ID sup From: dpdklab@iol.unh.edu To: Test Report Cc: dpdk-test-reports@iol.unh.edu In-Reply-To: <20250925174707.131821-1-venkatesh.vemula@intel.com> References: <20250925174707.131821-1-venkatesh.vemula@intel.com> Content-Type: text/plain X-BeenThere: test-report@dpdk.org X-Mailman-Version: 2.1.29 Precedence: list List-Id: automatic DPDK test reports List-Unsubscribe: , List-Archive: List-Post: List-Help: List-Subscribe: , Errors-To: test-report-bounces@dpdk.org Test-Label: iol-compile-arm64-testing Test-Status: SUCCESS http://dpdk.org/patch/156991 _Testing PASS_ Submitter: Vemula Venkatesh Date: Thursday, September 25 2025 17:47:07 DPDK git baseline: Repo:dpdk Branch: master CommitID:441861b4a30e6b6b6aca07367dd487657b1f50e8 156991 --> testing pass Upstream job id: Generic-DPDK-Compile-Meson#428924 Test environment and result as below: +------------------------------+--------------------+ | Environment | dpdk_meson_compile | +==============================+====================+ | Red Hat Enterprise Linux 9.5 | PASS | +------------------------------+--------------------+ | Ubuntu 20.04 | PASS | +------------------------------+--------------------+ | Debian GNU/Linux 12 | PASS | +------------------------------+--------------------+ | Fedora Linux 42 | PASS | +------------------------------+--------------------+ | Ubuntu 22.04 | PASS | +------------------------------+--------------------+ | Ubuntu 24.04 | PASS | +------------------------------+--------------------+ | CentOS Stream 9 | PASS | +------------------------------+--------------------+ | CentOS Stream 10 | PASS | +------------------------------+--------------------+ Red Hat Enterprise Linux 9.5 Kernel: 5.4 Compiler: gcc gcc (GCC) 11.5.0 20240719 (Red Hat 11.5.0-2) Ubuntu 20.04 Kernel: 5.15 Compiler: aarch64-linux-gnu-gcc gcc (Ubuntu 9.4.0-1ubuntu1~20.04.2) 9.4.0 Debian GNU/Linux 12 Kernel: 5.4 Compiler: gcc gcc (Debian 12.2.0-14+deb12u1) 12.2.0 Fedora Linux 42 Kernel: 5.4 Compiler: gcc gcc (GCC) 15.2.1 20250808 (Red Hat 15.2.1-1) Ubuntu 22.04 Kernel: 5.4 Compiler: gcc gcc (Ubuntu 11.4.0-1ubuntu1~22.04) 11.4.0 Ubuntu 24.04 Kernel: 5.4 Compiler: gcc gcc (Ubuntu 13.3.0-6ubuntu2~24.04) 13.3.0 CentOS Stream 9 Kernel: 5.4 Compiler: gcc gcc (GCC) 11.5.0 20240719 (Red Hat 11.5.0-11) CentOS Stream 10 Kernel: 5.4 Compiler: gcc gcc (GCC) 14.2.1 20250110 (Red Hat 14.2.1-8) To view detailed results, visit: https://lab.dpdk.org/results/dashboard/patchsets/34156/ UNH-IOL DPDK Community Lab To manage your email subscriptions, visit: https://lab.dpdk.org/results/dashboard/preferences/subscriptions/