From mboxrd@z Thu Jan 1 00:00:00 1970 Return-Path: Received: from mails.dpdk.org (mails.dpdk.org [217.70.189.124]) by inbox.dpdk.org (Postfix) with ESMTP id BB67346F89 for ; Fri, 26 Sep 2025 15:59:21 +0200 (CEST) Received: from mails.dpdk.org (localhost [127.0.0.1]) by mails.dpdk.org (Postfix) with ESMTP id 9ABCD40664; Fri, 26 Sep 2025 15:59:21 +0200 (CEST) Received: from mail-il1-f225.google.com (mail-il1-f225.google.com [209.85.166.225]) by mails.dpdk.org (Postfix) with ESMTP id 779AE40664 for ; Fri, 26 Sep 2025 15:59:20 +0200 (CEST) Received: by mail-il1-f225.google.com with SMTP id e9e14a558f8ab-4258bd8c19bso17643815ab.2 for ; Fri, 26 Sep 2025 06:59:20 -0700 (PDT) DKIM-Signature: v=1; a=rsa-sha256; c=relaxed/relaxed; d=iol.unh.edu; s=unh-iol; t=1758895160; x=1759499960; darn=dpdk.org; h=references:in-reply-to:cc:to:from:subject:message-id:date:from:to :cc:subject:date:message-id:reply-to; bh=8pfyICcCWIzMTVKYKRJ2mUejTuAbKXn2D8lflkbVLbo=; b=Lzyh5rBUkXJi41yWIERneznQXPulMilIUDLX5Hof+w6NhCaxZlv6kB38UwrssYF8RM SGs3k5j09i/ZFmj1wftlzoKpz5fRz0L2IZ+EAomV1i6/V6hXtVofS3r2xHTfAkW/Fw5p e3hbFDR6nM6cLoetPbCaFIUY8YeGKDy+JLhW4= X-Google-DKIM-Signature: v=1; a=rsa-sha256; c=relaxed/relaxed; d=1e100.net; s=20230601; t=1758895160; x=1759499960; h=references:in-reply-to:cc:to:from:subject:message-id:date :x-gm-message-state:from:to:cc:subject:date:message-id:reply-to; bh=8pfyICcCWIzMTVKYKRJ2mUejTuAbKXn2D8lflkbVLbo=; b=Wl5If05STK4jvHMPyLcRS0DXau1RUkr3BT/EPTrCf0mrhSYpuCxJXZ/6AV4TL9cGEA IRNbUEAe8UHhAd59qq+STupXjYFV+7tad0hdyBPepq5mX031+nmXekTIT2ODRPIogzz6 H0Co0HC9IK+Iaw3pcvRVUg5hoaC4IQ9A/EZN2LaXqxTZF1CO+C6UQBf/BocAOROaIdNd 5Hb9TRIKLXdBeh3EmmVmEToRctZUwOUMqvAwW5wncMEfFBXGJ6BTGa2cGkbygpNzHror cHWWkZGlm2Do/5HzJJxUsvOhebsDwKPi/P2bypj1Q9f2op1578RZgqSh22+b9bgeR0/H M3kQ== X-Gm-Message-State: AOJu0YwJ2SIZgkSFCyUsll7m+vpU+ILLC3t/00N+qyx59SHRC8p4/OzI 7xhmNDVx2YCpO0OtW7XUiTtvLRUmQKdayl0hDo1zB+oy/grfmM0t+sn5ZwA81CZV3+rqBWYFdAN 3tkp5Pd2Mn7FmxFFF90pdLQiSbYhtok3Crk8LSl+qUHVTWkU3VomcFNb1pviT X-Gm-Gg: ASbGnct9GoX/RY0/68/gHSrpw8eqMJ9beBBfyeF54RFAbHqOJHb14bMW3Gv5G6ls+K6 RoEv3kJAeK9tiSJj48zGrJ8XyedwFYyZwwKhZrmFjN8PzM7kmufTerLssYClcz7IrRDCFZgWyQF 4S0uevFK/fAjQBFMIFZHXqNqZ0eHLPBnrod2er5wbqJPlRSFajKybidh9662PMfODPRMLw8SCtK 7uZHxwkcy1O0MlB6bq+tmBwDj6rRLAvEJQ1+8BEG5g3hmp2AOfOqdlKKcN9eflYZNXcIjOUKS8l u+nC2zp8CtYwaOdgsQB2xb1wV1Wd+YHnCDhwppEGbBlPGQwi+Q== X-Google-Smtp-Source: AGHT+IFVhCErfM9sbbK9cwP8rPKY9wNPd+EVN+k/6lFHCWBQm+Dl2oAGRBB5xzcJTkFj8+bVURiVWRzGgJtq X-Received: by 2002:a05:6e02:1c29:b0:426:2f95:31a5 with SMTP id e9e14a558f8ab-4262f953bf1mr97116915ab.29.1758895159664; Fri, 26 Sep 2025 06:59:19 -0700 (PDT) Received: from postal.iol.unh.edu (postal.iol.unh.edu. [2606:4100:3880:1234::84]) by smtp-relay.gmail.com with ESMTPS id e9e14a558f8ab-425c0359e6bsm3453255ab.43.2025.09.26.06.59.19 (version=TLS1_2 cipher=ECDHE-ECDSA-AES128-GCM-SHA256 bits=128/128); Fri, 26 Sep 2025 06:59:19 -0700 (PDT) X-Relaying-Domain: iol.unh.edu Date: Fri, 26 Sep 2025 06:59:19 -0700 (PDT) Message-ID: <68d69c37.050a0220.9f395.3ea0SMTPIN_ADDED_MISSING@mx.google.com> Received: from [172.21.0.4] (unknown [172.18.0.240]) by postal.iol.unh.edu (Postfix) with ESMTP id 33E7D6050A61; Fri, 26 Sep 2025 09:59:19 -0400 (EDT) Subject: |SUCCESS| pw156954 [PATCH] [v1] support multiple PF process flow tab From: dpdklab@iol.unh.edu To: Test Report Cc: dpdk-test-reports@iol.unh.edu, Stephen Hemminger In-Reply-To: <20250926010442.126854-1-zhang.tianhao2@zte.com.cn> References: <20250926010442.126854-1-zhang.tianhao2@zte.com.cn> Content-Type: text/plain X-BeenThere: test-report@dpdk.org X-Mailman-Version: 2.1.29 Precedence: list List-Id: automatic DPDK test reports List-Unsubscribe: , List-Archive: List-Post: List-Help: List-Subscribe: , Errors-To: test-report-bounces@dpdk.org Test-Label: iol-unit-arm64-testing Test-Status: SUCCESS http://dpdk.org/patch/156954 _Testing PASS_ Submitter: Tianhao Zhang Date: Friday, September 26 2025 01:04:42 DPDK git baseline: Repo:dpdk-next-net Branch: master CommitID:262824827107126b1c53943bce835f1dbbfd1150 156954 --> testing pass Upstream job id: Generic-Unit-Test-DPDK#375122 Test environment and result as below: +------------------------------+----------------+---------------------------+--------------+------------------------------+ | Environment | dpdk_unit_test | cryptodev_sw_zuc_autotest | lpm_autotest | cryptodev_sw_snow3g_autotest | +==============================+================+===========================+==============+==============================+ | CentOS Stream 9 | PASS | SKIPPED | SKIPPED | SKIPPED | +------------------------------+----------------+---------------------------+--------------+------------------------------+ | Fedora Linux 40 | PASS | SKIPPED | SKIPPED | SKIPPED | +------------------------------+----------------+---------------------------+--------------+------------------------------+ | Fedora Linux 41 | PASS | SKIPPED | SKIPPED | SKIPPED | +------------------------------+----------------+---------------------------+--------------+------------------------------+ | Debian GNU/Linux 12 | PASS | SKIPPED | SKIPPED | SKIPPED | +------------------------------+----------------+---------------------------+--------------+------------------------------+ | CentOS Stream 10 | PASS | SKIPPED | SKIPPED | SKIPPED | +------------------------------+----------------+---------------------------+--------------+------------------------------+ | Fedora Linux 42 | PASS | SKIPPED | SKIPPED | SKIPPED | +------------------------------+----------------+---------------------------+--------------+------------------------------+ | Ubuntu 20.04 | PASS | SKIPPED | PASS | SKIPPED | +------------------------------+----------------+---------------------------+--------------+------------------------------+ | Red Hat Enterprise Linux 9.5 | PASS | SKIPPED | SKIPPED | SKIPPED | +------------------------------+----------------+---------------------------+--------------+------------------------------+ | Ubuntu 22.04 | PASS | SKIPPED | SKIPPED | SKIPPED | +------------------------------+----------------+---------------------------+--------------+------------------------------+ | Ubuntu 24.04 | PASS | SKIPPED | SKIPPED | SKIPPED | +------------------------------+----------------+---------------------------+--------------+------------------------------+ | Debian 12 (arm) | SKIPPED | PASS | SKIPPED | PASS | +------------------------------+----------------+---------------------------+--------------+------------------------------+ CentOS Stream 9 Kernel: 5.4 Compiler: gcc gcc (GCC) 11.5.0 20240719 (Red Hat 11.5.0-11) Fedora Linux 40 Kernel: 5.4 Compiler: gcc gcc (GCC) 14.2.1 20240912 (Red Hat 14.2.1-3) Fedora Linux 41 Kernel: 5.4 Compiler: gcc gcc (GCC) 14.3.1 20250523 (Red Hat 14.3.1-1) Debian GNU/Linux 12 Kernel: 5.4 Compiler: gcc gcc (Debian 12.2.0-14+deb12u1) 12.2.0 CentOS Stream 10 Kernel: 5.4 Compiler: gcc gcc (GCC) 14.2.1 20250110 (Red Hat 14.2.1-8) Fedora Linux 42 Kernel: 5.4 Compiler: gcc gcc (GCC) 15.2.1 20250808 (Red Hat 15.2.1-1) Ubuntu 20.04 Kernel: 5.4 Compiler: gcc gcc (Ubuntu 9.4.0-1ubuntu1~20.04.2) 9.4.0 Red Hat Enterprise Linux 9.5 Kernel: 5.4 Compiler: gcc gcc (GCC) 11.5.0 20240719 (Red Hat 11.5.0-2) Ubuntu 22.04 Kernel: 5.4 Compiler: gcc gcc (Ubuntu 11.4.0-1ubuntu1~22.04) 11.4.0 Ubuntu 24.04 Kernel: 5.4 Compiler: gcc gcc (Ubuntu 13.3.0-6ubuntu2~24.04) 13.3.0 Debian 12 (arm) Kernel: Depends on container host Compiler: gcc (Debian 12.2.0-14) 12.2.0 To view detailed results, visit: https://lab.dpdk.org/results/dashboard/patchsets/34151/ UNH-IOL DPDK Community Lab To manage your email subscriptions, visit: https://lab.dpdk.org/results/dashboard/preferences/subscriptions/