From mboxrd@z Thu Jan 1 00:00:00 1970 Return-Path: Received: from mails.dpdk.org (mails.dpdk.org [217.70.189.124]) by inbox.dpdk.org (Postfix) with ESMTP id 0017B46F8A for ; Fri, 26 Sep 2025 16:02:02 +0200 (CEST) Received: from mails.dpdk.org (localhost [127.0.0.1]) by mails.dpdk.org (Postfix) with ESMTP id EAE1640664; Fri, 26 Sep 2025 16:02:02 +0200 (CEST) Received: from mail-pf1-f226.google.com (mail-pf1-f226.google.com [209.85.210.226]) by mails.dpdk.org (Postfix) with ESMTP id B1A4A40664 for ; Fri, 26 Sep 2025 16:02:01 +0200 (CEST) Received: by mail-pf1-f226.google.com with SMTP id d2e1a72fcca58-77e87003967so1213748b3a.1 for ; Fri, 26 Sep 2025 07:02:01 -0700 (PDT) DKIM-Signature: v=1; a=rsa-sha256; c=relaxed/relaxed; d=iol.unh.edu; s=unh-iol; t=1758895321; x=1759500121; darn=dpdk.org; h=references:in-reply-to:cc:to:from:subject:message-id:date:from:to :cc:subject:date:message-id:reply-to; bh=n2KYJBOukFtPBlnOB3H5XS7O3iz7MQLy8ISURDNtd/M=; b=T6TPKkL2tEQlJSEd8c9bEROKj89anUFrEDe3Tj9tWUPT7wO/2pkbD908m6dI7qk7pv qS2w8pQspMbYvKkro1sE7KO4cRmFsSTcJORT/LN0H2Eptxa3cuLddAviZfSrTCeV2iaQ 9pvBMjvEOTjlYT5a1jtc/TAuVxa/lp4WfqnoQ= X-Google-DKIM-Signature: v=1; a=rsa-sha256; c=relaxed/relaxed; d=1e100.net; s=20230601; t=1758895321; x=1759500121; h=references:in-reply-to:cc:to:from:subject:message-id:date :x-gm-message-state:from:to:cc:subject:date:message-id:reply-to; bh=n2KYJBOukFtPBlnOB3H5XS7O3iz7MQLy8ISURDNtd/M=; b=opyhdYQ7bDkBPKcoB/FpBRpAfqSE3ERzPePqyMStHCAruzaQ8ckzK5ZIx4A7Rqjg8s hdRNOjJSmYd4OkkDUA7FnCR4YcafQiyQLitTD+rcAgs6rYdNauUEh6Rx9lg9eoK5G4hL TtLY0i63W9zoqdjAuHxPFAVvIADcyMPQwaFA1BOofudRMvnAFwtKlRK3zYOuhZ7CtVyz puH+7TnBNV9hG3y+30aRowYNWJodCczlKSGVVXXqGhHE8UgjXdJ0SUhtc0Us1meNoh2z DKGHMz/5pDxUQNTqXCXbbxhMu4gJkXBwcKTI47+bny0w4/k+JuN2DLF4tSep9/gt2rpo j3zA== X-Gm-Message-State: AOJu0YxcBq4oKbMHPb6NbrQO1hlS2Tb8mvhgnCY1NUKgXtduPWOFEPdc iO/chxaHOSVUYFphk6ToIWYWSA6WmwU1g8GCGp2AISfGcuVdL/ZBP5ll8QVLhZiQha6fZDdGobC FH+dtwbkWDwsKEwvoMgS8Fwj3iozXq7voUFL0Z5bC1Jr+WvfRy6uYbzdg9fYl X-Gm-Gg: ASbGnct++m+g/0ZujB3AbBuDnXyXiF7fWNYhHfynvrxNh5wKDQV5cju0GbpIZ9If8jC u6qIm4AvN5saND1mCChkutK0Fmj0wqExjFrdeSOVy155C7VTXYNcV04Sj/+5ufl6l3N15on7Xe+ rGqgMJoKdEeLcWPyCpBPgOrZXN3JCm0mdP6C8ngTORb3UyI66urBBFMGngECdlz147Qec/Ef4Lt g2DLcWHz+gUX+p8WELD1YirYfyZdsYJVcLeURXBhgscpBHIirY3hsLpDu0isx1Hv/iaJVkS2uRI 7BlA0PS2xsyzGRau7Kn109e3ZrfKrytYPPOu/y7QmZzFNn5+NQ== X-Google-Smtp-Source: AGHT+IFXpruwMJT/xADkxEN32pDoqT7Wl5n72C5KV8HPb3NRsCorwdW5G73rhO4gPVZ34gF8UWY/pe9swHgp X-Received: by 2002:a05:6a00:2d06:b0:772:301a:fbb6 with SMTP id d2e1a72fcca58-780fcea2dc8mr7412837b3a.19.1758895320684; Fri, 26 Sep 2025 07:02:00 -0700 (PDT) Received: from postal.iol.unh.edu (postal.iol.unh.edu. [2606:4100:3880:1234::84]) by smtp-relay.gmail.com with ESMTPS id d2e1a72fcca58-78102134977sm294751b3a.0.2025.09.26.07.02.00 (version=TLS1_2 cipher=ECDHE-ECDSA-AES128-GCM-SHA256 bits=128/128); Fri, 26 Sep 2025 07:02:00 -0700 (PDT) X-Relaying-Domain: iol.unh.edu Date: Fri, 26 Sep 2025 07:02:00 -0700 (PDT) Message-ID: <68d69cd8.050a0220.1296fa.10b5SMTPIN_ADDED_MISSING@mx.google.com> Received: from [172.21.0.4] (unknown [172.18.0.240]) by postal.iol.unh.edu (Postfix) with ESMTP id D7AA26050A61; Fri, 26 Sep 2025 10:01:59 -0400 (EDT) Subject: |SUCCESS| pw156994 [PATCH] [v2] app/testpmd: use table ID for jump t From: dpdklab@iol.unh.edu To: Test Report Cc: dpdk-test-reports@iol.unh.edu, Stephen Hemminger In-Reply-To: <20250926123045.3944957-1-akozyrev@nvidia.com> References: <20250926123045.3944957-1-akozyrev@nvidia.com> Content-Type: text/plain X-BeenThere: test-report@dpdk.org X-Mailman-Version: 2.1.29 Precedence: list List-Id: automatic DPDK test reports List-Unsubscribe: , List-Archive: List-Post: List-Help: List-Subscribe: , Errors-To: test-report-bounces@dpdk.org Test-Label: iol-compile-amd64-testing Test-Status: SUCCESS http://dpdk.org/patch/156994 _Testing PASS_ Submitter: Alexander Kozyrev Date: Friday, September 26 2025 12:30:33 DPDK git baseline: Repo:dpdk-next-net Branch: master CommitID:0b58c147385ecd20ebb4e678934536a597902c28 156994 --> testing pass Upstream job id: Generic-DPDK-Compile-Meson#428966 Test environment and result as below: +-------------------------------+--------------------+-------------------+------------------+-------------------------+-------------------+----------------------+ | Environment | dpdk_meson_compile | dpdk_compile_spdk | dpdk_compile_ovs | dpdk_llvm_clang_compile | dpdk_msvc_compile | dpdk_mingw64_compile | +===============================+====================+===================+==================+=========================+===================+======================+ | CentOS Stream 9 | PASS | PASS | SKIPPED | SKIPPED | SKIPPED | SKIPPED | +-------------------------------+--------------------+-------------------+------------------+-------------------------+-------------------+----------------------+ | Fedora Linux 42 | PASS | PASS | PASS | SKIPPED | SKIPPED | SKIPPED | +-------------------------------+--------------------+-------------------+------------------+-------------------------+-------------------+----------------------+ | CentOS Stream 10 | PASS | SKIPPED | SKIPPED | SKIPPED | SKIPPED | SKIPPED | +-------------------------------+--------------------+-------------------+------------------+-------------------------+-------------------+----------------------+ | Debian GNU/Linux 12 | PASS | PASS | SKIPPED | SKIPPED | SKIPPED | SKIPPED | +-------------------------------+--------------------+-------------------+------------------+-------------------------+-------------------+----------------------+ | Red Hat Enterprise Linux 8.10 | PASS | SKIPPED | SKIPPED | SKIPPED | SKIPPED | SKIPPED | +-------------------------------+--------------------+-------------------+------------------+-------------------------+-------------------+----------------------+ | openSUSE Leap 15.6 | PASS | SKIPPED | SKIPPED | SKIPPED | SKIPPED | SKIPPED | +-------------------------------+--------------------+-------------------+------------------+-------------------------+-------------------+----------------------+ | Ubuntu 20.04 | PASS | SKIPPED | SKIPPED | SKIPPED | SKIPPED | SKIPPED | +-------------------------------+--------------------+-------------------+------------------+-------------------------+-------------------+----------------------+ | Red Hat Enterprise Linux 9.5 | PASS | SKIPPED | SKIPPED | SKIPPED | SKIPPED | SKIPPED | +-------------------------------+--------------------+-------------------+------------------+-------------------------+-------------------+----------------------+ | Ubuntu 22.04 | PASS | PASS | SKIPPED | SKIPPED | SKIPPED | SKIPPED | +-------------------------------+--------------------+-------------------+------------------+-------------------------+-------------------+----------------------+ | FreeBSD 14.2 | PASS | SKIPPED | SKIPPED | SKIPPED | SKIPPED | SKIPPED | +-------------------------------+--------------------+-------------------+------------------+-------------------------+-------------------+----------------------+ | Ubuntu 24.04 | PASS | PASS | PASS | SKIPPED | SKIPPED | SKIPPED | +-------------------------------+--------------------+-------------------+------------------+-------------------------+-------------------+----------------------+ | Alpine Linux 3.22.0 | PASS | SKIPPED | SKIPPED | SKIPPED | SKIPPED | SKIPPED | +-------------------------------+--------------------+-------------------+------------------+-------------------------+-------------------+----------------------+ | Windows Server 2022 | SKIPPED | SKIPPED | SKIPPED | PASS | PASS | PASS | +-------------------------------+--------------------+-------------------+------------------+-------------------------+-------------------+----------------------+ CentOS Stream 9 Kernel: 5.15 Compiler: gcc gcc (GCC) 11.5.0 20240719 (Red Hat 11.5.0-11) Fedora Linux 42 Kernel: 5.15 Compiler: clang gcc (GCC) 15.2.1 20250808 (Red Hat 15.2.1-1) CentOS Stream 10 Kernel: 5.15 Compiler: gcc gcc (GCC) 14.2.1 20250110 (Red Hat 14.2.1-8) Debian GNU/Linux 12 Kernel: 5.15 Compiler: gcc gcc (Debian 12.2.0-14+deb12u1) 12.2.0 Red Hat Enterprise Linux 8.10 Kernel: 5.15 Compiler: gcc gcc (GCC) 8.5.0 20210514 (Red Hat 8.5.0-22) openSUSE Leap 15.6 Kernel: 5.15 Compiler: gcc gcc (SUSE Linux) 7.5.0 Ubuntu 20.04 Kernel: 4.19 Compiler: gcc gcc (Ubuntu 9.4.0-1ubuntu1~20.04.2) 9.4.0 Red Hat Enterprise Linux 9.5 Kernel: 5.15 Compiler: gcc gcc (GCC) 11.5.0 20240719 (Red Hat 11.5.0-2) Ubuntu 22.04 Kernel: 5.15 Compiler: gcc gcc (Ubuntu 11.4.0-1ubuntu1~22.04) 11.4.0 FreeBSD 14.2 Kernel: 14.2-RELEASE Compiler: clang 18.1.6 Ubuntu 24.04 Kernel: 5.15 Compiler: gcc gcc (Ubuntu 13.3.0-6ubuntu2~24.04) 13.3.0 Alpine Linux 3.22.0 Kernel: 5.15 Compiler: gcc gcc (Alpine 14.2.0) 14.2.0 Windows Server 2022 Kernel: 10.0.20348.2031 Compiler: clang 15.0.7, gcc 14.1.0 (MinGW), and MSVC VS 19.39.33521 To view detailed results, visit: https://lab.dpdk.org/results/dashboard/patchsets/34157/ UNH-IOL DPDK Community Lab To manage your email subscriptions, visit: https://lab.dpdk.org/results/dashboard/preferences/subscriptions/