From mboxrd@z Thu Jan 1 00:00:00 1970 Return-Path: Received: from mails.dpdk.org (mails.dpdk.org [217.70.189.124]) by inbox.dpdk.org (Postfix) with ESMTP id C5E7046F8A for ; Fri, 26 Sep 2025 16:09:12 +0200 (CEST) Received: from mails.dpdk.org (localhost [127.0.0.1]) by mails.dpdk.org (Postfix) with ESMTP id 991D440664; Fri, 26 Sep 2025 16:09:12 +0200 (CEST) Received: from mail-qt1-f226.google.com (mail-qt1-f226.google.com [209.85.160.226]) by mails.dpdk.org (Postfix) with ESMTP id 2C7F640664 for ; Fri, 26 Sep 2025 16:09:11 +0200 (CEST) Received: by mail-qt1-f226.google.com with SMTP id d75a77b69052e-4ca7a71adcbso19948461cf.3 for ; Fri, 26 Sep 2025 07:09:11 -0700 (PDT) DKIM-Signature: v=1; a=rsa-sha256; c=relaxed/relaxed; d=iol.unh.edu; s=unh-iol; t=1758895750; x=1759500550; darn=dpdk.org; h=cc:to:from:subject:message-id:date:from:to:cc:subject:date :message-id:reply-to; bh=8/1j62kORWri3NETZ7fU9cdmXAP0LioPXbIi53JsVRI=; b=LIqMSG1JGUXqqQwQaO3oB//xo8WyfabeeUvXor1Eau4ML7uMmtshAy9lmfO/ym4oHg gyeljUCsnNY+roGH6Zqaa1HMDFKlSymw3eYIQoaPcXgMDqhEvjSkHv5BCHWiRffKRdTt qb+Bt0KNwwz4zjd0I8YlfsNlMaLJfWzc/CspQ= X-Google-DKIM-Signature: v=1; a=rsa-sha256; c=relaxed/relaxed; d=1e100.net; s=20230601; t=1758895750; x=1759500550; h=cc:to:from:subject:message-id:date:x-gm-message-state:from:to:cc :subject:date:message-id:reply-to; bh=8/1j62kORWri3NETZ7fU9cdmXAP0LioPXbIi53JsVRI=; b=vP0Ik0FmQk/oNL7fsvZRou7y2H0i4kwUnM8jdkDFxGhBphAHgtZavsfuVgDWkiHLpn Nj6OGRj2trtHUWM//h0Lnwz2i+7FNMoT1hjVAn5BD3u1JfAF5XRLDZbsypJeq1OFLJzP C6+Drr95kpdG3kmyhLeSVGTR8M4XUNiJL2VXPXsYurcGupersA5IGfgjfArC2pTwOvla K4gy9hgon5Nvpg+vSTlnymbAjlBfqsSuAOtX24S+1tdWahGT3e2i4MtlM2zI6wxhooQc DkZYLzKn1G/UiTV4tBUrH/MHDLVYrlgCPrmgP7IsagVw922d6NHTMn1nxP0rtGwTk/5i d7Lw== X-Gm-Message-State: AOJu0Ywy8G6WnwbgOyHcTq1zillf5+F24wiKmD/tJJidFZPXh+G+bihx 5tvexp1SXQ/wBB1n7hY1aUWohMd0u/RexudOtc9aUOTdyv3yAkpKz7A2pQ1G/uLBrrdrHxQWwun efrGhCQXx4S00zSWHtkZiBtRuXC5p5ZBfxCTlzDhQBWKWWG467XaTYePw87ry X-Gm-Gg: ASbGncuEdYNqLAJnqZXzf7tsCQuBF365p+T0ekRDvBt0k8378xZvFzAFYO3/fsNpqcc fm/w2qU8AeYsabwliD/9bK0Yxn/Pd8gcwrcQL8vE6K/IyV1769IUaInlxY0l3vODbKHNHUGSuh8 G0blPD+2aJK0xQNehAjZfd9HNIeYt7JsNpYiuC/l7FQXsf61jzSA677MLnXCmGFK/yX4P8v2IK+ hDZC14RxkO7pXfJStdf7Dp7SwE2Vtj5+ya9zea62yLfkdolykMnUxC1a2a0AgYrWK0AUTBNgymY /Dp8XJkPdTDuMzJ5MtX9FPgP3lbQt8TW06Il+Dj3Fw8JUAk1Jg== X-Google-Smtp-Source: AGHT+IGx/vaiHh/Ks2Yy9BEallfVXXtmXJLTdFwCWVis3HBJJPts2v4LBuK76dNqGAkFlfCP1m7D1R0hGxFo X-Received: by 2002:ac8:7d8e:0:b0:4d0:7fc9:5c6 with SMTP id d75a77b69052e-4da4b42cbfcmr95351551cf.50.1758895750355; Fri, 26 Sep 2025 07:09:10 -0700 (PDT) Received: from postal.iol.unh.edu (postal.iol.unh.edu. [2606:4100:3880:1234::84]) by smtp-relay.gmail.com with ESMTPS id d75a77b69052e-4db09b27a54sm1419971cf.6.2025.09.26.07.09.10 (version=TLS1_2 cipher=ECDHE-ECDSA-AES128-GCM-SHA256 bits=128/128); Fri, 26 Sep 2025 07:09:10 -0700 (PDT) X-Relaying-Domain: iol.unh.edu Date: Fri, 26 Sep 2025 07:09:10 -0700 (PDT) Message-ID: <68d69e86.050a0220.171038.829dSMTPIN_ADDED_MISSING@mx.google.com> Received: from [172.21.0.2] (unknown [172.18.0.240]) by postal.iol.unh.edu (Postfix) with ESMTP id DB3926050A61; Fri, 26 Sep 2025 10:09:09 -0400 (EDT) Subject: |SUCCESS| [GIT MASTER] ab1325719d538b7f3527bb603f5e7d3f46a5eb53 From: dpdklab@iol.unh.edu To: Test Report Cc: dpdk-test-reports@iol.unh.edu, Bruce Richardson Content-Type: text/plain X-BeenThere: test-report@dpdk.org X-Mailman-Version: 2.1.29 Precedence: list List-Id: automatic DPDK test reports List-Unsubscribe: , List-Archive: List-Post: List-Help: List-Subscribe: , Errors-To: test-report-bounces@dpdk.org _Testing PASS_ Branch: dpdk-next-net-intel ab1325719d538b7f3527bb603f5e7d3f46a5eb53 --> testing pass Upstream job id: Generic-DPDK-Compile-Meson#428953 Test environment and result as below: +------------------------------+--------------------+ | Environment | dpdk_meson_compile | +==============================+====================+ | Red Hat Enterprise Linux 9.5 | PASS | +------------------------------+--------------------+ | Debian GNU/Linux 12 | PASS | +------------------------------+--------------------+ | Ubuntu 20.04 | PASS | +------------------------------+--------------------+ | Fedora Linux 42 | PASS | +------------------------------+--------------------+ | Ubuntu 22.04 | PASS | +------------------------------+--------------------+ | CentOS Stream 9 | PASS | +------------------------------+--------------------+ | CentOS Stream 10 | PASS | +------------------------------+--------------------+ | Ubuntu 24.04 | PASS | +------------------------------+--------------------+ Red Hat Enterprise Linux 9.5 Kernel: 5.4 Compiler: gcc gcc (GCC) 11.5.0 20240719 (Red Hat 11.5.0-2) Debian GNU/Linux 12 Kernel: 5.4 Compiler: gcc gcc (Debian 12.2.0-14+deb12u1) 12.2.0 Ubuntu 20.04 Kernel: 5.15 Compiler: aarch64-linux-gnu-gcc gcc (Ubuntu 9.4.0-1ubuntu1~20.04.2) 9.4.0 Fedora Linux 42 Kernel: 5.4 Compiler: clang gcc (GCC) 15.2.1 20250808 (Red Hat 15.2.1-1) Ubuntu 22.04 Kernel: 5.4 Compiler: gcc gcc (Ubuntu 11.4.0-1ubuntu1~22.04) 11.4.0 CentOS Stream 9 Kernel: 5.4 Compiler: gcc gcc (GCC) 11.5.0 20240719 (Red Hat 11.5.0-11) CentOS Stream 10 Kernel: 5.4 Compiler: gcc gcc (GCC) 14.2.1 20250110 (Red Hat 14.2.1-8) Ubuntu 24.04 Kernel: 5.4 Compiler: gcc gcc (Ubuntu 13.3.0-6ubuntu2~24.04) 13.3.0 To view detailed results, visit: https://lab.dpdk.org/results/dashboard/tarballs/35016/ UNH-IOL DPDK Community Lab To manage your email subscriptions, visit: https://lab.dpdk.org/results/dashboard/preferences/subscriptions/