From mboxrd@z Thu Jan 1 00:00:00 1970 Return-Path: Received: from mails.dpdk.org (mails.dpdk.org [217.70.189.124]) by inbox.dpdk.org (Postfix) with ESMTP id 4DAC846F8A for ; Fri, 26 Sep 2025 16:15:14 +0200 (CEST) Received: from mails.dpdk.org (localhost [127.0.0.1]) by mails.dpdk.org (Postfix) with ESMTP id 30DEE40664; Fri, 26 Sep 2025 16:15:14 +0200 (CEST) Received: from mail-pl1-f228.google.com (mail-pl1-f228.google.com [209.85.214.228]) by mails.dpdk.org (Postfix) with ESMTP id BAB9740664 for ; Fri, 26 Sep 2025 16:15:12 +0200 (CEST) Received: by mail-pl1-f228.google.com with SMTP id d9443c01a7336-269639879c3so21398585ad.2 for ; Fri, 26 Sep 2025 07:15:12 -0700 (PDT) DKIM-Signature: v=1; a=rsa-sha256; c=relaxed/relaxed; d=iol.unh.edu; s=unh-iol; t=1758896112; x=1759500912; darn=dpdk.org; h=references:in-reply-to:cc:to:from:subject:message-id:date:from:to :cc:subject:date:message-id:reply-to; bh=I8mKaN0v43G7odqgvaIiN4fQ5CsZU/GbTFedhK8GTXc=; b=QQkUFzPC7j5aWuZ8KvsUWNVGootmU5tYlDkdsrGJn07x4CWJj9ZsjUtd+NCioP2Hmi 3OJmmMQswHfE3l6DuiXumeKBdYQs9VnJkd6Cx6X54xrEMviEtn0HAUQJozv7yVej0YaD KTNo4ENY24HDK0OWYKbKqhYO5sVpe8Nuwd9AQ= X-Google-DKIM-Signature: v=1; a=rsa-sha256; c=relaxed/relaxed; d=1e100.net; s=20230601; t=1758896112; x=1759500912; h=references:in-reply-to:cc:to:from:subject:message-id:date :x-gm-message-state:from:to:cc:subject:date:message-id:reply-to; bh=I8mKaN0v43G7odqgvaIiN4fQ5CsZU/GbTFedhK8GTXc=; b=CVxvaBUBmGwgbkCWvn5pDLoZfLVW83vMJwApgiWaVchAsaOnQx1taEGKIv8NEUkzpP tiSq3gSpZS9A4OgHHHYQzYeMjeQ6M90x5E33OGPYdWvpaMHRpaGDJ5hueMZu78lvKLsm JCT8bLYTWkoYj39lYWNHBWnxT5ycXysTG3Prs7VtmKAhYtZsnSMNGMbs0Bhel5y/SKzU 5DIJMOPrJxbivdBHfIcb62h8VeRv0mlrw7GkRN92dHmy10xs18eoizTgi85zieLkaEFb sxDcNv33b+y9c2tPIzCKUoCIfPkB47TZONNKg6pp4/4wQ7ZXdWzrY8enARX1vr8HpWNR 2pZg== X-Gm-Message-State: AOJu0YxdtIwC34wzmzwY1ux/adlcUMMOwBFG5DiAUBkFykLDh71ZrohH laPXf/5i+rLalegiIsiIf/pVWIU1ednM0hkLr681JGwoOqOFBgUHNRTZqxTfF4fzJCkC8ErOR2i QWplKs455rO3MHWXbvpmEiDzv0yGca3xZ7CRrRP5E2Fp1 X-Gm-Gg: ASbGncsKADczQb7VRnEFQN6tXqtI1r0ZorXoI2TUt/Hj9g2oMZFSgfhLRZ15PE1/SfJ +tbpP6JBppd65k3mdscQ0vXA3zG6RUpAFk9PNMUtk6Nl7RoCgA5jIJ+LPghOquyHqWbajQhdT0J Q4FEkMS8xQNMPY53tfiNFOqGS4h/JQMpyulj9F0Wpjvj9j+joT0FzF67YMI+RwMoKgPchEleA9M BZu+kiwtIEDvVbzYlhBKaFLGgMNy4fCB3mGR1C7OIYyHVNN8BrwPWYBH7ubk4H2WeootDDiSPs1 Caz8iAiHe1g3TeU0IdSDgrFjs7AhvpAVobOJQyjm6egpt8qa0/5QhmaEhYvKYubE1C15I4zg X-Google-Smtp-Source: AGHT+IEWKPDK4+kWSlOU2TBj9SD8xGAx27156VOatYEv9lYVbhSRXiRLSgtJFQKmBZDySvuOHlAOCdyDpVMQ X-Received: by 2002:a17:903:b8f:b0:267:bd8d:1ca with SMTP id d9443c01a7336-27ed4a6e8dbmr100168955ad.43.1758896111613; Fri, 26 Sep 2025 07:15:11 -0700 (PDT) Received: from postal.iol.unh.edu (postal.iol.unh.edu. [132.177.123.84]) by smtp-relay.gmail.com with ESMTPS id d9443c01a7336-27ed66e6554sm3729205ad.28.2025.09.26.07.15.11 (version=TLS1_2 cipher=ECDHE-ECDSA-AES128-GCM-SHA256 bits=128/128); Fri, 26 Sep 2025 07:15:11 -0700 (PDT) X-Relaying-Domain: iol.unh.edu Date: Fri, 26 Sep 2025 07:15:11 -0700 (PDT) Message-ID: <68d69fef.170a0220.34ba59.6855SMTPIN_ADDED_MISSING@mx.google.com> Received: from [172.21.0.2] (unknown [172.18.0.240]) by postal.iol.unh.edu (Postfix) with ESMTP id 1AD3C604D420; Fri, 26 Sep 2025 10:15:11 -0400 (EDT) Subject: |SUCCESS| pw156995-157003 [PATCH] [v5,9/9] power: separate public an From: dpdklab@iol.unh.edu To: Test Report Cc: dpdk-test-reports@iol.unh.edu In-Reply-To: <20250926124103.750844-10-david.marchand@redhat.com> References: <20250926124103.750844-10-david.marchand@redhat.com> Content-Type: text/plain X-BeenThere: test-report@dpdk.org X-Mailman-Version: 2.1.29 Precedence: list List-Id: automatic DPDK test reports List-Unsubscribe: , List-Archive: List-Post: List-Help: List-Subscribe: , Errors-To: test-report-bounces@dpdk.org Test-Label: iol-compile-amd64-testing Test-Status: SUCCESS http://dpdk.org/patch/157003 _Testing PASS_ Submitter: David Marchand Date: Friday, September 26 2025 12:41:02 DPDK git baseline: Repo:dpdk Branch: master CommitID:441861b4a30e6b6b6aca07367dd487657b1f50e8 156995-157003 --> testing pass Upstream job id: Windows-Compile-DPDK-Native#31242 Test environment and result as below: +-------------------------------+--------------------+-------------------+------------------+-------------------+-------------------------+----------------------+ | Environment | dpdk_meson_compile | dpdk_compile_spdk | dpdk_compile_ovs | dpdk_msvc_compile | dpdk_llvm_clang_compile | dpdk_mingw64_compile | +===============================+====================+===================+==================+===================+=========================+======================+ | CentOS Stream 9 | PASS | PASS | SKIPPED | SKIPPED | SKIPPED | SKIPPED | +-------------------------------+--------------------+-------------------+------------------+-------------------+-------------------------+----------------------+ | CentOS Stream 10 | PASS | SKIPPED | SKIPPED | SKIPPED | SKIPPED | SKIPPED | +-------------------------------+--------------------+-------------------+------------------+-------------------+-------------------------+----------------------+ | Fedora Linux 42 | PASS | PASS | PASS | SKIPPED | SKIPPED | SKIPPED | +-------------------------------+--------------------+-------------------+------------------+-------------------+-------------------------+----------------------+ | Ubuntu 20.04 | PASS | SKIPPED | SKIPPED | SKIPPED | SKIPPED | SKIPPED | +-------------------------------+--------------------+-------------------+------------------+-------------------+-------------------------+----------------------+ | Debian GNU/Linux 12 | PASS | PASS | SKIPPED | SKIPPED | SKIPPED | SKIPPED | +-------------------------------+--------------------+-------------------+------------------+-------------------+-------------------------+----------------------+ | openSUSE Leap 15.6 | PASS | SKIPPED | SKIPPED | SKIPPED | SKIPPED | SKIPPED | +-------------------------------+--------------------+-------------------+------------------+-------------------+-------------------------+----------------------+ | Red Hat Enterprise Linux 8.10 | PASS | SKIPPED | SKIPPED | SKIPPED | SKIPPED | SKIPPED | +-------------------------------+--------------------+-------------------+------------------+-------------------+-------------------------+----------------------+ | FreeBSD 14.2 | PASS | SKIPPED | SKIPPED | SKIPPED | SKIPPED | SKIPPED | +-------------------------------+--------------------+-------------------+------------------+-------------------+-------------------------+----------------------+ | Red Hat Enterprise Linux 9.5 | PASS | SKIPPED | SKIPPED | SKIPPED | SKIPPED | SKIPPED | +-------------------------------+--------------------+-------------------+------------------+-------------------+-------------------------+----------------------+ | Ubuntu 22.04 | PASS | PASS | SKIPPED | SKIPPED | SKIPPED | SKIPPED | +-------------------------------+--------------------+-------------------+------------------+-------------------+-------------------------+----------------------+ | Ubuntu 24.04 | PASS | PASS | PASS | SKIPPED | SKIPPED | SKIPPED | +-------------------------------+--------------------+-------------------+------------------+-------------------+-------------------------+----------------------+ | Alpine Linux 3.22.0 | PASS | SKIPPED | SKIPPED | SKIPPED | SKIPPED | SKIPPED | +-------------------------------+--------------------+-------------------+------------------+-------------------+-------------------------+----------------------+ | Windows Server 2022 | SKIPPED | SKIPPED | SKIPPED | PASS | PASS | PASS | +-------------------------------+--------------------+-------------------+------------------+-------------------+-------------------------+----------------------+ CentOS Stream 9 Kernel: 5.15 Compiler: gcc gcc (GCC) 11.5.0 20240719 (Red Hat 11.5.0-11) CentOS Stream 10 Kernel: 5.15 Compiler: gcc gcc (GCC) 14.2.1 20250110 (Red Hat 14.2.1-8) Fedora Linux 42 Kernel: 5.15 Compiler: clang gcc (GCC) 15.2.1 20250808 (Red Hat 15.2.1-1) Ubuntu 20.04 Kernel: 4.19 Compiler: gcc gcc (Ubuntu 9.4.0-1ubuntu1~20.04.2) 9.4.0 Debian GNU/Linux 12 Kernel: 5.15 Compiler: gcc gcc (Debian 12.2.0-14+deb12u1) 12.2.0 openSUSE Leap 15.6 Kernel: 5.15 Compiler: gcc gcc (SUSE Linux) 7.5.0 Red Hat Enterprise Linux 8.10 Kernel: 5.15 Compiler: gcc gcc (GCC) 8.5.0 20210514 (Red Hat 8.5.0-22) FreeBSD 14.2 Kernel: 14.2-RELEASE Compiler: clang 18.1.6 Red Hat Enterprise Linux 9.5 Kernel: 5.15 Compiler: gcc gcc (GCC) 11.5.0 20240719 (Red Hat 11.5.0-2) Ubuntu 22.04 Kernel: 5.15 Compiler: gcc gcc (Ubuntu 11.4.0-1ubuntu1~22.04) 11.4.0 Ubuntu 24.04 Kernel: 5.15 Compiler: gcc gcc (Ubuntu 13.3.0-6ubuntu2~24.04) 13.3.0 Alpine Linux 3.22.0 Kernel: 5.15 Compiler: gcc gcc (Alpine 14.2.0) 14.2.0 Windows Server 2022 Kernel: 10.0.20348.2031 Compiler: clang 15.0.7, gcc 14.1.0 (MinGW), and MSVC VS 19.39.33521 To view detailed results, visit: https://lab.dpdk.org/results/dashboard/patchsets/34158/ UNH-IOL DPDK Community Lab To manage your email subscriptions, visit: https://lab.dpdk.org/results/dashboard/preferences/subscriptions/