From mboxrd@z Thu Jan 1 00:00:00 1970 Return-Path: Received: from mails.dpdk.org (mails.dpdk.org [217.70.189.124]) by inbox.dpdk.org (Postfix) with ESMTP id A0FED46F8A for ; Fri, 26 Sep 2025 16:18:27 +0200 (CEST) Received: from mails.dpdk.org (localhost [127.0.0.1]) by mails.dpdk.org (Postfix) with ESMTP id 9273040667; Fri, 26 Sep 2025 16:18:27 +0200 (CEST) Received: from mail-yw1-f228.google.com (mail-yw1-f228.google.com [209.85.128.228]) by mails.dpdk.org (Postfix) with ESMTP id 57F7B40667 for ; Fri, 26 Sep 2025 16:18:26 +0200 (CEST) Received: by mail-yw1-f228.google.com with SMTP id 00721157ae682-7501c24a731so21774517b3.3 for ; Fri, 26 Sep 2025 07:18:26 -0700 (PDT) DKIM-Signature: v=1; a=rsa-sha256; c=relaxed/relaxed; d=iol.unh.edu; s=unh-iol; t=1758896305; x=1759501105; darn=dpdk.org; h=references:in-reply-to:cc:to:from:subject:message-id:date:from:to :cc:subject:date:message-id:reply-to; bh=oVmDbBwhiWvkzo7GXmzV1hmigRxrdJyvn6QOOMWSsoM=; b=iyPhGr0DfiX2V/ujqrlznyqikDwOXKxFM7I4PyGQFc5SaqULk6vIEEsli/5iKxskqb LuOICcdQcci60y3XmY0EotM8ob+eh4as/rrt/Ua9DN0mRcGvRm1F3VK6plOjygOS7DOE y7AXamNcp0CsbOi5kRBXMO2KrYpcblmQRc+vU= X-Google-DKIM-Signature: v=1; a=rsa-sha256; c=relaxed/relaxed; d=1e100.net; s=20230601; t=1758896305; x=1759501105; h=references:in-reply-to:cc:to:from:subject:message-id:date :x-gm-message-state:from:to:cc:subject:date:message-id:reply-to; bh=oVmDbBwhiWvkzo7GXmzV1hmigRxrdJyvn6QOOMWSsoM=; b=KHWdC14KQfXctUGIeH6ZCG9yta2noRAzmEq7gvEs3K7jvO8wH8+761nK4VB8XYlOnp wYI+XGdo3DIhMSKPQa5oKbUPBnHrqIfY5lRBsSzEUfB2RWTh45+4IMzi4wsZQH/7V4Rm j5ZWFrCjXvHOh4IZF6wNu78zNbo198BwGKZAMBkUsRbX20fogbczyJ5BtSA/VW/vw/3S cMZey8ubo28QK1A20JDcJsz7/zueoGqO1qQn3oRBMVTUM0HhKimyJTmQwaVLtSocJTFQ JfjlzqnyiWG55Ua3Pu+KwxqqFCEFt/dcjMtkX4y/o3B0JfBe1UY5BWZGr5cHGinL+Rsa 7IaQ== X-Gm-Message-State: AOJu0Yxz8A6XQGnUTSGgZTlAxnGk6C7jMSSZp6qzQSfimJ8ByfYfGVQl zRRHS9Rl3WRV1/icrqIer/FL/A8lLIJLkels34kxjlvVCQVcg3pGUvQRXtA8z/tNa7sDjGOBKfL M/dVIQERe3KX9E6GVV/+SQrcwaD2XFgXC4zsn+ZsgqDsJ X-Gm-Gg: ASbGnculxdegYHQv04wSnKmZ4f3ath6TuVtgdpHaEph+YoS/PpHDqs4TJA3ZtzJx58c TB60IJoboEFWRW8YhugHoX89ij8kZ82wwy1YjHj8dsSgSBc29UyXwNmNzga9T2wvcn4U0kQqjM1 EH1uCZfTM+jl4m+E7KwPwZtsypVUW7IBPUpMvUY/F1DGRYWuW60GIPdy/JfIn8bndPshsJI9wvU nGwVss+u7eKZlWkvJXtyd+c091B+AIxXYa7Cd8VI+nqBaNwlZ5l2ZajLm5e8FjUM/92QSl52fx0 C5ki3rAxjeBnONFqXNIOdo8D76Ad7Bs3DUoC7U4TL2YZt1WJxhXw3EHeUdqSsYtynnl1QBPd X-Google-Smtp-Source: AGHT+IH8VuXcHsMiU7gcURa9GGGg4z8yKyLL+xC7LTGgy/6IIa/zvxuP7LErqsmcpOzHZH197jla5iNA+fKh X-Received: by 2002:a05:690c:8f:b0:746:e6a3:1f6d with SMTP id 00721157ae682-76404671152mr73175337b3.43.1758896305352; Fri, 26 Sep 2025 07:18:25 -0700 (PDT) Received: from postal.iol.unh.edu (postal.iol.unh.edu. [132.177.123.84]) by smtp-relay.gmail.com with ESMTPS id 956f58d0204a3-6361e8f7895sm221615d50.9.2025.09.26.07.18.25 (version=TLS1_2 cipher=ECDHE-ECDSA-AES128-GCM-SHA256 bits=128/128); Fri, 26 Sep 2025 07:18:25 -0700 (PDT) X-Relaying-Domain: iol.unh.edu Date: Fri, 26 Sep 2025 07:18:25 -0700 (PDT) Message-ID: <68d6a0b1.050a0220.3a30ac.ca6cSMTPIN_ADDED_MISSING@mx.google.com> Received: from [172.21.0.2] (unknown [172.18.0.240]) by postal.iol.unh.edu (Postfix) with ESMTP id 0C417604D420; Fri, 26 Sep 2025 10:18:25 -0400 (EDT) Subject: |SUCCESS| pw156995-157003 [PATCH] [v5,9/9] power: separate public an From: dpdklab@iol.unh.edu To: Test Report Cc: dpdk-test-reports@iol.unh.edu In-Reply-To: <20250926124103.750844-10-david.marchand@redhat.com> References: <20250926124103.750844-10-david.marchand@redhat.com> Content-Type: text/plain X-BeenThere: test-report@dpdk.org X-Mailman-Version: 2.1.29 Precedence: list List-Id: automatic DPDK test reports List-Unsubscribe: , List-Archive: List-Post: List-Help: List-Subscribe: , Errors-To: test-report-bounces@dpdk.org Test-Label: iol-unit-amd64-testing Test-Status: SUCCESS http://dpdk.org/patch/157003 _Testing PASS_ Submitter: David Marchand Date: Friday, September 26 2025 12:41:02 DPDK git baseline: Repo:dpdk Branch: master CommitID:441861b4a30e6b6b6aca07367dd487657b1f50e8 156995-157003 --> testing pass Upstream job id: Generic-VM-Unit-Test-DPDK#31411 Test environment and result as below: +-------------------------------+----------------+ | Environment | dpdk_unit_test | +===============================+================+ | CentOS Stream 9 | PASS | +-------------------------------+----------------+ | CentOS Stream 10 | PASS | +-------------------------------+----------------+ | Debian GNU/Linux 12 | PASS | +-------------------------------+----------------+ | Fedora Linux 40 | PASS | +-------------------------------+----------------+ | Fedora Linux 41 | PASS | +-------------------------------+----------------+ | Fedora Linux 42 | PASS | +-------------------------------+----------------+ | Red Hat Enterprise Linux 9.5 | PASS | +-------------------------------+----------------+ | Ubuntu 20.04 | PASS | +-------------------------------+----------------+ | Red Hat Enterprise Linux 8.10 | PASS | +-------------------------------+----------------+ | Ubuntu 24.04 | PASS | +-------------------------------+----------------+ | Ubuntu 22.04 | PASS | +-------------------------------+----------------+ | Windows Server 2022 | PASS | +-------------------------------+----------------+ CentOS Stream 9 Kernel: 5.15 Compiler: gcc gcc (GCC) 11.5.0 20240719 (Red Hat 11.5.0-11) CentOS Stream 10 Kernel: 5.15 Compiler: gcc gcc (GCC) 14.2.1 20250110 (Red Hat 14.2.1-8) Debian GNU/Linux 12 Kernel: 5.15 Compiler: gcc gcc (Debian 12.2.0-14+deb12u1) 12.2.0 Fedora Linux 40 Kernel: 5.15 Compiler: gcc gcc (GCC) 14.2.1 20240912 (Red Hat 14.2.1-3) Fedora Linux 41 Kernel: 5.15 Compiler: gcc gcc (GCC) 14.3.1 20250523 (Red Hat 14.3.1-1) Fedora Linux 42 Kernel: 5.15 Compiler: gcc gcc (GCC) 15.2.1 20250808 (Red Hat 15.2.1-1) Red Hat Enterprise Linux 9.5 Kernel: 5.15 Compiler: gcc gcc (GCC) 11.5.0 20240719 (Red Hat 11.5.0-2) Ubuntu 20.04 Kernel: 5.15 Compiler: gcc gcc (Ubuntu 9.4.0-1ubuntu1~20.04.2) 9.4.0 Red Hat Enterprise Linux 8.10 Kernel: 5.15 Compiler: gcc gcc (GCC) 8.5.0 20210514 (Red Hat 8.5.0-22) Ubuntu 24.04 Kernel: 5.15 Compiler: gcc gcc (Ubuntu 13.3.0-6ubuntu2~24.04) 13.3.0 Ubuntu 22.04 Kernel: 5.15 Compiler: gcc gcc (Ubuntu 11.4.0-1ubuntu1~22.04) 11.4.0 Windows Server 2022 Kernel: 10.0.20348.2031 Compiler: clang 15.0.7, gcc 14.1.0 (MinGW), and MSVC VS 19.39.33521 To view detailed results, visit: https://lab.dpdk.org/results/dashboard/patchsets/34158/ UNH-IOL DPDK Community Lab To manage your email subscriptions, visit: https://lab.dpdk.org/results/dashboard/preferences/subscriptions/