From mboxrd@z Thu Jan 1 00:00:00 1970 Return-Path: Received: from mails.dpdk.org (mails.dpdk.org [217.70.189.124]) by inbox.dpdk.org (Postfix) with ESMTP id B159846F8C for ; Fri, 26 Sep 2025 20:04:33 +0200 (CEST) Received: from mails.dpdk.org (localhost [127.0.0.1]) by mails.dpdk.org (Postfix) with ESMTP id 9279A40262; Fri, 26 Sep 2025 20:04:33 +0200 (CEST) Received: from mail-il1-f226.google.com (mail-il1-f226.google.com [209.85.166.226]) by mails.dpdk.org (Postfix) with ESMTP id B804E40262 for ; Fri, 26 Sep 2025 20:04:32 +0200 (CEST) Received: by mail-il1-f226.google.com with SMTP id e9e14a558f8ab-4278a8ecf9fso4235135ab.0 for ; Fri, 26 Sep 2025 11:04:32 -0700 (PDT) DKIM-Signature: v=1; a=rsa-sha256; c=relaxed/relaxed; d=iol.unh.edu; s=unh-iol; t=1758909872; x=1759514672; darn=dpdk.org; h=references:in-reply-to:cc:to:from:subject:message-id:date:from:to :cc:subject:date:message-id:reply-to; bh=1vl79qjbq3sxIxXKZkoHcOkEN5yuVJdegIxS438WfcA=; b=Y4QsjBCBU3orQ9HtH7a+d2WGGKvtvgeSDmLHa2sjTd1qygbVXbtA80iPLLnKqMiY7L 5gDC/GoXEMScSdIS5wXjUaDcgJMTNmRIKHOfRcU9r6VbNj2Uh0S3eM88Y+X+CrN6unwn dh4N3FAV47vt8E+U013UTtGfk2iqVl7Z7I9ac= X-Google-DKIM-Signature: v=1; a=rsa-sha256; c=relaxed/relaxed; d=1e100.net; s=20230601; t=1758909872; x=1759514672; h=references:in-reply-to:cc:to:from:subject:message-id:date :x-gm-message-state:from:to:cc:subject:date:message-id:reply-to; bh=1vl79qjbq3sxIxXKZkoHcOkEN5yuVJdegIxS438WfcA=; b=VyATT5nNOqxbxmT5CR4foyNRy54bxb1tYghiWl12r9x72rqGC0wnBe7pTtGm/4gu2+ sN/NTWMdoggOAZ72malWGkN0p/m5vggPEsWmEExqV67jkZf/MjGAu0ZhHLdKGlMr1VNd slnGta7QPTG6ilZN2ej+TDM3PQyjhTtJ+rHZMj5k1T6zkjLm052SXbasxX0tv5d2ilQq c2i15OmZEHXJikuSi3k69ZRy2vbKwNUW4GPAP7I05H2Viy7JY8qp2TcZ6fT/dHCQZEai yiYwGJueU5jKK07AfouEfSBxtvkDCLIPZG3UbBz8UrEHAMAQZ/WFJmDr7rDV7dS5y9TJ c+Pg== X-Gm-Message-State: AOJu0YzbHGZkdpdlgTHhoKYUBIc3fOdMptEt4kcRg8EAEF/Tb5ngpzly mMuzS5Ht9yimj7wQ2p0l966X4lfomPjAZuWLJT11pvUjuHS+rM1+mDLMNY2AZOJwcO4z+rGUE61 3fz22ORz42pEoCP2wWq3TVkWtuwrV1Z+WtBqOX7a9NO+0 X-Gm-Gg: ASbGncvlKmhN6Kbol/r9GRTCxAENwbvJELl5n2OuRe9C2hDIfi6RtUGA/Vg9jCG7w7D kSm4k07kX1wu392FnQrLDRj7Bn55aC9XWKX54/DjoZDT/jH+SBeB017FNNNAIlk/t7I2NYTPclu 2l2x9ObPO8rzSfUYYKiVkArVv+MgGoftSkVdQli7ADBQc09rPd6NZA1xEq7U9qOkhSi+h+Z9UbD NHdq0GARZ91XcBg5HeM/JST7V7KOBvImxHWE1K3CattzNFfEWdE4u+OMpRpn++y6qVJHTDw9cqq cWA9m9HwIMnX/f77OODopctAKLuKwA1tQO2SPQB1BI6t9Xjhk3qK8O+AY6y5xctEbluZc/DJ X-Google-Smtp-Source: AGHT+IFC8eYqZ4LuP/0FHY+8oslPVltsHFWO8beoEVo6Qg1R/qK6jpMckbsQuD2FJ3EfgJ5IMGe4eURcaQA/ X-Received: by 2002:a05:6e02:1d8a:b0:423:2666:4687 with SMTP id e9e14a558f8ab-425c36bb2cdmr102068975ab.15.1758909872009; Fri, 26 Sep 2025 11:04:32 -0700 (PDT) Received: from postal.iol.unh.edu (postal.iol.unh.edu. [132.177.123.84]) by smtp-relay.gmail.com with ESMTPS id e9e14a558f8ab-4274fa9b459sm1771155ab.13.2025.09.26.11.04.31 (version=TLS1_2 cipher=ECDHE-ECDSA-AES128-GCM-SHA256 bits=128/128); Fri, 26 Sep 2025 11:04:32 -0700 (PDT) X-Relaying-Domain: iol.unh.edu Date: Fri, 26 Sep 2025 11:04:32 -0700 (PDT) Message-ID: <68d6d5b0.050a0220.1125b9.9b76SMTPIN_ADDED_MISSING@mx.google.com> Received: from [172.21.0.2] (unknown [172.18.0.240]) by postal.iol.unh.edu (Postfix) with ESMTP id 8D51D6050A61; Fri, 26 Sep 2025 14:04:31 -0400 (EDT) Subject: |SUCCESS| pw157004-157005 [PATCH] [v2,2/2] crypto/ipsec-mb: use cons From: dpdklab@iol.unh.edu To: Test Report Cc: dpdk-test-reports@iol.unh.edu In-Reply-To: <20250926154905.54416-2-kai.ji@intel.com> References: <20250926154905.54416-2-kai.ji@intel.com> Content-Type: text/plain X-BeenThere: test-report@dpdk.org X-Mailman-Version: 2.1.29 Precedence: list List-Id: automatic DPDK test reports List-Unsubscribe: , List-Archive: List-Post: List-Help: List-Subscribe: , Errors-To: test-report-bounces@dpdk.org Test-Label: iol-unit-amd64-testing Test-Status: SUCCESS http://dpdk.org/patch/157005 _Testing PASS_ Submitter: Kai Ji Date: Friday, September 26 2025 15:49:05 DPDK git baseline: Repo:dpdk Branch: master CommitID:1d627ea13aeec2bcccf27246e6be2508370d171e 157004-157005 --> testing pass Upstream job id: Generic-Unit-Test-DPDK#375496 Test environment and result as below: +-------------------------------+----------------+ | Environment | dpdk_unit_test | +===============================+================+ | CentOS Stream 9 | PASS | +-------------------------------+----------------+ | CentOS Stream 10 | PASS | +-------------------------------+----------------+ | Windows Server 2022 | PASS | +-------------------------------+----------------+ | Red Hat Enterprise Linux 8.10 | PASS | +-------------------------------+----------------+ | Fedora Linux 40 | PASS | +-------------------------------+----------------+ | Debian GNU/Linux 12 | PASS | +-------------------------------+----------------+ | Fedora Linux 41 | PASS | +-------------------------------+----------------+ | Ubuntu 22.04 | PASS | +-------------------------------+----------------+ | Ubuntu 24.04 | PASS | +-------------------------------+----------------+ | Red Hat Enterprise Linux 9.5 | PASS | +-------------------------------+----------------+ | Fedora Linux 42 | PASS | +-------------------------------+----------------+ | Ubuntu 20.04 | PASS | +-------------------------------+----------------+ CentOS Stream 9 Kernel: 5.15 Compiler: gcc gcc (GCC) 11.5.0 20240719 (Red Hat 11.5.0-11) CentOS Stream 10 Kernel: 5.15 Compiler: gcc gcc (GCC) 14.2.1 20250110 (Red Hat 14.2.1-8) Windows Server 2022 Kernel: 10.0.20348.2031 Compiler: clang 15.0.7, gcc 14.1.0 (MinGW), and MSVC VS 19.39.33521 Red Hat Enterprise Linux 8.10 Kernel: 5.15 Compiler: gcc gcc (GCC) 8.5.0 20210514 (Red Hat 8.5.0-22) Fedora Linux 40 Kernel: 5.15 Compiler: gcc gcc (GCC) 14.2.1 20240912 (Red Hat 14.2.1-3) Debian GNU/Linux 12 Kernel: 5.15 Compiler: gcc gcc (Debian 12.2.0-14+deb12u1) 12.2.0 Fedora Linux 41 Kernel: 5.15 Compiler: gcc gcc (GCC) 14.3.1 20250523 (Red Hat 14.3.1-1) Ubuntu 22.04 Kernel: 5.15 Compiler: gcc gcc (Ubuntu 11.4.0-1ubuntu1~22.04) 11.4.0 Ubuntu 24.04 Kernel: 5.15 Compiler: gcc gcc (Ubuntu 13.3.0-6ubuntu2~24.04) 13.3.0 Red Hat Enterprise Linux 9.5 Kernel: 5.15 Compiler: gcc gcc (GCC) 11.5.0 20240719 (Red Hat 11.5.0-2) Fedora Linux 42 Kernel: 5.15 Compiler: clang gcc (GCC) 15.2.1 20250808 (Red Hat 15.2.1-1) Ubuntu 20.04 Kernel: 5.15 Compiler: gcc gcc (Ubuntu 9.4.0-1ubuntu1~20.04.2) 9.4.0 To view detailed results, visit: https://lab.dpdk.org/results/dashboard/patchsets/34159/ UNH-IOL DPDK Community Lab To manage your email subscriptions, visit: https://lab.dpdk.org/results/dashboard/preferences/subscriptions/