From mboxrd@z Thu Jan 1 00:00:00 1970 Return-Path: Received: from mails.dpdk.org (mails.dpdk.org [217.70.189.124]) by inbox.dpdk.org (Postfix) with ESMTP id 38AE146F8C for ; Fri, 26 Sep 2025 20:08:45 +0200 (CEST) Received: from mails.dpdk.org (localhost [127.0.0.1]) by mails.dpdk.org (Postfix) with ESMTP id 2FE0640277; Fri, 26 Sep 2025 20:08:45 +0200 (CEST) Received: from mail-io1-f97.google.com (mail-io1-f97.google.com [209.85.166.97]) by mails.dpdk.org (Postfix) with ESMTP id EFDC340277 for ; Fri, 26 Sep 2025 20:08:43 +0200 (CEST) Received: by mail-io1-f97.google.com with SMTP id ca18e2360f4ac-88432e27c77so106639039f.2 for ; Fri, 26 Sep 2025 11:08:43 -0700 (PDT) DKIM-Signature: v=1; a=rsa-sha256; c=relaxed/relaxed; d=iol.unh.edu; s=unh-iol; t=1758910123; x=1759514923; darn=dpdk.org; h=references:in-reply-to:cc:to:from:subject:message-id:date:from:to :cc:subject:date:message-id:reply-to; bh=tJyT0zKtbvHuTyU5se6wh7hLmbZ8JB9ZUzgMvCJoLps=; b=QH0F2voTYJUWSgPLlb3+2pk+1LlnfvRMFaiAMatAqfHB5HElx1Q11kKyJUdQdkcV0h k2BTwlg2JzmkG84lqSHe/S2QyOxU+YlqUNNFpvXCTfzqfmnRNKyY3qLcEbDqphHfuEaE zBx4lqvvQgBaF518Xw5Io3HUMf4ny4wNqkBkA= X-Google-DKIM-Signature: v=1; a=rsa-sha256; c=relaxed/relaxed; d=1e100.net; s=20230601; t=1758910123; x=1759514923; h=references:in-reply-to:cc:to:from:subject:message-id:date :x-gm-message-state:from:to:cc:subject:date:message-id:reply-to; bh=tJyT0zKtbvHuTyU5se6wh7hLmbZ8JB9ZUzgMvCJoLps=; b=ZidqYGxTlxXdXLrWwW2EAPEEnCDN5khPZ3D9q2II9uJTJZBwk/+PJPweATVi0J0T2S fRELevWtz3DgorxxcBO/0d8X2rfdCOZRhhq0MDQ/aGOp/0wWwLNXDqawXyEIMadxTxB0 tAngTbjs5wTBNqz0SJmeoDyQTuntTSA/0hvQ/2N+9F2JiBRjBcXTjF0EHUXMPMgWNQZD VxNlh7DDZN8t+8Da3E/or/Yq4iOQCIk4BF9MgL58NCbcDCwknDz+M5fFI8UB7pb4JRNW /74HgICqZqycuYzUjA5J+/MvG7eQjuZ4WAUiqoJobGYerLITCHlwiE1esVWcrgXkZTSp WDrw== X-Gm-Message-State: AOJu0YzDiPdT49Pix0qzYXabh1oZ0r0Zl3VUsYPgB6qfximdTnmJHXtl 7JJ70XZeA6dIqc1QV55ndCI/5+a+Zik1WKS7G+1rVpnMDTbZXiA2oUHoXOn2ByYpj6RSvV3v7PP 7NdA33guMhX0RJlzkyLglnuxIVxMTdzGKkzeijTNFkfTgsGolWdOTQTcpSd5G X-Gm-Gg: ASbGncu7iqXHUQxfoiCc2MrbEVlhdQQbPmA7zV2T7xXqIm7CkQp9BtT0VAh7FgirDYz bZLehw6zAmTR3khta5KzkURjzDBMTEkk+gzoCxBY8S1vHrpnoX1Lq/5lMGH5jMT9R3UXyFwcCNT /jHNyUudhZ65cZa/vswjCBUn3VHFj01tuYa6pQAKqSM+CT0cyyjib5IXSl8pv7zPtfpFPS7CzGP pmtN4Jern5cFw4eujy2dxmmE7cfx9Qwl6L32gWPmTF8ULCu5NJ/VHXxnKwcjn/xTa0PBB4cZzuB nJ1a1RZzEOskqaUf5HUxhuBRRME2LMnCcWOwhWPmscteBFqbsg== X-Google-Smtp-Source: AGHT+IEJ1QuSr8j34nSQKNApSTEX63465nWTBJcUz1495Dgw7CTtx1nWxJEL/VSSmCfLv+78mZc3ImU7q5R0 X-Received: by 2002:a05:6602:342a:b0:8fa:9255:5a7e with SMTP id ca18e2360f4ac-90135c6c9a5mr1212097039f.0.1758910123154; Fri, 26 Sep 2025 11:08:43 -0700 (PDT) Received: from postal.iol.unh.edu (postal.iol.unh.edu. [2606:4100:3880:1234::84]) by smtp-relay.gmail.com with ESMTPS id ca18e2360f4ac-903f8d31216sm21785839f.2.2025.09.26.11.08.43 (version=TLS1_2 cipher=ECDHE-ECDSA-AES128-GCM-SHA256 bits=128/128); Fri, 26 Sep 2025 11:08:43 -0700 (PDT) X-Relaying-Domain: iol.unh.edu Date: Fri, 26 Sep 2025 11:08:43 -0700 (PDT) Message-ID: <68d6d6ab.050a0220.171c7b.c8acSMTPIN_ADDED_MISSING@mx.google.com> Received: from [172.21.0.2] (unknown [172.18.0.240]) by postal.iol.unh.edu (Postfix) with ESMTP id AC9A06050A61; Fri, 26 Sep 2025 14:08:42 -0400 (EDT) Subject: |SUCCESS| pw157010 [PATCH] net/bonding: rename global symbols From: dpdklab@iol.unh.edu To: Test Report Cc: dpdk-test-reports@iol.unh.edu, Stephen Hemminger In-Reply-To: <20250926161837.400929-1-stephen@networkplumber.org> References: <20250926161837.400929-1-stephen@networkplumber.org> Content-Type: text/plain X-BeenThere: test-report@dpdk.org X-Mailman-Version: 2.1.29 Precedence: list List-Id: automatic DPDK test reports List-Unsubscribe: , List-Archive: List-Post: List-Help: List-Subscribe: , Errors-To: test-report-bounces@dpdk.org Test-Label: iol-compile-amd64-testing Test-Status: SUCCESS http://dpdk.org/patch/157010 _Testing PASS_ Submitter: Stephen Hemminger Date: Friday, September 26 2025 16:18:37 DPDK git baseline: Repo:dpdk-next-net Branch: master CommitID:c1698355a8c527f256bd9571ff9b6ed7441dcbce 157010 --> testing pass Upstream job id: Windows-Compile-DPDK-VS#7027 Test environment and result as below: +---------------------+--------------------+-------------------+ | Environment | dpdk_meson_compile | dpdk_msvc_compile | +=====================+====================+===================+ | FreeBSD 14.2 | PASS | SKIPPED | +---------------------+--------------------+-------------------+ | Ubuntu 20.04 | PASS | SKIPPED | +---------------------+--------------------+-------------------+ | Windows Server 2022 | SKIPPED | PASS | +---------------------+--------------------+-------------------+ FreeBSD 14.2 Kernel: 14.2-RELEASE Compiler: clang 18.1.6 Ubuntu 20.04 Kernel: 4.19 Compiler: gcc gcc (Ubuntu 9.4.0-1ubuntu1~20.04.2) 9.4.0 Windows Server 2022 Kernel: 10.0.20348.2031 Compiler: clang 15.0.7, gcc 14.1.0 (MinGW), and MSVC VS 19.39.33521 To view detailed results, visit: https://lab.dpdk.org/results/dashboard/patchsets/34162/ UNH-IOL DPDK Community Lab To manage your email subscriptions, visit: https://lab.dpdk.org/results/dashboard/preferences/subscriptions/