From mboxrd@z Thu Jan 1 00:00:00 1970 Return-Path: Received: from mails.dpdk.org (mails.dpdk.org [217.70.189.124]) by inbox.dpdk.org (Postfix) with ESMTP id B484946F8C for ; Fri, 26 Sep 2025 20:26:15 +0200 (CEST) Received: from mails.dpdk.org (localhost [127.0.0.1]) by mails.dpdk.org (Postfix) with ESMTP id AF8ED40262; Fri, 26 Sep 2025 20:26:15 +0200 (CEST) Received: from mail-il1-f226.google.com (mail-il1-f226.google.com [209.85.166.226]) by mails.dpdk.org (Postfix) with ESMTP id E804640262 for ; Fri, 26 Sep 2025 20:26:13 +0200 (CEST) Received: by mail-il1-f226.google.com with SMTP id e9e14a558f8ab-425715aeccdso12748545ab.2 for ; Fri, 26 Sep 2025 11:26:13 -0700 (PDT) DKIM-Signature: v=1; a=rsa-sha256; c=relaxed/relaxed; d=iol.unh.edu; s=unh-iol; t=1758911173; x=1759515973; darn=dpdk.org; h=references:in-reply-to:cc:to:from:subject:message-id:date:from:to :cc:subject:date:message-id:reply-to; bh=xsRlb17Bi57nRQYc7kvKZ27jp8bmYRNhQMMSpOSqF7w=; b=I+sA+goR8vg9b0PJ2FFb+VqRgiVxFMaodxGP+8Mx+uMUnm7vGwLtxmCTnrXTsZUWaK dpDLoiKZxzUFQ+eygsPRYJHdw5OSTPsEMp2Qd11a7SARhd2A886feWWIQaXHo2dNxis+ 6SdLBH9aWuuertB61+jmjeoL+yZy95ICI0Vos= X-Google-DKIM-Signature: v=1; a=rsa-sha256; c=relaxed/relaxed; d=1e100.net; s=20230601; t=1758911173; x=1759515973; h=references:in-reply-to:cc:to:from:subject:message-id:date :x-gm-message-state:from:to:cc:subject:date:message-id:reply-to; bh=xsRlb17Bi57nRQYc7kvKZ27jp8bmYRNhQMMSpOSqF7w=; b=SqyybMl2gpOQ5atKVDSRXaCGEZXpDvNlkVQetEXczvME6ZaMHEMD+i/xFmBHGS3aGb j0PXqJ6tJhbZSBFJidE5r2qJr1IOkr39gLhCdAW5bh7PkP2qTajL4Ehy5IW4a2GcM3CM rUeaoFlLQ3/UEspixeA0nIeRT1tl5LNHC4rpxpc/QbkhJJO1QsoObeCpxh/0zVxGRp54 JdboalZf1ovVau/u7J1LFLjFd8lFZr0v0EH5FqeEqiqib4eozI5wimsOF2tG42IyiqWz nTtMgq8IO9JQVwvJkWy5C6xTzrGI6BdwUerfjzDzOe0V4vO1atcraewBGbcbTxtANA0o CUBw== X-Gm-Message-State: AOJu0Yyqdub2p471LVsZS5X456S5NHY3QF5PdQVcPeVAubrbEvtuPDds Px7m6JZKkq1qlp3PLNJaGWzQbF+rg970QKw9zyZfzvhE0MTiXmYA9431W3WAkJgr2CaG04ed1KE sjyz3a1XoRPCaOb4t/oM8m4MpYtqbvoEUCFufNt5h4nOWpoB6RuGYAHS8jJPd X-Gm-Gg: ASbGnctko1vkkytCB96LF06VgvkYB+DLEyrEu9K10oIO5Gdtu4tVLK502HZwIaYyuZI y9M1EfGgaiAaeB6GpEjcOpq1H/V4IM3hiyAtQ3j21DvJBrf+k2nAXWlkCnflkP/A8okZPSsWD2t Hk4s6/wG8ofTuT6GlOzLcfM/ZjbR+EuIuQ+BiZpY/2KDw5HB6MFT1xNEEeIxyQdYk61RPcQe+J3 qr4zySHZseFGweJ5qvlUHNcSy9Xd+FTGpCQNJrU+zIEeS0Cw2hnwvq+aNVWCjMlCSiiF+spxNGT bk0MnaIfsEYmblKi3D7798Htc7jVynQvHcqd4T9LOF2PmWmhRg== X-Google-Smtp-Source: AGHT+IEQbRiF0b/fJEjRBZJd8sE77SPSKVXnrCKwDehB4Y2D4cMhj/qLh4/GHSkZAOPBl7JVZsho234oYyWr X-Received: by 2002:a05:6e02:480a:b0:424:b862:831e with SMTP id e9e14a558f8ab-42595625410mr110701155ab.15.1758911173095; Fri, 26 Sep 2025 11:26:13 -0700 (PDT) Received: from postal.iol.unh.edu (postal.iol.unh.edu. [2606:4100:3880:1234::84]) by smtp-relay.gmail.com with ESMTPS id e9e14a558f8ab-425bc68f3a8sm3808755ab.19.2025.09.26.11.26.13 (version=TLS1_2 cipher=ECDHE-ECDSA-AES128-GCM-SHA256 bits=128/128); Fri, 26 Sep 2025 11:26:13 -0700 (PDT) X-Relaying-Domain: iol.unh.edu Date: Fri, 26 Sep 2025 11:26:13 -0700 (PDT) Message-ID: <68d6dac5.050a0220.1b97f2.5e33SMTPIN_ADDED_MISSING@mx.google.com> Received: from [172.21.0.2] (unknown [172.18.0.240]) by postal.iol.unh.edu (Postfix) with ESMTP id A82BC6050A61; Fri, 26 Sep 2025 14:26:12 -0400 (EDT) Subject: |SUCCESS| pw157006-157007 [PATCH] [2/2] net/netvsc: rename get_vmbus From: dpdklab@iol.unh.edu To: Test Report Cc: dpdk-test-reports@iol.unh.edu, Stephen Hemminger In-Reply-To: <20250926155802.398869-2-stephen@networkplumber.org> References: <20250926155802.398869-2-stephen@networkplumber.org> Content-Type: text/plain X-BeenThere: test-report@dpdk.org X-Mailman-Version: 2.1.29 Precedence: list List-Id: automatic DPDK test reports List-Unsubscribe: , List-Archive: List-Post: List-Help: List-Subscribe: , Errors-To: test-report-bounces@dpdk.org Test-Label: iol-unit-amd64-testing Test-Status: SUCCESS http://dpdk.org/patch/157007 _Testing PASS_ Submitter: Stephen Hemminger Date: Friday, September 26 2025 15:58:01 DPDK git baseline: Repo:dpdk-next-net Branch: master CommitID:0b58c147385ecd20ebb4e678934536a597902c28 157006-157007 --> testing pass Upstream job id: Generic-Unit-Test-DPDK#375534 Test environment and result as below: +-------------------------------+----------------+ | Environment | dpdk_unit_test | +===============================+================+ | Fedora Linux 40 | PASS | +-------------------------------+----------------+ | Fedora Linux 42 | PASS | +-------------------------------+----------------+ | Debian GNU/Linux 12 | PASS | +-------------------------------+----------------+ | Ubuntu 20.04 | PASS | +-------------------------------+----------------+ | Fedora Linux 41 | PASS | +-------------------------------+----------------+ | Ubuntu 22.04 | PASS | +-------------------------------+----------------+ | CentOS Stream 10 | PASS | +-------------------------------+----------------+ | CentOS Stream 9 | PASS | +-------------------------------+----------------+ | Red Hat Enterprise Linux 9.5 | PASS | +-------------------------------+----------------+ | Red Hat Enterprise Linux 8.10 | PASS | +-------------------------------+----------------+ | Ubuntu 24.04 | PASS | +-------------------------------+----------------+ | Windows Server 2022 | PASS | +-------------------------------+----------------+ Fedora Linux 40 Kernel: 5.15 Compiler: clang gcc (GCC) 14.2.1 20240912 (Red Hat 14.2.1-3) Fedora Linux 42 Kernel: 5.15 Compiler: clang gcc (GCC) 15.2.1 20250808 (Red Hat 15.2.1-1) Debian GNU/Linux 12 Kernel: 5.15 Compiler: gcc gcc (Debian 12.2.0-14+deb12u1) 12.2.0 Ubuntu 20.04 Kernel: 5.15 Compiler: gcc gcc (Ubuntu 9.4.0-1ubuntu1~20.04.2) 9.4.0 Fedora Linux 41 Kernel: 5.15 Compiler: gcc gcc (GCC) 14.3.1 20250523 (Red Hat 14.3.1-1) Ubuntu 22.04 Kernel: 5.15 Compiler: gcc gcc (Ubuntu 11.4.0-1ubuntu1~22.04) 11.4.0 CentOS Stream 10 Kernel: 5.15 Compiler: gcc gcc (GCC) 14.2.1 20250110 (Red Hat 14.2.1-8) CentOS Stream 9 Kernel: 5.15 Compiler: gcc gcc (GCC) 11.5.0 20240719 (Red Hat 11.5.0-11) Red Hat Enterprise Linux 9.5 Kernel: 5.15 Compiler: gcc gcc (GCC) 11.5.0 20240719 (Red Hat 11.5.0-2) Red Hat Enterprise Linux 8.10 Kernel: 5.15 Compiler: gcc gcc (GCC) 8.5.0 20210514 (Red Hat 8.5.0-22) Ubuntu 24.04 Kernel: 5.15 Compiler: gcc gcc (Ubuntu 13.3.0-6ubuntu2~24.04) 13.3.0 Windows Server 2022 Kernel: 10.0.20348.2031 Compiler: clang 15.0.7, gcc 14.1.0 (MinGW), and MSVC VS 19.39.33521 To view detailed results, visit: https://lab.dpdk.org/results/dashboard/patchsets/34160/ UNH-IOL DPDK Community Lab To manage your email subscriptions, visit: https://lab.dpdk.org/results/dashboard/preferences/subscriptions/